{"text_format":"1","workbook":"xlsx","n_sheets":2,"sheets":["2025-26 Planner","School closure days"],"not_rendered":{"charts":0,"images":0,"macros":1,"external_links":0,"defined_names":4,"comments":0,"pivot_tables":0},"unopened":[],"bounds":{"document_bytes":16777216,"sheet_cells":100000,"rows_first":2000,"rows_last":500,"rows_between":2000,"halvings":0,"cell_chars":16384,"cell_head_chars":4096},"cells_cut":0,"cells_raw":0,"read":"whole","date_system":"1900"}

{"sheet":"2025-26 Planner","index":0,"n_rows":278,"n_cols":14,"rows_kept":278,"cut":false,"hidden":false,"merged":[]}
["Committee","Area ","Reports to","Cycle","2026/27 date","Start","End","Confirmed","Deadline days","Deadline date","Secretary /Organiser","Email",{"$f":"\"This calendar was last updated on \" & TEXT((LastModified),\"dd mmmm yyy\")","v":{"$error":"#NAME?"}}]
["Bank holiday",null,null,null,"2026-08-31",null,null,null,null,null,null,null,{"$f":"N2","v":46600},"2027-08-01"]
["Estates Management Board","SMC","SMC",null,"2026-09-02","09:30:00","11:00:00","Y",10,{"$f":"WORKDAY(E3,-I3,'School closure days'!B3:B32)","v":"2026-08-19"},"Davinder Ratra","d.s.ratra@lse.ac.uk",{"$f":"N3","v":46965},"2028-07-31"]
["Information Governance Management Board","SMC","SMC",null,"2026-09-14","13:00:00","15:00:00","Y",10,{"$f":"WORKDAY(E4,-I4,'School closure days'!B4:B33)","v":"2026-08-31"},"Monica Haile-Selassie","m.haile-selassie@lse.ac.uk"]
["Council ","Council",null,1,"2026-09-22","09:00:00","21:00:00","Y",15,{"$f":"WORKDAY(E5,-I5,'School closure days'!B5:B34)","v":"2026-09-01"},"Lyndsay Galpin","l.galpin@lse.ac.uk"]
["APRC Agenda Committee","Academic Board","APRC",null,"2026-09-29","09:30:00","10:00:00","Y",10,{"$f":"WORKDAY(E6,-I6,'School closure days'!B6:B35)","v":"2026-09-15"},"Evert Nivari","e.a.nivari@lse.ac.uk"]
["Graduate Studies Sub Committee","Academic Board","Education Committee",null,"2026-09-30","14:00:00","17:00:00","Y",15,{"$f":"WORKDAY(E7,-I7,'School closure days'!B8:B37)","v":"2026-09-09"},"Janine Olding","j.olding@lse.ac.uk"]
["Promotions Committee (Induction for new members)","Academic Board","Appointments Committee",null,"2026-09-30","10:00:00","12:00:00","Y",10,{"$f":"WORKDAY(E8,-I8,'School closure days'!B9:B38)","v":"2026-09-16"},"Nikhil Kalghatgi","n.kalghatgi@lse.ac.uk"]
["Undergraduate Studies Sub Committee","Academic Board","Education Committee",null,"2026-09-30","10:30:00","13:00:00","Y",15,{"$f":"WORKDAY(E9,-I9,'School closure days'!B10:B39)","v":"2026-09-09"},"Kayleigh Gibson","K.Gibson2@lse.ac.uk"]
["Departmental Heads Forum","SMC","SMC",null,"2026-10-07","10:00:00","12:00:00","Y",10,{"$f":"WORKDAY(E10,-I10,'School closure days'!B11:B40)","v":"2026-09-23"},"Chloe Parkin","c.l.parkin@lse.ac.uk"]
["Estates Management Board","SMC","SMC",null,"2026-10-07","09:30:00","11:00:00","Y",10,{"$f":"WORKDAY(E11,-I11,'School closure days'!B12:B41)","v":"2026-09-23"},"Phoebe Dunster","P.J.Dunster@lse.ac.uk"]
["External Funding Ethical Review Board","SMC","SMC",null,"2026-10-07","16:00:00","17:30:00","Y",null,{"$f":"WORKDAY(E12,-I12,'School closure days'!B13:B42)","v":"2026-10-07"},"Lyndsay Galpin","l.galpin@lse.ac.uk"]
["Research Committee","Academic Board","AB",null,"2026-10-07","14:00:00","16:30:00","Y",10,{"$f":"WORKDAY(E13,-I13,'School closure days'!B16:B45)","v":"2026-09-23"},"Casimira Headley-Walker","c.headley-walker@lse.ac.uk"]
["APRC","Academic Board","AB",null,"2026-10-13","14:00:00","16:00:00","Y",10,{"$f":"WORKDAY(E14,-I14,'School closure days'!B14:B43)","v":"2026-09-29"},"Evert Nivari","e.a.nivari@lse.ac.uk"]
["Education Committee","Academic Board","AB",null,"2026-10-14","14:00:00","16:30:00","Y",12,{"$f":"WORKDAY(E15,-I15,'School closure days'!B15:B44)","v":"2026-09-28"},"Tom Hewlett","t.w.hewlett@lse.ac.uk"]
["HR Management Board","SMC","SMC",null,"2026-10-15","11:00:00","12:30:00","Y",10,{"$f":"WORKDAY(E16,-I16,'School closure days'!B7:B36)","v":"2026-10-01"},"Mike Peters","m.j.peters@lse.ac.uk"]
["International Strategy Board",null,null,null,"2026-10-19","11:30:00","13:30:00","Y",null,{"$f":"WORKDAY(E17,-I17,'School closure days'!B62:B91)","v":"2026-10-19"},"Emilia Borowska","E.Borowska@lse.ac.uk"]
["APRC Agenda Committee","Academic Board","APRC",null,"2026-10-20","09:30:00","10:00:00","Y",10,{"$f":"WORKDAY(E18,-I18,'School closure days'!B18:B47)","v":"2026-10-06"},"Evert Nivari","e.a.nivari@lse.ac.uk"]
["Remuneration Committee","Council","Council",1,"2026-10-20","15:30:00","17:30:00","Y",10,{"$f":"WORKDAY(E19,-I19,'School closure days'!B20:B49)","v":"2026-10-06"},"Meaghan Saunders","m.k.saunders@lse.ac.uk"]
["Doctoral Programme Directors' Forum","Stakeholder Engagement",null,null,"2026-10-21","14:00:00","16:00:00","Y",10,{"$f":"WORKDAY(E20,-I20,'School closure days'!B17:B46)","v":"2026-10-07"},"Tracy Barber","T.Barber@lse.ac.uk"]
["Research Ethics Review Board","Academic Board","Research Committee",null,"2026-10-21","14:00:00","16:00:00","Y",10,{"$f":"WORKDAY(E21,-I21,'School closure days'!B26:B55)","v":"2026-10-07"},"Lyn Grove","l.grove@lse.ac.uk"]
["Sustainability Leadership Board","SMC","SMC",null,"2026-10-22","11:00:00","12:30:00","Y",5,{"$f":"WORKDAY(E22,-I22,'School closure days'!B21:B50)","v":"2026-10-15"},"Sustainability Team","sustainability.team@lse.ac.uk"]
["Financial Management Board","SMC","SMC",null,"2026-10-27","11:00:00","12:30:00","Y",7,{"$f":"WORKDAY(E23,-I23,'School closure days'!B19:B48)","v":"2026-10-16"},"Chloe Parkin","c.l.parkin@lse.ac.uk"]
["Investments Sub-Committee","Council","Council",1,"2026-10-27","14:00:00","17:00:00","N",10,{"$f":"WORKDAY(E24,-I24,'School closure days'!B22:B51)","v":"2026-10-13"},"Mia Eldem","m.eldem@lse.ac.uk"]
["Meet LSE Leadership student event","SMC",null,null,"2026-10-27","14:00:00","16:00:00","Y",null,{"$f":"WORKDAY(E25,-I25,'School closure days'!B23:B52)","v":"2026-10-27"},"Ali Annenberg","a.annenberg@lse.ac.uk"]
["Research Degrees Sub Committee","Academic Board","Education Committee",null,"2026-10-28","14:00:00","16:00:00","Y",15,{"$f":"WORKDAY(E26,-I26,'School closure days'!B25:B54)","v":"2026-10-07"},"Pete Mills ","p.b.mills@lse.ac.uk"]
["Agenda Committee of the Academic Board","Academic Board","AB",null,"2026-10-29","14:00:00","16:00:00","Y",6,{"$f":"WORKDAY(E27,-I27,'School closure days'!B27:B56)","v":"2026-10-21"},"Lyndsay Galpin","l.galpin@lse.ac.uk"]
["Data and Technology Management Board ","SMC","SMC",null,"2026-10-29","14:00:00","15:45:00","Y",10,{"$f":"WORKDAY(E28,-I28,'School closure days'!B28:B57)","v":"2026-10-15"},"Louise Hatcher","l.hatcher@lse.ac.uk"]
["Office Holders Group","HR","Director",null,"2026-11-02","15:00:00","16:15:00","Y",10,{"$f":"WORKDAY(E29,-I29,'School closure days'!B29:B58)","v":"2026-10-19"},"Raj Lakhani","HR.Reward@lse.ac.uk"]
["Governance Committee","Council","Council",1,"2026-11-02","14:30:00","16:30:00","Y",10,{"$f":"WORKDAY(E30,-I30,'School closure days'!B30:B59)","v":"2026-10-19"},"Meaghan Saunders","m.k.saunders@lse.ac.uk"]
["APRC","Academic Board","AB",null,"2026-11-03","14:00:00","16:00:00","Y",10,{"$f":"WORKDAY(E31,-I31,'School closure days'!B31:B60)","v":"2026-10-20"},"Evert Nivari","e.a.nivari@lse.ac.uk"]
["Estates Management Board","SMC","SMC",null,"2026-11-04","09:30:00","11:00:00","Y",10,{"$f":"WORKDAY(E32,-I32,'School closure days'!B24:B53)","v":"2026-10-21"},"Phoebe Dunster","P.J.Dunster@lse.ac.uk"]
["Departmental Tutors' Consultative Forum ","SSC",null,null,"2026-11-04","14:00:00","16:00:00","Y",10,{"$f":"WORKDAY(E33,-I33,'School closure days'!B32:B61)","v":"2026-10-21"},"Tasho Rachev","ssc.student-advice-engagement@lse.ac.uk"]
["Regulations, Policy and Standards Sub Committee","Academic Board","Education Committee",null,"2026-11-04","14:00:00","16:00:00","Y",10,{"$f":"WORKDAY(E34,-I34,'School closure days'!B34:B63)","v":"2026-10-21"},"Casey Hawkins","c.hawkins@lse.ac.uk",null,"2026-08-01"]
["Staff town Hall","SMC",null,null,"2026-11-05","10:15:00","11:30:00","Y",null,{"$f":"WORKDAY(E35,-I35,'School closure days'!B35:B64)","v":"2026-11-05"},"Ali Annenberg","a.annenberg@lse.ac.uk"]
["Finance and Estates Committee","Council","Council",1,"2026-11-10","14:30:00","16:30:00","Y",10,{"$f":"WORKDAY(E36,-I36,'School closure days'!B36:B65)","v":"2026-10-27"},"Meaghan Saunders","m.k.saunders@lse.ac.uk"]
["PhD Managers' Forum","Academic Board",null,null,"2026-11-10","14:00:00","16:00:00","Y",10,{"$f":"WORKDAY(E37,-I37,'School closure days'!B38:B67)","v":"2026-10-27"},"Amy Brook / Monika Kruesmann","a.brook1@lse.ac.uk / m.h.kruesmann@lse.ac.uk"]
["Academic Board","Academic Board","Council",1,"2026-11-11","14:00:00","17:00:00","Y",15,{"$f":"WORKDAY(E38,-I38,'School closure days'!B39:B68)","v":"2026-10-21"},"Lyndsay Galpin","l.galpin@lse.ac.uk"]
["Promotions Committee (Schedule of Business)","Academic Board","Appointments Committee",null,"2026-11-11","10:00:00","16:00:00","Y",10,{"$f":"WORKDAY(E39,-I39,'School closure days'!B40:B69)","v":"2026-10-28"},"Nikhil Kalghatgi","n.kalghatgi@lse.ac.uk"]
["Audit Committee","Council","Council",1,"2026-11-12","14:30:00","17:30:00","Y",10,{"$f":"WORKDAY(E40,-I40,'School closure days'!B37:B66)","v":"2026-10-29"},"Mia Eldem","m.eldem@lse.ac.uk"]
["Student Experience Sub-Committee","Academic Board","Education Committee",null,"2026-11-12","14:00:00","16:30:00","Y",10,{"$f":"WORKDAY(E41,-I41,'School closure days'!B41:B70)","v":"2026-10-29"},"Jillian Ducker","J.Ducker@lse.ac.uk"]
["Student Numbers and Fees (SNAF) Group ","Academic Board","APRC",null,"2026-11-12","09:00:00","10:30:00","Y",10,{"$f":"WORKDAY(E42,-I42,'School closure days'!B42:B71)","v":"2026-10-29"},"Planning Division","Planning.division@lse.ac.uk"]
["Information Governance Management Board","SMC","SMC",null,"2026-11-16","13:00:00","15:00:00","Y",10,{"$f":"WORKDAY(E43,-I43,'School closure days'!B43:B72)","v":"2026-11-02"},"Monica Haile-Selassie","m.haile-selassie@lse.ac.uk"]
["APRC Agenda Committee","Academic Board","APRC",null,"2026-11-17","09:30:00","10:00:00","Y",10,{"$f":"WORKDAY(E44,-I44,'School closure days'!B44:B73)","v":"2026-11-03"},"Evert Nivari","e.a.nivari@lse.ac.uk"]
["REF Strategy Committee","Academic Board","Research Committee",null,"2026-11-18","10:00:00","12:00:00","Y",10,{"$f":"WORKDAY(E45,-I45,'School closure days'!B33:B62)","v":"2026-11-04"},"Casimira Headley-Walker","c.headley-walker@lse.ac.uk"]
["Graduate Studies Sub Committee","Academic Board","Education Committee",null,"2026-11-18","14:00:00","17:00:00","Y",15,{"$f":"WORKDAY(E46,-I46,'School closure days'!B45:B74)","v":"2026-10-28"},"Janine Olding","j.olding@lse.ac.uk"]
["Research and Policy Staff Committee","Academic Board","Appointments Committee",null,"2026-11-18","10:00:00","12:00:00","Y",10,{"$f":"WORKDAY(E47,-I47,'School closure days'!B46:B75)","v":"2026-11-04"},"Abhi Chakraborty","a.chakraborty5@lse.ac.uk"]
["Undergraduate Studies Sub Committee","Academic Board","Education Committee",null,"2026-11-18","10:30:00","13:00:00","Y",15,{"$f":"WORKDAY(E48,-I48,'School closure days'!B47:B76)","v":"2026-10-28"},"Kayleigh Gibson","K.Gibson2@lse.ac.uk"]
["Departmental Heads Forum","SMC","SMC",null,"2026-11-19","10:00:00","12:00:00","Y",10,{"$f":"WORKDAY(E49,-I49,'School closure days'!B48:B77)","v":"2026-11-05"},"Chloe Parkin","c.l.parkin@lse.ac.uk"]
["International Programmes Board","Academic Board","Education Committee",null,"2026-11-19","10:00:00","12:00:00","Y",10,{"$f":"WORKDAY(E50,-I50,'School closure days'!B49:B78)","v":"2026-11-05"},"Jack  Wolvey","uolip@lse.ac.uk "]
["Joint Negotiating and Consultative Committee","HR",null,null,"2026-11-19","14:30:00","16:00:00","Y",10,{"$f":"WORKDAY(E51,-I51,'School closure days'!B50:B79)","v":"2026-11-05"},"Beno Azebiah","b.azebiah@lse.ac.uk"]
["Joint Negotiation, Information and Consultation Committee (JNICC)","HR",null,null,"2026-11-19","12:30:00","14:30:00","Y",10,{"$f":"WORKDAY(E52,-I52,'School closure days'!B51:B80)","v":"2026-11-05"},"Beno Azebiah","b.azebiah@lse.ac.uk"]
["Council","Council",null,1,"2026-11-24","15:00:00","18:00:00","Y",15,{"$f":"WORKDAY(E53,-I53,'School closure days'!B52:B81)","v":"2026-11-03"},"Lyndsay Galpin","l.galpin@lse.ac.uk"]
["Academic Nominations Committee","Academic Board","AB",null,"2026-11-25","14:00:00","16:00:00","Y",10,{"$f":"WORKDAY(E54,-I54,'School closure days'!B53:B82)","v":"2026-11-11"},"Lyndsay Galpin","l.galpin@lse.ac.uk"]
["Professional Services Staff Contribution Group","SMC","HR Management Board",null,"2026-11-26","14:30:00","16:30:00","Y",10,{"$f":"WORKDAY(E55,-I55,'School closure days'!B54:B83)","v":"2026-11-12"},"Raj Lakhani","HR.Reward@lse.ac.uk"]
["APRC","Academic Board","AB",null,"2026-12-01","14:00:00","16:00:00","Y",10,{"$f":"WORKDAY(E56,-I56,'School closure days'!B55:B84)","v":"2026-11-17"},"Evert Nivari","e.a.nivari@lse.ac.uk"]
["Financial Management Board","SMC","SMC",null,"2026-12-01","11:00:00","12:30:00","Y",7,{"$f":"WORKDAY(E57,-I57,'School closure days'!B56:B85)","v":"2026-11-20"},"Chloe Parkin","c.l.parkin@lse.ac.uk"]
["Estates Management Board","SMC","SMC",null,"2026-12-02","09:30:00","11:00:00","Y",10,{"$f":"WORKDAY(E58,-I58,'School closure days'!B58:B87)","v":"2026-11-18"},"Pheobe Dunster","P.J.Dunster@lse.ac.uk"]
["Research Committee","Academic Board","AB",null,"2026-12-02","10:00:00","12:30:00","Y",10,{"$f":"WORKDAY(E59,-I59,'School closure days'!B59:B88)","v":"2026-11-18"},"Casimira Headley-Walker","c.headley-walker@lse.ac.uk"]
["Research Students' Consultative Forum","Stakeholder Engagement",null,null,"2026-12-02","14:00:00","16:00:00","Y",10,{"$f":"WORKDAY(E60,-I60,'School closure days'!B60:B89)","v":"2026-11-18"},"Evan Saunders","e.saunders2@lse.ac.uk "]
["Student Sports and Activities Committee","Academic Board","Education Committee",null,"2026-12-02","14:15:00","15:15:00","Y",10,{"$f":"WORKDAY(E61,-I61,'School closure days'!B61:B90)","v":"2026-11-18"},"Susan Parsons","S.Parsons@lse.ac.uk"]
["Honorary Awards Committee","Council","Council",1,"2026-12-03","15:00:00","17:00:00","Y",15,{"$f":"WORKDAY(E62,-I62,'School closure days'!B57:B86)","v":"2026-11-12"},"Lyndsay Galpin","l.galpin@lse.ac.uk"]
["Masters Students' Consultative Forum","Stakeholder Engagement",null,null,"2026-12-09","10:00:00","12:00:00","Y",10,{"$f":"WORKDAY(E63,-I63,'School closure days'!B63:B92)","v":"2026-11-25"},"Evan Saunders","e.saunders2@lse.ac.uk "]
["Undergraduate Students Consultative Forum","Stakeholder Engagement",null,null,"2026-12-09","14:00:00","16:00:00","Y",10,{"$f":"WORKDAY(E64,-I64,'School closure days'!B64:B93)","v":"2026-11-25"},"Evan Saunders","e.saunders2@lse.ac.uk "]
["School closure",null,null,null,"2026-12-23"]
["School closure",null,null,null,"2026-12-24"]
["Bank holiday",null,null,null,"2026-12-25"]
["Bank holiday",null,null,null,"2026-12-28"]
["School closure",null,null,null,"2026-12-29"]
["School closure",null,null,null,"2026-12-30"]
["School closure",null,null,null,"2026-12-31"]
["Bank holiday",null,null,null,"2027-01-01"]
["Information Governance Management Board","SMC","SMC",null,"2027-01-11","13:00:00","15:00:00","Y",10,{"$f":"WORKDAY(E73,-I73,'School closure days'!B73:B102)","v":"2026-12-28"},"Monica Haile-Selassie","m.haile-selassie@lse.ac.uk"]
["Financial Management Board","SMC","SMC",null,"2027-01-12","11:00:00","12:30:00","Y",9,{"$f":"WORKDAY(E74,-I74,'School closure days'!B75:B104)","v":"2026-12-30"},"Chloe Parkin","c.l.parkin@lse.ac.uk"]
["Estates Management Board","SMC","SMC",null,"2027-01-13","09:30:00","11:00:00","Y",10,{"$f":"WORKDAY(E75,-I75,'School closure days'!B76:B105)","v":"2026-12-30"},"Pheobe Dunster","P.J.Dunster@lse.ac.uk"]
["Graduate Studies Sub Committee","Academic Board","Education Committee",null,"2027-01-13","14:00:00","17:00:00","Y",25,{"$f":"WORKDAY(E76,-I76,'School closure days'!B77:B106)","v":"2026-12-09"},"Janine Olding","j.olding@lse.ac.uk"]
["Undergraduate Studies Sub Committee","Academic Board","Education Committee",null,"2027-01-13","10:30:00","13:00:00","Y",25,{"$f":"WORKDAY(E77,-I77,'School closure days'!B78:B107)","v":"2026-12-09"},"Kayleigh Gibson","K.Gibson2@lse.ac.uk"]
["APRC Agenda Committee","Academic Board","APRC",null,"2027-01-19","09:30:00","10:00:00","Y",10,{"$f":"WORKDAY(E78,-I78,'School closure days'!B74:B103)","v":"2027-01-05"},"Evert Nivari","e.a.nivari@lse.ac.uk"]
["Education Committee","Academic Board","AB",null,"2027-01-20","14:00:00","16:30:00","Y",12,{"$f":"WORKDAY(E79,-I79,'School closure days'!B80:B109)","v":"2027-01-04"},"Tom Hewlett","t.w.hewlett@lse.ac.uk"]
["Departmental Heads Forum","SMC","SMC",null,"2027-01-21","10:00:00","12:00:00","Y",10,{"$f":"WORKDAY(E80,-I80,'School closure days'!B88:B117)","v":"2027-01-07"},"Chloe Parkin","c.l.parkin@lse.ac.uk"]
["HR Management Board","SMC","SMC",null,"2027-01-21","14:00:00","15:30:00","Y",10,{"$f":"WORKDAY(E81,-I81,'School closure days'!B95:B124)","v":"2027-01-07"},"Mike Peters","m.j.peters@lse.ac.uk"]
["Finance and Estates Committee","Council","Council",2,"2027-01-26","14:30:00","16:30:00","Y",10,{"$f":"WORKDAY(E82,-I82,'School closure days'!B82:B111)","v":"2027-01-12"},"Meaghan Saunders","m.k.saunders@lse.ac.uk"]
["External Funding Ethical Review Board","SMC","SMC",null,"2027-01-27","16:00:00","17:30:00","Y",null,{"$f":"WORKDAY(E83,-I83,'School closure days'!B83:B112)","v":"2027-01-27"},"Lyndsay Galpin","l.galpin@lse.ac.uk"]
["Regulations, Policy and Standards Sub Committee","Academic Board","Education Committee",null,"2027-01-27","14:00:00","16:00:00","Y",10,{"$f":"WORKDAY(E84,-I84,'School closure days'!B84:B113)","v":"2027-01-13"},"Casey Hawkins","c.hawkins@lse.ac.uk"]
["Research Committee","Academic Board","AB",null,"2027-01-27","14:00:00","16:30:00","Y",10,{"$f":"WORKDAY(E85,-I85,'School closure days'!B85:B114)","v":"2027-01-13"},"Casimira Headley-Walker","c.headley-walker@lse.ac.uk"]
["Doctoral Programme Directors' Forum","Stakeholder Engagement",null,null,"2027-01-27","14:00:00","16:00:00","Y",15,{"$f":"WORKDAY(E86,-I86,'School closure days'!B102:B131)","v":"2027-01-06"},"Tracy Barber","T.Barber@lse.ac.uk"]
["Agenda Committee of the Academic Board","Academic Board","AB",null,"2027-01-28","14:00:00","16:00:00","Y",6,{"$f":"WORKDAY(E87,-I87,'School closure days'!B86:B115)","v":"2027-01-20"},"Lyndsay Galpin","l.galpin@lse.ac.uk"]
["Governance Committee","Council","Council",2,"2027-02-01","14:30:00","16:30:00","Y",10,{"$f":"WORKDAY(E88,-I88,'School closure days'!B89:B118)","v":"2027-01-18"},"Meaghan Saunders","m.k.saunders@lse.ac.uk"]
["APRC","Academic Board","AB",null,"2027-02-02","14:00:00","16:00:00","Y",10,{"$f":"WORKDAY(E89,-I89,'School closure days'!B81:B110)","v":"2027-01-19"},"Evert Nivari","e.a.nivari@lse.ac.uk"]
["Student Experience Sub-Committee","Academic Board","Education Committee",null,"2027-02-02","14:00:00","16:30:00","Y",10,{"$f":"WORKDAY(E90,-I90,'School closure days'!B90:B119)","v":"2027-01-19"},"Jillian Ducker","J.Ducker@lse.ac.uk"]
["Student Sports and Activities Committee","Academic Board","Education Committee",null,"2027-02-02","16:00:00","17:00:00","Y",10,{"$f":"WORKDAY(E91,-I91,'School closure days'!B91:B120)","v":"2027-01-19"},"Susan Parsons","S.Parsons@lse.ac.uk"]
["Estates Management Board","SMC","SMC",null,"2027-02-03","09:30:00","11:00:00","Y",10,{"$f":"WORKDAY(E92,-I92,'School closure days'!B93:B122)","v":"2027-01-20"},"Pheobe Dunster","P.J.Dunster@lse.ac.uk"]
["Promotions Committee (Interim Reviews)","Academic Board","Appointments Committee",null,"2027-02-03","10:00:00","16:00:00","Y",10,{"$f":"WORKDAY(E93,-I93,'School closure days'!B94:B123)","v":"2027-01-20"},"Nikhil Kalghatgi","n.kalghatgi@lse.ac.uk"]
["APRC","Academic Board","AB",null,"2027-02-04","14:00:00","16:00:00","Y",10,{"$f":"WORKDAY(E94,-I94,'School closure days'!B87:B116)","v":"2027-01-21"},"Evert Nivari","e.a.nivari@lse.ac.uk"]
["Staff town Hall","SMC",null,null,"2027-02-04","10:00:00","12:00:00","Y",null,{"$f":"WORKDAY(E95,-I95,'School closure days'!B96:B125)","v":"2027-02-04"},"Ali Annenberg","a.annenberg@lse.ac.uk"]
["APRC Agenda Committee","Academic Board","APRC",null,"2027-02-09","09:30:00","10:00:00","Y",10,{"$f":"WORKDAY(E96,-I96,'School closure days'!B97:B126)","v":"2027-01-26"},"Evert Nivari","e.a.nivari@lse.ac.uk"]
["Council Awayday","Council",null,2,"2027-02-09","09:00:00","18:00:00","Y",15,{"$f":"WORKDAY(E97,-I97,'School closure days'!B98:B127)","v":"2027-01-19"},"Lyndsay Galpin","l.galpin@lse.ac.uk"]
["Academic Board","Academic Board","Council",null,"2027-02-10","14:00:00","17:00:00","Y",15,{"$f":"WORKDAY(E98,-I98,'School closure days'!B99:B128)","v":"2027-01-20"},"Lyndsay Galpin","l.galpin@lse.ac.uk"]
["International Programmes Board","Academic Board","Education Committee",null,"2027-02-10","10:00:00","12:00:00","Y",10,{"$f":"WORKDAY(E99,-I99,'School closure days'!B100:B129)","v":"2027-01-27"},"Jack  Wolvey","uolip@lse.ac.uk "]
["Data and Technology Management Board ","SMC","SMC",null,"2027-02-11","14:00:00","15:45:00","Y",10,{"$f":"WORKDAY(E100,-I100,'School closure days'!B79:B108)","v":"2027-01-28"},"Louise Hatcher","l.hatcher@lse.ac.uk"]
["Departmental Tutors' Consultative Forum ","SSC",null,null,"2027-02-16","14:00:00","16:00:00","Y",10,{"$f":"WORKDAY(E101,-I101,'School closure days'!B92:B121)","v":"2027-02-02"},"Tasho Rachev","ssc.student-advice-engagement@lse.ac.uk"]
["Audit Committee (including Awayday)","Council","Council",2,"2027-02-16","10:00:00","17:00:00","Y",10,{"$f":"WORKDAY(E102,-I102,'School closure days'!B103:B132)","v":"2027-02-02"},"Mia Eldem","m.eldem@lse.ac.uk"]
["Student Numbers and Fees (SNAF) Group ","Academic Board","APRC",null,"2027-02-18","10:00:00","12:00:00","Y",10,{"$f":"WORKDAY(E103,-I103,'School closure days'!B101:B130)","v":"2027-02-04"},"Planning Division","Planning.division@lse.ac.uk"]
["APRC","Academic Board","AB",null,"2027-02-23","14:00:00","16:00:00","Y",10,{"$f":"WORKDAY(E104,-I104,'School closure days'!B104:B133)","v":"2027-02-09"},"Evert Nivari","e.a.nivari@lse.ac.uk"]
["Research and Policy Staff Committee","Academic Board","Appointments Committee",null,"2027-02-24","10:00:00","12:00:00","Y",10,{"$f":"WORKDAY(E105,-I105,'School closure days'!B106:B135)","v":"2027-02-10"},"Abhi Chakraborty","a.chakraborty5@lse.ac.uk"]
["International Strategy Board",null,null,null,"2027-03-01","11:30:00","13:30:00","Y",null,{"$f":"WORKDAY(E106,-I106,'School closure days'!B105:B134)","v":"2027-03-01"},"Emilia Borowska","E.Borowska@lse.ac.uk"]
["Sustainability Leadership Board","SMC","SMC",null,"2027-03-01","15:00:00","17:00:00","Y",5,{"$f":"WORKDAY(E107,-I107,'School closure days'!B107:B136)","v":"2027-02-22"},"Sustainability Team","sustainability.team@lse.ac.uk"]
["Financial Management Board","SMC","SMC",null,"2027-03-02","11:00:00","12:30:00","Y",null,{"$f":"WORKDAY(E108,-I108,'School closure days'!B108:B137)","v":"2027-03-02"},"Chloe Parkin","c.l.parkin@lse.ac.uk"]
["Promotions Committee (Promotions)","Academic Board","Appointments Committee",null,"2027-03-02","10:00:00","16:00:00","Y",10,{"$f":"WORKDAY(E109,-I109,'School closure days'!B109:B138)","v":"2027-02-16"},"Nikhil Kalghatgi","n.kalghatgi@lse.ac.uk"]
["Academic Nominations Committee","Academic Board","AB",null,"2027-03-03","14:00:00","16:00:00","Y",10,{"$f":"WORKDAY(E110,-I110,'School closure days'!B110:B139)","v":"2027-02-17"},"Lyndsay Galpin","l.galpin@lse.ac.uk"]
["Estates Management Board","SMC","SMC",null,"2027-03-03","09:30:00","11:00:00","Y",10,{"$f":"WORKDAY(E111,-I111,'School closure days'!B111:B140)","v":"2027-02-17"},"Pheobe Dunster","P.J.Dunster@lse.ac.uk"]
["Promotions Committee (Promotions)","Academic Board","Appointments Committee",null,"2027-03-03","10:00:00","16:00:00","Y",10,{"$f":"WORKDAY(E112,-I112,'School closure days'!B112:B141)","v":"2027-02-17"},"Nikhil Kalghatgi","n.kalghatgi@lse.ac.uk"]
["Research Degrees Sub Committee","Academic Board","Education Committee",null,"2027-03-03","14:00:00","16:00:00","Y",15,{"$f":"WORKDAY(E113,-I113,'School closure days'!B114:B143)","v":"2027-02-10"},"Pete Mills ","p.b.mills@lse.ac.uk"]
["Research Ethics Review Board","Academic Board","Research Committee",null,"2027-03-03","14:00:00","16:00:00","Y",10,{"$f":"WORKDAY(E114,-I114,'School closure days'!B115:B144)","v":"2027-02-17"},"Lyn Grove","l.grove@lse.ac.uk"]
["Student Experience Sub-Committee","Academic Board","Education Committee",null,"2027-03-03","14:00:00","16:30:00","Y",10,{"$f":"WORKDAY(E115,-I115,'School closure days'!B116:B145)","v":"2027-02-17"},"Jillian Ducker","J.Ducker@lse.ac.uk"]
["Promotions Committee (Promotions)","Academic Board","Appointments Committee",null,"2027-03-04","10:00:00","16:00:00","Y",10,{"$f":"WORKDAY(E116,-I116,'School closure days'!B117:B146)","v":"2027-02-18"},"Nikhil Kalghatgi","n.kalghatgi@lse.ac.uk"]
["REF Strategy Committee","Academic Board","Research Committee",null,"2027-03-09","10:00:00","12:00:00","Y",10,{"$f":"WORKDAY(E117,-I117,'School closure days'!B113:B142)","v":"2027-02-23"},"Casimira Headley-Walker","c.headley-walker@lse.ac.uk"]
["APRC Agenda Committee","Academic Board","APRC",null,"2027-03-09","09:30:00","10:00:00","Y",10,{"$f":"WORKDAY(E118,-I118,'School closure days'!B118:B147)","v":"2027-02-23"},"Evert Nivari","e.a.nivari@lse.ac.uk"]
["Investments Sub-Committee","Council","Council",3,"2027-03-09","14:00:00","17:00:00","Y",10,{"$f":"WORKDAY(E119,-I119,'School closure days'!B119:B148)","v":"2027-02-23"},"Mia Eldem","m.eldem@lse.ac.uk"]
["Departmental Heads Forum","SMC","SMC",null,"2027-03-10","10:00:00","12:00:00","Y",10,{"$f":"WORKDAY(E120,-I120,'School closure days'!B120:B149)","v":"2027-02-24"},"Chloe Parkin","c.l.parkin@lse.ac.uk"]
["Joint Negotiating and Consultative Committee","HR",null,null,"2027-03-11","14:30:00","16:00:00","Y",10,{"$f":"WORKDAY(E121,-I121,'School closure days'!B121:B150)","v":"2027-02-25"},"Beno Azebiah","b.azebiah@lse.ac.uk"]
["Joint Negotiation, Information and Consultation Committee (JNICC)","HR",null,null,"2027-03-11","12:30:00","14:30:00","Y",10,{"$f":"WORKDAY(E122,-I122,'School closure days'!B122:B151)","v":"2027-02-25"},"Beno Azebiah","b.azebiah@lse.ac.uk"]
["Meet LSE Leadership student event","SMC",null,null,"2027-03-11","14:00:00","16:00:00","Y",null,{"$f":"WORKDAY(E123,-I123,'School closure days'!B123:B152)","v":"2027-03-11"},"Ali Annenberg","a.annenberg@lse.ac.uk"]
["Information Governance Management Board","SMC","SMC",null,"2027-03-15","13:00:00","15:00:00","Y",10,{"$f":"WORKDAY(E124,-I124,'School closure days'!B124:B153)","v":"2027-03-01"},"Monica Haile-Selassie","m.haile-selassie@lse.ac.uk"]
["Education Committee","Academic Board","AB",null,"2027-03-15","14:00:00","16:30:00","Y",12,{"$f":"WORKDAY(E125,-I125,'School closure days'!B126:B155)","v":"2027-02-25"},"Tom Hewlett","t.w.hewlett@lse.ac.uk"]
["Council","Council",null,3,"2027-03-16","15:00:00","18:00:00","Y",15,{"$f":"WORKDAY(E126,-I126,'School closure days'!B125:B154)","v":"2027-02-23"},"Lyndsay Galpin","l.galpin@lse.ac.uk"]
["Research Committee","Academic Board","AB",null,"2027-03-17","14:00:00","16:30:00","Y",10,{"$f":"WORKDAY(E127,-I127,'School closure days'!B127:B156)","v":"2027-03-03"},"Casimira Headley-Walker","c.headley-walker@lse.ac.uk"]
["APRC","Academic Board","AB",null,"2027-03-23","14:00:00","16:00:00","Y",10,{"$f":"WORKDAY(E128,-I128,'School closure days'!B129:B158)","v":"2027-03-09"},"Evert Nivari","e.a.nivari@lse.ac.uk"]
["PhD Managers' Forum","Academic Board",null,null,"2027-03-23","14:00:00","16:00:00","Y",10,{"$f":"WORKDAY(E129,-I129,'School closure days'!B130:B159)","v":"2027-03-09"},"Amy Brook / Monika Kruesmann","a.brook1@lse.ac.uk / m.h.kruesmann@lse.ac.uk"]
["Honorary Awards Committee","Council","Council",2,"2027-03-24","15:00:00","17:00:00","Y",15,{"$f":"WORKDAY(E130,-I130,'School closure days'!B131:B160)","v":"2027-03-03"},"Lyndsay Galpin","l.galpin@lse.ac.uk"]
["Graduate Studies Sub Committee","Academic Board","Education Committee",null,"2027-03-24","14:00:00","17:00:00","Y",15,{"$f":"WORKDAY(E131,-I131,'School closure days'!B132:B161)","v":"2027-03-03"},"Janine Olding","j.olding@lse.ac.uk"]
["Promotions Committee (Promotions)","Academic Board","Appointments Committee",null,"2027-03-24","10:00:00","16:00:00","Y",10,{"$f":"WORKDAY(E132,-I132,'School closure days'!B133:B162)","v":"2027-03-10"},"Nikhil Kalghatgi","n.kalghatgi@lse.ac.uk"]
["Research Students' Consultative Forum","Stakeholder Engagement",null,null,"2027-03-24","14:00:00","16:00:00","Y",10,{"$f":"WORKDAY(E133,-I133,'School closure days'!B134:B163)","v":"2027-03-10"},"Evan Saunders","e.saunders2@lse.ac.uk "]
["Undergraduate Studies Sub Committee","Academic Board","Education Committee",null,"2027-03-24","10:30:00","13:00:00","Y",15,{"$f":"WORKDAY(E134,-I134,'School closure days'!B135:B164)","v":"2027-03-03"},"Kayleigh Gibson","K.Gibson2@lse.ac.uk"]
["Bank holiday",null,null,null,"2027-03-26"]
["Bank holiday",null,null,null,"2027-03-29"]
["School closure",null,null,null,"2027-03-30"]
["School closure",null,null,null,"2027-03-31"]
["Masters Students' Consultative Forum","Stakeholder Engagement",null,null,"2027-03-31","10:00:00","12:00:00","N",10,{"$f":"WORKDAY(E139,-I139,'School closure days'!B139:B168)","v":"2027-03-17"},"Evan Saunders","e.saunders2@lse.ac.uk "]
["Undergraduate Students Consultative Forum","Stakeholder Engagement",null,null,"2027-03-31","14:00:00","16:00:00","N",10,{"$f":"WORKDAY(E140,-I140,'School closure days'!B140:B169)","v":"2027-03-17"},"Evan Saunders","e.saunders2@lse.ac.uk "]
["School closure",null,null,null,"2027-04-01"]
["Finance and Estates Committee","Council","Council",3,"2027-04-06","14:30:00","16:30:00","Y",10,{"$f":"WORKDAY(E142,-I142,'School closure days'!B143:B172)","v":"2027-03-23"},"Meaghan Saunders","m.k.saunders@lse.ac.uk"]
["Estates Management Board",null,null,null,"2027-04-07","09:30:00","11:00:00","Y",10,{"$f":"WORKDAY(E143,-I143,'School closure days'!B144:B173)","v":"2027-03-24"},"Phoebe Dunster","P.J.Dunster@lse.ac.uk"]
["Doctoral Programme Directors' Forum","Stakeholder Engagement",null,null,"2027-04-07","14:00:00","16:00:00","Y",10,{"$f":"WORKDAY(E144,-I144,'School closure days'!B162:B191)","v":"2027-03-24"},"Tracy Barber","T.Barber@lse.ac.uk"]
["Agenda Committee of the Academic Board","Academic Board","AB",null,"2027-04-15","14:00:00","16:00:00","Y",6,{"$f":"WORKDAY(E145,-I145,'School closure days'!B128:B157)","v":"2027-04-07"},"Lyndsay Galpin","l.galpin@lse.ac.uk"]
["Remuneration Committee","Council","Council",3,"2027-04-20","15:30:00","17:30:00","Y",10,{"$f":"WORKDAY(E146,-I146,'School closure days'!B144:B173)","v":"2027-04-06"},"Meaghan Saunders","m.k.saunders@lse.ac.uk"]
["Estates Management Board","SMC","SMC",null,"2027-04-20","09:30:00","11:00:00","Y",10,{"$f":"WORKDAY(E147,-I147,'School closure days'!B145:B174)","v":"2027-04-06"},"Pheobe Dunster","P.J.Dunster@lse.ac.uk"]
["Data and Technology Management Board ","SMC","SMC",null,"2027-04-22","14:00:00","15:45:00","Y",10,{"$f":"WORKDAY(E148,-I148,'School closure days'!B148:B177)","v":"2027-04-08"},"Louise Hatcher","l.hatcher@lse.ac.uk"]
["APRC Agenda Committee","Academic Board","APRC",null,"2027-04-26","09:30:00","10:00:00","Y",10,{"$f":"WORKDAY(E149,-I149,'School closure days'!B149:B178)","v":"2027-04-12"},"Evert Nivari","e.a.nivari@lse.ac.uk"]
["Academic Board","Academic Board","Council",2,"2027-04-28","14:00:00","17:00:00","Y",15,{"$f":"WORKDAY(E150,-I150,'School closure days'!B147:B176)","v":"2027-04-07"},"Lyndsay Galpin","l.galpin@lse.ac.uk"]
["External Funding Ethical Review Board","SMC","SMC",null,"2027-04-28","16:00:00","17:30:00","N",null,{"$f":"WORKDAY(E151,-I151,'School closure days'!B150:B179)","v":"2027-04-28"},"Lyndsay Galpin","l.galpin@lse.ac.uk"]
["Departmental Heads Forum","SMC","SMC",null,"2027-04-28","10:00:00","12:00:00","Y",10,{"$f":"WORKDAY(E152,-I152,'School closure days'!B155:B184)","v":"2027-04-14"},"Chloe Parkin","c.l.parkin@lse.ac.uk"]
["HR Management Board","SMC","SMC",null,"2027-04-29","11:00:00","12:30:00","Y",10,{"$f":"WORKDAY(E153,-I153,'School closure days'!B151:B180)","v":"2027-04-15"},"Mike Peters","m.j.peters@lse.ac.uk"]
["Regulations, Policy and Standards Sub Committee","Academic Board","Education Committee",null,"2027-04-29","14:00:00","16:00:00","Y",10,{"$f":"WORKDAY(E154,-I154,'School closure days'!B152:B181)","v":"2027-04-15"},"Casey Hawkins","c.hawkins@lse.ac.uk"]
["Bank holiday",null,null,null,"2027-05-03"]
["Estates Management Board","SMC","SMC",null,"2027-05-05","09:30:00","11:00:00","Y",10,{"$f":"WORKDAY(E156,-I156,'School closure days'!B156:B185)","v":"2027-04-21"},"Pheobe Dunster","P.J.Dunster@lse.ac.uk"]
["Research and Policy Staff Committee","Academic Board","Appointments Committee",null,"2027-05-05","10:00:00","12:00:00","Y",10,{"$f":"WORKDAY(E157,-I157,'School closure days'!B157:B186)","v":"2027-04-21"},"Abhi Chakraborty","a.chakraborty5@lse.ac.uk"]
["Research Committee","Academic Board","AB",null,"2027-05-05","14:00:00","16:30:00","Y",10,{"$f":"WORKDAY(E158,-I158,'School closure days'!B158:B187)","v":"2027-04-21"},"Casimira Headley-Walker","c.headley-walker@lse.ac.uk"]
["Student Numbers and Fees (SNAF) Group ","Academic Board","APRC",null,"2027-05-06","10:00:00","12:00:00","Y",10,{"$f":"WORKDAY(E159,-I159,'School closure days'!B159:B188)","v":"2027-04-22"},"Planning Division","Planning.division@lse.ac.uk"]
["APRC","Academic Board","AB",null,"2027-05-11","14:00:00","16:00:00","Y",10,{"$f":"WORKDAY(E160,-I160,'School closure days'!B160:B189)","v":"2027-04-27"},"Evert Nivari","e.a.nivari@lse.ac.uk"]
["Departmental Tutors' Consultative Forum ","SSC",null,null,"2027-05-11","14:00:00","16:00:00","Y",10,{"$f":"WORKDAY(E161,-I161,'School closure days'!B161:B190)","v":"2027-04-27"},"Tasho Rachev","ssc.student-advice-engagement@lse.ac.uk"]
["Graduate Studies Sub Committee","Academic Board","Education Committee",null,"2027-05-12","14:00:00","17:00:00","Y",15,{"$f":"WORKDAY(E162,-I162,'School closure days'!B163:B192)","v":"2027-04-21"},"Janine Olding","j.olding@lse.ac.uk"]
["Promotions Committee (Review)","Academic Board","Appointments Committee",null,"2027-05-12","10:00:00","16:00:00","Y",10,{"$f":"WORKDAY(E163,-I163,'School closure days'!B164:B193)","v":"2027-04-28"},"Nikhil Kalghatgi","n.kalghatgi@lse.ac.uk"]
["Research Degrees Sub Committee","Academic Board","Education Committee",null,"2027-05-12","14:00:00","16:00:00","Y",15,{"$f":"WORKDAY(E164,-I164,'School closure days'!B165:B194)","v":"2027-04-21"},"Pete Mills ","p.b.mills@lse.ac.uk"]
["Undergraduate Studies Sub Committee","Academic Board","Education Committee",null,"2027-05-12","10:30:00","13:00:00","Y",15,{"$f":"WORKDAY(E165,-I165,'School closure days'!B166:B195)","v":"2027-04-21"},"Kayleigh Gibson","K.Gibson2@lse.ac.uk"]
["Information Governance Management Board","SMC","SMC",null,"2027-05-17","13:00:00","15:00:00","Y",10,{"$f":"WORKDAY(E166,-I166,'School closure days'!B167:B196)","v":"2027-05-03"},"Monica Haile-Selassie","m.haile-selassie@lse.ac.uk"]
["REF Strategy Committee","Academic Board","Research Committee",null,"2027-05-18","10:00:00","12:00:00","Y",10,{"$f":"WORKDAY(E167,-I167,'School closure days'!B154:B183)","v":"2027-05-04"},"Casimira Headley-Walker","c.headley-walker@lse.ac.uk"]
["APRC Agenda Committee","Academic Board","APRC",null,"2027-05-18","09:30:00","10:00:00","Y",10,{"$f":"WORKDAY(E168,-I168,'School closure days'!B172:B201)","v":"2027-05-04"},"Evert Nivari","e.a.nivari@lse.ac.uk"]
["Education Committee","Academic Board","AB",null,"2027-05-19","14:00:00","16:30:00","Y",11,{"$f":"WORKDAY(E169,-I169,'School closure days'!B168:B197)","v":"2027-05-04"},"Tom Hewlett","t.w.hewlett@lse.ac.uk"]
["Graduate Studies Sub Committee","Academic Board","Education Committee",null,"2027-05-19","14:00:00","17:00:00","Y",20,{"$f":"WORKDAY(E170,-I170,'School closure days'!B169:B198)","v":"2027-04-21"},"Janine Olding","j.olding@lse.ac.uk"]
["Staff town Hall","SMC",null,null,"2027-05-19","14:00:00","16:00:00","Y",null,{"$f":"WORKDAY(E171,-I171,'School closure days'!B170:B199)","v":"2027-05-19"},"Ali Annenberg","a.annenberg@lse.ac.uk"]
["Agenda Committee of the Academic Board","Academic Board","AB",null,"2027-05-20","14:00:00","16:00:00","Y",6,{"$f":"WORKDAY(E172,-I172,'School closure days'!B171:B200)","v":"2027-05-12"},"Lyndsay Galpin","l.galpin@lse.ac.uk"]
["Financial Management Board","SMC","SMC",null,"2027-05-25","11:00:00","12:30:00","Y",7,{"$f":"WORKDAY(E173,-I173,'School closure days'!B173:B202)","v":"2027-05-14"},"Chloe Parkin","c.l.parkin@lse.ac.uk"]
["Investments Sub-Committee","Council","Council",4,"2027-05-25","14:00:00","17:00:00","Y",10,{"$f":"WORKDAY(E174,-I174,'School closure days'!B174:B203)","v":"2027-05-11"},"Mia Eldem","m.eldem@lse.ac.uk"]
["Honorary Awards Committee","Council","Council",3,"2027-05-26","15:00:00","17:00:00","Y",15,{"$f":"WORKDAY(E175,-I175,'School closure days'!B175:B204)","v":"2027-05-05"},"Lyndsay Galpin","l.galpin@lse.ac.uk"]
["Graduate Studies Sub Committee","Academic Board","Education Committee",null,"2027-05-26","14:00:00","17:00:00","Y",25,{"$f":"WORKDAY(E176,-I176,'School closure days'!B176:B205)","v":"2027-04-21"},"Janine Olding","j.olding@lse.ac.uk"]
["International Programmes Board","Academic Board","Education Committee",null,"2027-05-26","10:00:00","12:00:00","Y",10,{"$f":"WORKDAY(E177,-I177,'School closure days'!B177:B206)","v":"2027-05-12"},"Jack  Wolvey","uolip@lse.ac.uk "]
["Undergraduate Studies Sub Committee","Academic Board","Education Committee",null,"2027-05-26","10:30:00","13:00:00","Y",25,{"$f":"WORKDAY(E178,-I178,'School closure days'!B178:B207)","v":"2027-04-21"},"Kayleigh Gibson","K.Gibson2@lse.ac.uk"]
["Research Ethics Review Board","Academic Board","Research Committee",null,"2027-05-26","14:00:00","16:00:00","Y",10,{"$f":"WORKDAY(E179,-I179,'School closure days'!B189:B218)","v":"2027-05-12"},"Lyn Grove","l.grove@lse.ac.uk"]
["Bank holiday",null,null,null,"2027-05-31"]
["Student Experience Sub-Committee","Academic Board","Education Committee",null,"2027-06-01","14:00:00","16:30:00","Y",10,{"$f":"WORKDAY(E181,-I181,'School closure days'!B180:B209)","v":"2027-05-18"},"Jillian Ducker","J.Ducker@lse.ac.uk"]
["Estates Management Board","SMC","SMC",null,"2027-06-02","09:30:00","11:00:00","Y",10,{"$f":"WORKDAY(E182,-I182,'School closure days'!B181:B210)","v":"2027-05-19"},"Pheobe Dunster","P.J.Dunster@lse.ac.uk"]
["Professional Services Staff Contribution Group","SMC","HR Management Board",null,"2027-06-02","09:30:00","12:30:00","Y",10,{"$f":"WORKDAY(E183,-I183,'School closure days'!B182:B211)","v":"2027-05-19"},"Raj Lakhani","HR.Reward@lse.ac.uk"]
["Research Committee","Academic Board","AB",null,"2027-06-02","14:00:00","16:30:00","Y",10,{"$f":"WORKDAY(E184,-I184,'School closure days'!B192:B221)","v":"2027-05-19"},"Casimira Headley-Walker","c.headley-walker@lse.ac.uk"]
["APRC","Academic Board","AB",null,"2027-06-03","14:00:00","16:00:00","Y",10,{"$f":"WORKDAY(E185,-I185,'School closure days'!B184:B213)","v":"2027-05-20"},"Evert Nivari","e.a.nivari@lse.ac.uk"]
["Governance Committee","Council","Council",4,"2027-06-07","14:30:00","16:30:00","Y",10,{"$f":"WORKDAY(E186,-I186,'School closure days'!B183:B212)","v":"2027-05-24"},"Meaghan Saunders","m.k.saunders@lse.ac.uk"]
["Finance and Estates Committee","Council","Council",4,"2027-06-08","14:30:00","16:30:00","Y",10,{"$f":"WORKDAY(E187,-I187,'School closure days'!B185:B214)","v":"2027-05-25"},"Meaghan Saunders","m.k.saunders@lse.ac.uk"]
["Academic Board","Academic Board","Council",4,"2027-06-09","14:00:00","17:00:00","Y",14,{"$f":"WORKDAY(E188,-I188,'School closure days'!B186:B215)","v":"2027-05-20"},"Lyndsay Galpin","l.galpin@lse.ac.uk"]
["Appointments Committee","Academic Board","Academic Board",null,"2027-06-09","14:00:00","16:00:00","Y",10,{"$f":"WORKDAY(E189,-I189,'School closure days'!B187:B216)","v":"2027-05-26"},"Nikhil Kalghatgi","n.kalghatgi@lse.ac.uk"]
["Departmental Heads Forum","SMC","pot",null,"2027-06-09","10:00:00","12:00:00","Y",10,{"$f":"WORKDAY(E190,-I190,'School closure days'!B196:B225)","v":"2027-05-26"},"Chloe Parkin","c.l.parkin@lse.ac.uk"]
["Joint Negotiating and Consultative Committee","HR",null,null,"2027-06-10","14:30:00","16:00:00","Y",10,{"$f":"WORKDAY(E191,-I191,'School closure days'!B190:B219)","v":"2027-05-27"},"Beno Azebiah","b.azebiah@lse.ac.uk"]
["Joint Negotiation, Information and Consultation Committee (JNICC)","HR",null,null,"2027-06-10","12:30:00","14:30:00","Y",10,{"$f":"WORKDAY(E192,-I192,'School closure days'!B191:B220)","v":"2027-05-27"},"Beno Azebiah","b.azebiah@lse.ac.uk"]
["International Strategy Board",null,null,null,"2027-06-14","11:30:00","13:30:00","Y",null,{"$f":"WORKDAY(E193,-I193,'School closure days'!B193:B222)","v":"2027-06-14"},"Emilia Borowska","E.Borowska@lse.ac.uk"]
["Remuneration Committee","Council","Council",4,"2027-06-15","15:30:00","17:30:00","Y",10,{"$f":"WORKDAY(E194,-I194,'School closure days'!B194:B223)","v":"2027-06-01"},"Meaghan Saunders","m.k.saunders@lse.ac.uk"]
["Academic Staff Reward Committee","SMC","HR Management Board",null,"2027-06-16","09:00:00","18:00:00","Y",10,{"$f":"WORKDAY(E195,-I195,'School closure days'!B195:B224)","v":"2027-06-02"},"Raj Lakhani","HR.Reward@lse.ac.uk"]
["Audit Committee ","Council","Council",4,"2027-06-17","14:30:00","17:30:00","N",10,{"$f":"WORKDAY(E196,-I196,'School closure days'!B188:B217)","v":"2027-06-03"},"Mia Eldem","m.eldem@lse.ac.uk"]
["Council","Council",null,4,"2027-06-22","09:00:00","18:00:00","Y",15,{"$f":"WORKDAY(E197,-I197,'School closure days'!B197:B226)","v":"2027-06-01"},"Lyndsay Galpin","l.galpin@lse.ac.uk"]
["Council dinner","Council",null,4,"2027-06-22","18:00:00","21:00:00","Y",null,{"$f":"WORKDAY(E198,-I198,'School closure days'!B198:B227)","v":"2027-06-22"},"Lyndsay Galpin","l.galpin@lse.ac.uk"]
["External Funding Ethical Review Board","SMC","SMC",null,"2027-06-23","16:00:00","17:30:00","Y",null,{"$f":"WORKDAY(E199,-I199,'School closure days'!B199:B228)","v":"2027-06-23"},"Lyndsay Galpin","l.galpin@lse.ac.uk"]
["HR Management Board","SMC","SMC",null,"2027-06-24","11:00:00","12:30:00","Y",10,{"$f":"WORKDAY(E200,-I200,'School closure days'!B200:B229)","v":"2027-06-10"},"Mike Peters","m.j.peters@lse.ac.uk"]
["Estates Management Board","SMC","SMC",null,"2027-06-30","09:30:00","11:00:00","Y",10,{"$f":"WORKDAY(E201,-I201,'School closure days'!B201:B230)","v":"2027-06-16"},"Pheobe Dunster","P.J.Dunster@lse.ac.uk"]
["Sustainability Leadership Board","SMC","SMC",null,"2027-07-05","15:00:00","17:00:00","Y",5,{"$f":"WORKDAY(E202,-I202,'School closure days'!B202:B231)","v":"2027-06-28"},"Sustainability Team","sustainability.team@lse.ac.uk"]
["Estates Management Board",null,null,null,"2027-07-07","09:30:00","11:00:00","Y",10,{"$f":"WORKDAY(E203,-I203,'School closure days'!B203:B232)","v":"2027-06-23"},"Phoebe Dunster","P.J.Dunster@lse.ac.uk"]
["Information Governance Management Board","SMC","SMC",null,"2027-07-12","13:00:00","15:00:00","Y",10,{"$f":"WORKDAY(E204,-I204,'School closure days'!B203:B232)","v":"2027-06-28"},"Monica Haile-Selassie","m.haile-selassie@lse.ac.uk"]
["Data and Technology Management Board ","SMC","SMC",null,"2027-07-19","14:00:00","15:45:00","Y",10,{"$f":"WORKDAY(E205,-I205,'School closure days'!B204:B233)","v":"2027-07-05"},"Louise Hatcher","l.hatcher@lse.ac.uk"]
["Estates Management Board","SMC","SMC",null,"2027-08-04","09:30:00","11:00:00","Y",10,{"$f":"WORKDAY(E206,-I206,'School closure days'!B205:B234)","v":"2027-07-21"},"Pheobe Dunster","P.J.Dunster@lse.ac.uk"]
["Bank holiday",null,null,null,"2027-08-30"]
["Estates Management Board","SMC","SMC",null,"2027-09-01","09:30:00","11:00:00","Y",10,{"$f":"WORKDAY(E208,-I208,'School closure days'!B207:B236)","v":"2027-08-18"},"Pheobe Dunster","P.J.Dunster@lse.ac.uk"]
["Information Governance Management Board","SMC","SMC",null,"2027-09-13","13:00:00","15:00:00","Y",10,{"$f":"WORKDAY(E209,-I209,'School closure days'!B208:B237)","v":"2027-08-30"},"Monica Haile-Selassie","m.haile-selassie@lse.ac.uk"]
["Council","Council",null,null,"2027-09-21","09:00:00","18:00:00","N",15,{"$f":"WORKDAY(E210,-I210,'School closure days'!B209:B238)","v":"2027-08-31"},"Lyndsay Galpin","l.galpin@lse.ac.uk"]
["Estates Management Board","SMC","SMC",null,"2027-09-29","09:30:00","11:00:00","Y",10,{"$f":"WORKDAY(E211,-I211,'School closure days'!B210:B239)","v":"2027-09-15"},"Davinder Ratra","d.s.ratra@lse.ac.uk"]
["Estates Management Board",null,null,null,"2027-10-06","09:30:00","11:00:00","Y",10,{"$f":"WORKDAY(E212,-I212,'School closure days'!B211:B240)","v":"2027-09-22"},"Phoebe Dunster","P.J.Dunster@lse.ac.uk"]
["External Funding Ethical Review Board","SMC","SMC",null,"2027-10-13","16:00:00","17:30:00","N",null,{"$f":"WORKDAY(E213,-I213,'School closure days'!B211:B240)","v":"2027-10-13"},"Lyndsay Galpin","l.galpin@lse.ac.uk"]
["Remuneration Committee","Council","Council",5,"2027-10-19","15:30:00","17:30:00","Y",10,{"$f":"WORKDAY(E214,-I214,'School closure days'!B212:B241)","v":"2027-10-05"},"Meaghan Saunders","m.k.saunders@lse.ac.uk"]
["Agenda Committee of the Academic Board","Academic Board","AB",null,"2027-10-21","14:00:00","16:00:00","Y",6,{"$f":"WORKDAY(E215,-I215,'School closure days'!B214:B243)","v":"2027-10-13"},"Lyndsay Galpin","l.galpin@lse.ac.uk"]
["Investments Sub-Committee","Council","Council",5,"2027-10-26","14:00:00","17:00:00","Y",10,{"$f":"WORKDAY(E216,-I216,'School closure days'!B213:B242)","v":"2027-10-12"},"Mia Eldem","m.eldem@lse.ac.uk"]
["Data and Technology Management Board ","SMC","SMC",null,"2027-10-28","14:00:00","15:45:00","Y",10,{"$f":"WORKDAY(E217,-I217,'School closure days'!B215:B244)","v":"2027-10-14"},"Louise Hatcher","l.hatcher@lse.ac.uk"]
["Governance Committee","Council","Council",5,"2027-11-01","14:30:00","16:30:00","N",10,{"$f":"WORKDAY(E218,-I218,'School closure days'!B216:B245)","v":"2027-10-18"},"Meaghan Saunders","m.k.saunders@lse.ac.uk"]
["Estates Management Board","SMC","SMC",null,"2027-11-03","09:30:00","11:00:00","Y",10,{"$f":"WORKDAY(E219,-I219,'School closure days'!B217:B246)","v":"2027-10-20"},"Davinder Ratra","d.s.ratra@lse.ac.uk"]
["Academic Board","Academic Board","Council",5,"2027-11-03","14:00:00","17:00:00","Y",15,{"$f":"WORKDAY(E220,-I220,'School closure days'!B219:B248)","v":"2027-10-13"},"Lyndsay Galpin","l.galpin@lse.ac.uk"]
["Finance and Estates Committee","Council","Council",5,"2027-11-09","14:30:00","16:30:00","N",10,{"$f":"WORKDAY(E221,-I221,'School closure days'!B218:B247)","v":"2027-10-26"},"Meaghan Saunders","m.k.saunders@lse.ac.uk"]
["Audit Committee","Council","Council",5,"2027-11-11","14:30:00","17:30:00","N",10,{"$f":"WORKDAY(E222,-I222,'School closure days'!B220:B249)","v":"2027-10-28"},"Mia Eldem","m.eldem@lse.ac.uk"]
["Information Governance Management Board","SMC","SMC",null,"2027-11-15","13:00:00","15:00:00","Y",10,{"$f":"WORKDAY(E223,-I223,'School closure days'!B221:B250)","v":"2027-11-01"},"Monica Haile-Selassie","m.haile-selassie@lse.ac.uk"]
["Honorary Awards Committee","Council","Council",5,"2027-11-22","15:00:00","17:00:00","Y",10,{"$f":"WORKDAY(E224,-I224,'School closure days'!B224:B253)","v":"2027-11-08"},"Lyndsay Galpin","l.galpin@lse.ac.uk"]
["Council","Council",null,5,"2027-11-23","15:00:00","18:00:00","N",15,{"$f":"WORKDAY(E225,-I225,'School closure days'!B222:B251)","v":"2027-11-02"},"Lyndsay Galpin","l.galpin@lse.ac.uk"]
["Estates Management Board","SMC","SMC",null,"2027-12-01","09:30:00","11:00:00","Y",10,{"$f":"WORKDAY(E226,-I226,'School closure days'!B223:B252)","v":"2027-11-17"},"Davinder Ratra","d.s.ratra@lse.ac.uk"]
["School closure",null,null,null,"2027-12-23"]
["School closure",null,null,null,"2027-12-24"]
["Bank holiday",null,null,null,"2027-12-27"]
["Bank holiday",null,null,null,"2027-12-28"]
["School closure",null,null,null,"2027-12-29"]
["School closure",null,null,null,"2027-12-30"]
["School closure",null,null,null,"2027-12-31"]
["Bank holiday",null,null,null,"2028-01-03"]
["Estates Management Board","SMC","SMC",null,"2028-01-05","09:30:00","11:00:00","Y",10,{"$f":"WORKDAY(E235,-I235,'School closure days'!B233:B262)","v":"2027-12-22"},"Davinder Ratra","d.s.ratra@lse.ac.uk"]
["Information Governance Management Board","SMC","SMC",null,"2028-01-17","13:00:00","15:00:00","Y",10,{"$f":"WORKDAY(E236,-I236,'School closure days'!B234:B263)","v":"2028-01-03"},"Monica Haile-Selassie","m.haile-selassie@lse.ac.uk"]
["Finance and Estates Committee","Council","Council",6,"2028-01-25","14:30:00","16:30:00","N",10,{"$f":"WORKDAY(E237,-I237,'School closure days'!B235:B264)","v":"2028-01-11"},"Meaghan Saunders","m.k.saunders@lse.ac.uk"]
["External Funding Ethical Review Board","SMC","SMC",null,"2028-01-26","16:00:00","17:30:00","N",null,{"$f":"WORKDAY(E238,-I238,'School closure days'!B236:B265)","v":"2028-01-26"},"Lyndsay Galpin","l.galpin@lse.ac.uk"]
["Agenda Committee of the Academic Board","Academic Board","AB",null,"2028-01-27","14:00:00","16:00:00","Y",6,{"$f":"WORKDAY(E239,-I239,'School closure days'!B237:B266)","v":"2028-01-19"},"Lyndsay Galpin","l.galpin@lse.ac.uk"]
["Governance Committee","Council","Council",6,"2028-01-31","14:30:00","16:30:00","N",10,{"$f":"WORKDAY(E240,-I240,'School closure days'!B238:B267)","v":"2028-01-17"},"Meaghan Saunders","m.k.saunders@lse.ac.uk"]
["Estates Management Board","SMC","SMC",null,"2028-02-02","09:30:00","11:00:00","Y",10,{"$f":"WORKDAY(E241,-I241,'School closure days'!B239:B268)","v":"2028-01-19"},"Davinder Ratra","d.s.ratra@lse.ac.uk"]
["Council Awayday","Council",null,null,"2028-02-08","09:00:00","18:00:00","N",15,{"$f":"WORKDAY(E242,-I242,'School closure days'!B240:B269)","v":"2028-01-18"},"Lyndsay Galpin","l.galpin@lse.ac.uk"]
["Academic Board","Academic Board","Council",6,"2028-02-09","14:00:00","17:00:00","Y",15,{"$f":"WORKDAY(E243,-I243,'School closure days'!B241:B270)","v":"2028-01-19"},"Lyndsay Galpin","l.galpin@lse.ac.uk"]
["Audit Committee (including Awayday)","Council","Council",6,"2028-02-15","10:00:00","17:30:00","N",10,{"$f":"WORKDAY(E244,-I244,'School closure days'!B242:B271)","v":"2028-02-01"},"Mia Eldem","m.eldem@lse.ac.uk"]
["Estates Management Board","SMC","SMC",null,"2028-03-01","09:30:00","11:00:00","Y",10,{"$f":"WORKDAY(E245,-I245,'School closure days'!B244:B273)","v":"2028-02-16"},"Davinder Ratra","d.s.ratra@lse.ac.uk"]
["Investments Sub-Committee","Council","Council",7,"2028-03-07","14:00:00","17:00:00","Y",10,{"$f":"WORKDAY(E246,-I246,'School closure days'!B245:B274)","v":"2028-02-22"},"Mia Eldem","m.eldem@lse.ac.uk"]
["Information Governance Management Board","SMC","SMC",null,"2028-03-13","13:00:00","15:00:00","Y",10,{"$f":"WORKDAY(E247,-I247,'School closure days'!B246:B275)","v":"2028-02-28"},"Monica Haile-Selassie","m.haile-selassie@lse.ac.uk"]
["Council","Council",null,7,"2028-03-14","15:00:00","18:00:00","N",15,{"$f":"WORKDAY(E248,-I248,'School closure days'!B247:B276)","v":"2028-02-22"},"Lyndsay Galpin","l.galpin@lse.ac.uk"]
["Agenda Committee of the Academic Board","Academic Board","AB",null,"2028-03-16","14:00:00","16:00:00","Y",6,{"$f":"WORKDAY(E249,-I249,'School closure days'!B251:B280)","v":"2028-03-08"},"Lyndsay Galpin","l.galpin@lse.ac.uk"]
["Honorary Awards Committee","Council","Council",6,"2028-03-22","15:00:00","17:00:00","Y",10,{"$f":"WORKDAY(E250,-I250,'School closure days'!B248:B277)","v":"2028-03-08"},"Lyndsay Galpin","l.galpin@lse.ac.uk"]
["Estates Management Board","SMC","SMC",null,"2028-03-29","09:30:00","11:00:00","Y",10,{"$f":"WORKDAY(E251,-I251,'School closure days'!B249:B278)","v":"2028-03-15"},"Davinder Ratra","d.s.ratra@lse.ac.uk"]
["Academic Board","Academic Board","Council",7,"2028-03-29","14:00:00","17:00:00","Y",15,{"$f":"WORKDAY(E252,-I252,'School closure days'!B258:B287)","v":"2028-03-08"},"Lyndsay Galpin","l.galpin@lse.ac.uk"]
["Finance and Estates Committee","Council","Council",7,"2028-04-04","14:30:00","16:30:00","N",10,{"$f":"WORKDAY(E253,-I253,'School closure days'!B250:B279)","v":"2028-03-21"},"Meaghan Saunders","m.k.saunders@lse.ac.uk"]
["Remuneration Committee","Council","Council",7,"2028-04-11","15:30:00","17:30:00","Y",10,{"$f":"WORKDAY(E254,-I254,'School closure days'!B252:B281)","v":"2028-03-28"},"Meaghan Saunders","m.k.saunders@lse.ac.uk"]
["Bank holiday",null,null,null,"2028-04-14"]
["Bank holiday",null,null,null,"2028-04-17"]
["External Funding Ethical Review Board","SMC","SMC",null,"2028-04-26","16:00:00","17:30:00","N",null,{"$f":"WORKDAY(E257,-I257,'School closure days'!B259:B288)","v":"2028-04-26"},"Lyndsay Galpin","l.galpin@lse.ac.uk"]
["Bank holiday",null,null,null,"2028-05-01"]
["Estates Management Board","SMC","SMC",null,"2028-05-03","09:30:00","11:00:00","Y",10,{"$f":"WORKDAY(E259,-I259,'School closure days'!B261:B290)","v":"2028-04-19"},"Davinder Ratra","d.s.ratra@lse.ac.uk"]
["Information Governance Management Board","SMC","SMC",null,"2028-05-15","13:00:00","15:00:00","Y",10,{"$f":"WORKDAY(E260,-I260,'School closure days'!B262:B291)","v":"2028-05-01"},"Monica Haile-Selassie","m.haile-selassie@lse.ac.uk"]
["Investments Sub-Committee","Council","Council",8,"2028-05-23","14:00:00","17:00:00","Y",10,{"$f":"WORKDAY(E261,-I261,'School closure days'!B263:B292)","v":"2028-05-09"},"Mia Eldem","m.eldem@lse.ac.uk"]
["Honorary Awards Committee","Council","Council",7,"2028-05-24","15:00:00","17:00:00","N",10,{"$f":"WORKDAY(E262,-I262,'School closure days'!B264:B293)","v":"2028-05-10"},"Lyndsay Galpin","l.galpin@lse.ac.uk"]
["Agenda Committee of the Academic Board","Academic Board","AB",null,"2028-05-25","14:00:00","16:00:00","Y",6,{"$f":"WORKDAY(E263,-I263,'School closure days'!B265:B294)","v":"2028-05-17"},"Lyndsay Galpin","l.galpin@lse.ac.uk"]
["Bank holiday",null,null,null,"2028-05-29"]
["Estates Management Board","SMC","SMC",null,"2028-05-31","09:30:00","11:00:00","Y",10,{"$f":"WORKDAY(E265,-I265,'School closure days'!B267:B296)","v":"2028-05-17"},"Davinder Ratra","d.s.ratra@lse.ac.uk"]
["Governance Committee","Council","Council",8,"2028-06-05","14:30:00","16:30:00","N",10,{"$f":"WORKDAY(E266,-I266,'School closure days'!B268:B297)","v":"2028-05-22"},"Meaghan Saunders","m.k.saunders@lse.ac.uk"]
["Finance and Estates Committee","Council","Council",8,"2028-06-06","14:30:00","16:30:00","N",10,{"$f":"WORKDAY(E267,-I267,'School closure days'!B269:B298)","v":"2028-05-23"},"Meaghan Saunders","m.k.saunders@lse.ac.uk"]
["Academic Board","Academic Board","Council",8,"2028-06-07","14:00:00","17:00:00","Y",15,{"$f":"WORKDAY(E268,-I268,'School closure days'!B271:B300)","v":"2028-05-17"},"Lyndsay Galpin","l.galpin@lse.ac.uk"]
["Remuneration Committee","Council","Council",8,"2028-06-13","15:30:00","17:30:00","Y",10,{"$f":"WORKDAY(E269,-I269,'School closure days'!B272:B301)","v":"2028-05-30"},"Meaghan Saunders","m.k.saunders@lse.ac.uk"]
["Audit Committee","Council","Council",8,"2028-06-15","14:30:00","17:30:00","N",10,{"$f":"WORKDAY(E270,-I270,'School closure days'!B270:B299)","v":"2028-06-01"},"Mia Eldem","m.eldem@lse.ac.uk"]
["Council","Council",null,8,"2028-06-20","09:00:00","18:00:00","N",15,{"$f":"WORKDAY(E271,-I271,'School closure days'!B273:B302)","v":"2028-05-30"},"Lyndsay Galpin","l.galpin@lse.ac.uk"]
["Council dinner","Council",null,8,"2028-06-20","18:00:00","21:00:00","N",null,{"$f":"WORKDAY(E272,-I272,'School closure days'!B274:B303)","v":"2028-06-20"},"Lyndsay Galpin","l.galpin@lse.ac.uk"]
["External Funding Ethical Review Board","SMC","SMC",null,"2028-06-21","16:00:00","17:30:00","N",null,{"$f":"WORKDAY(E273,-I273,'School closure days'!B275:B304)","v":"2028-06-21"},"Lyndsay Galpin","l.galpin@lse.ac.uk"]
["Estates Management Board","SMC","SMC",null,"2028-06-28","09:30:00","11:00:00","Y",10,{"$f":"WORKDAY(E274,-I274,'School closure days'!B276:B305)","v":"2028-06-14"},"Davinder Ratra","d.s.ratra@lse.ac.uk"]
["Information Governance Management Board","SMC","SMC",null,"2028-07-17","13:00:00","15:00:00","Y",10,{"$f":"WORKDAY(E275,-I275,'School closure days'!B277:B306)","v":"2028-07-03"},"Monica Haile-Selassie","m.haile-selassie@lse.ac.uk"]
["School closure",null,null,null,"TBC"]
["School closure",null,null,null,"TBC"]
["School closure",null,null,null,"TBC"]

{"sheet":"School closure days","index":1,"n_rows":31,"n_cols":3,"rows_kept":31,"cut":false,"hidden":false,"merged":[]}
["Year","Date","Type of holiday"]
["2026/2027","2026-08-31","Bank holiday"]
["2026/2027","2026-12-23","School closure"]
["2026/2027","2026-12-24","School closure"]
["2026/2027","2026-12-25","Bank holiday"]
["2026/2027","2026-12-28","Bank holiday"]
["2026/2027","2026-12-29","School closure"]
["2026/2027","2026-12-30","School closure"]
["2026/2027","2026-12-31","School closure"]
["2026/2027","2027-01-01","Bank holiday"]
["2026/2027","2027-03-26","Bank holiday"]
["2026/2027","2027-03-29","Bank holiday"]
["2026/2027","2027-03-30","School closure"]
["2026/2027","2027-03-31","School closure"]
["2026/2027","2027-04-01","School closure"]
["2026/2027","2027-05-03","Bank holiday"]
["2026/2027","2027-05-31","Bank holiday"]
["2027/2028","2027-08-30","Bank holiday"]
["2027/2028","2027-12-23","School closure"]
["2027/2028","2027-12-24","School closure"]
["2027/2028","2027-12-27","Bank holiday"]
["2027/2028","2027-12-28","Bank holiday"]
["2027/2028","2027-12-29","School closure"]
["2027/2028","2027-12-30","School closure"]
["2027/2028","2027-12-31","School closure"]
["2027/2028","2028-01-03","Bank holiday"]
["2027/2028","2028-04-14","Bank holiday"]
["2027/2028","2028-04-17","Bank holiday"]
["2027/2028","2028-05-01","Bank holiday"]
["2027/2028","2028-05-29","Bank holiday"]
["2027/2028","2028-08-28","Bank holiday"]