{"text_format":"1","workbook":"xlsx","n_sheets":2,"sheets":["2023-24 Planner","School closure days"],"not_rendered":{"charts":0,"images":0,"macros":1,"external_links":0,"defined_names":3,"comments":0,"pivot_tables":0},"unopened":[],"bounds":{"document_bytes":16777216,"sheet_cells":100000,"rows_first":2000,"rows_last":500,"rows_between":2000,"halvings":0,"cell_chars":16384,"cell_head_chars":4096},"cells_cut":0,"cells_raw":0,"read":"whole","date_system":"1900"}

{"sheet":"2023-24 Planner","index":0,"n_rows":266,"n_cols":14,"rows_kept":266,"cut":false,"hidden":false,"merged":[]}
["Committee","Area ","Reports to","Date","Cycle","Start","End","Confirmed","Deadline days","Deadline date","Secretary /Organiser","Email",{"$f":"\"This calendar was last updated on \" & TEXT((LastModified()),\"dd mmmm yyy\")  & \" at \" &TEXT((LastModified()),\"hh:mm\")","v":{"$error":"#NAME?"}}]
["Estates Management Board","SMC","SMC","2023-08-02",null,"09:30:00","11:00:00","Y",10,{"$f":"WORKDAY(D2,-I2,'School closure days'!$B$2:$B$33)","v":"2023-07-19"},"Davinder Ratra","d.s.ratra@lse.ac.uk",{"$f":"N2","v":45504},"2024-07-31"]
["Bank holiday",null,null,"2023-08-28",null,null,null,null,null,null,null,null,{"$f":"N3","v":45870},"2025-08-01"]
["Estates Management Board","SMC","SMC","2023-09-06",null,"09:30:00","11:00:00","Y",10,{"$f":"WORKDAY(D4,-I4,'School closure days'!$B$2:$B$33)","v":"2023-08-22"},"Davinder Ratra","d.s.ratra@lse.ac.uk"]
["Information Governance Management Board","SMC","SMC","2023-09-18",null,"13:00:00","15:00:00","Y",10,{"$f":"WORKDAY(Table1[[#This Row],[Date]],-I5,'School closure days'!$B$2:$B$33)","v":"2023-09-04"},"Rachael Maguire","r.e.maguire@lse.ac.uk"]
["APRC Agenda Committee","Academic Board","APRC","2023-09-25",null,"11:00:00","12:00:00","Y",10,{"$f":"WORKDAY(D6,-I6,'School closure days'!$B$2:$B$33)","v":"2023-09-11"},"Evert Nivari","e.a.nivari@lse.ac.uk"]
["Audit Committee","Council","Council","2023-09-26",1,"17:00:00","19:00:00","Y",10,{"$f":"WORKDAY(D7,-I7,'School closure days'!$B$2:$B$33)","v":"2023-09-12"},"Mike Smith","m.d.smith2@lse.ac.uk"]
["Promotions Committee (Induction for new members)","Academic Board","Appointments Committee","2023-09-27",null,"10:00:00","12:00:00","Y",10,{"$f":"WORKDAY(D8,-I8,'School closure days'!$B$2:$B$33)","v":"2023-09-13"},"Nikhil Kalghatgi","n.kalghatgi@lse.ac.uk"]
["HR Management Board","SMC","SMC","2023-09-28",null,"11:00:00","12:30:00","Y",10,{"$f":"WORKDAY(D9,-I9,'School closure days'!$B$2:$B$33)","v":"2023-09-14"},"Sugirtha Damadram ","s.damadram@lse.ac.uk"]
["Graduate Studies Sub Committee","Academic Board","Education Committee","2023-10-04",null,"14:00:00","17:00:00","Y",15,{"$f":"WORKDAY(D10,-I10,'School closure days'!$B$2:$B$33)","v":"2023-09-13"},"Janine Olding","j.olding@lse.ac.uk"]
["Research Committee","Academic Board","AB","2023-10-04",null,"10:30:00","13:00:00","Y",10,{"$f":"WORKDAY(D11,-I11,'School closure days'!$B$2:$B$33)","v":"2023-09-20"},"Casimira Headley-Walker","c.headley-walker@lse.ac.uk"]
["Undergraduate Studies Sub Committee","Academic Board","Education Committee","2023-10-04",null,"10:30:00","13:00:00","Y",15,{"$f":"WORKDAY(D12,-I12,'School closure days'!$B$2:$B$33)","v":"2023-09-13"},"Tom Hewlett","t.w.hewlett@lse.ac.uk"]
["Student town Hall","SMC",null,"2023-10-09",null,"14:00:00","16:00:00","Y","N/A",null,"Ali Annenberg","a.annenberg@lse.ac.uk"]
["APRC","Academic Board","AB","2023-10-10",null,"14:00:00","16:00:00","Y",10,{"$f":"WORKDAY(D14,-I14,'School closure days'!$B$2:$B$33)","v":"2023-09-26"},"Evert Nivari","e.a.nivari@lse.ac.uk"]
["Honorary Awards Committee","Council","Council","2023-10-11",1,"15:00:00","17:00:00","Y",10,{"$f":"WORKDAY(D15,-I15,'School closure days'!$B$2:$B$33)","v":"2023-09-27"},"Lyndsay Galpin","l.galpin@lse.ac.uk"]
["Estates Management Board","SMC","SMC","2023-10-11",null,"09:30:00","11:00:00","Y",10,{"$f":"WORKDAY(D16,-I16,'School closure days'!$B$2:$B$33)","v":"2023-09-27"},"Davinder Ratra","d.s.ratra@lse.ac.uk"]
["Agenda Committee of the Academic Board","Academic Board","AB","2023-10-11",null,"12:30:00","14:30:00","Y",10,{"$f":"WORKDAY(D17,-I17,'School closure days'!$B$2:$B$33)","v":"2023-09-27"},"Lyndsay Galpin","l.galpin@lse.ac.uk"]
["Departmental Heads Forum","SMC","SMC","2023-10-12",null,"10:00:00","12:00:00","Y",10,{"$f":"WORKDAY(D18,-I18,'School closure days'!$B$2:$B$33)","v":"2023-09-28"},"Chloe Parkin","c.l.parkin@lse.ac.uk"]
["Council Awayday","Council",null,"2023-10-17",1,"09:00:00","21:00:00","Y",10,{"$f":"WORKDAY(D19,-I19,'School closure days'!$B$2:$B$33)","v":"2023-10-03"},"Hilary Hunter","h.a.hunter@lse.ac.uk"]
["Doctoral Programme Directors' Forum","Stakeholder Engagement",null,"2023-10-18",null,"14:00:00","16:00:00","Y",10,{"$f":"WORKDAY(D20,-I20,'School closure days'!$B$2:$B$33)","v":"2023-10-04"},"Matt Brack","m.brack@lse.ac.uk"]
["Education Committee","Academic Board","AB","2023-10-19",null,"14:00:00","16:30:00","Y",12,{"$f":"WORKDAY(D21,-I21,'School closure days'!$B$2:$B$33)","v":"2023-10-03"},"Tom Hewlett","t.w.hewlett@lse.ac.uk"]
["APRC Agenda Committee","Academic Board","APRC","2023-10-23",null,"11:00:00","12:00:00","Y",10,{"$f":"WORKDAY(D22,-I22,'School closure days'!$B$2:$B$33)","v":"2023-10-09"},"Evert Nivari","e.a.nivari@lse.ac.uk"]
["Investments Sub-Committee","Council","Council","2023-10-23",1,"14:00:00","17:00:00","Y",10,{"$f":"WORKDAY(D23,-I23,'School closure days'!$B$2:$B$33)","v":"2023-10-09"},"Mike Smith","m.d.smith2@lse.ac.uk"]
["Financial Management Board","SMC","SMC","2023-10-24",null,"11:00:00","12:30:00","Y",7,{"$f":"WORKDAY(D24,-I24,'School closure days'!$B$2:$B$33)","v":"2023-10-13"},"Chloe Parkin","c.l.parkin@lse.ac.uk"]
["Staff town Hall","SMC",null,"2023-10-25",null,"10:30:00","12:30:00","Y","N/A",null,"Ali Annenberg","a.annenberg@lse.ac.uk"]
["Academic Board","Academic Board",null,"2023-10-25",1,"14:00:00","16:00:00","Y",19,{"$f":"WORKDAY(D26,-I26,'School closure days'!$B$2:$B$33)","v":"2023-09-28"},"Lyndsay Galpin","l.galpin@lse.ac.uk"]
["Sustainability Leadership Board","SMC","SMC","2023-10-26",null,"11:00:00","12:30:00","Y",5,{"$f":"WORKDAY(D27,-I27,'School closure days'!$B$2:$B$33)","v":"2023-10-19"},"Sustainability Team","sustainability.team@lse.ac.uk"]
["REF Strategy Committee","Academic Board","Research Committee","2023-10-26",null,"10:00:00","11:30:00","Y",10,{"$f":"WORKDAY(D28,-I28,'School closure days'!$B$2:$B$33)","v":"2023-10-12"},"Casimira Headley-Walker","c.headley-walker@lse.ac.uk"]
["Remuneration Committee","Council","Council","2023-10-30",1,"12:30:00","14:30:00","Y",10,{"$f":"WORKDAY(D29,-I29,'School closure days'!$B$2:$B$33)","v":"2023-10-16"},"Hilary Hunter","h.a.hunter@lse.ac.uk"]
["Governance Committee","Council","Council","2023-10-31",1,"14:30:00","16:30:00","Y",10,{"$f":"WORKDAY(D30,-I30,'School closure days'!$B$2:$B$33)","v":"2023-10-17"},"Hilary Hunter","h.a.hunter@lse.ac.uk"]
["Estates Management Board","SMC","SMC","2023-11-01",null,"09:30:00","11:00:00","Y",10,{"$f":"WORKDAY(D31,-I31,'School closure days'!$B$2:$B$33)","v":"2023-10-18"},"Davinder Ratra","d.s.ratra@lse.ac.uk"]
["Research Degrees Sub Committee","Academic Board","Education Committee","2023-11-01",null,"14:00:00","16:00:00","Y",15,{"$f":"WORKDAY(D32,-I32,'School closure days'!$B$2:$B$33)","v":"2023-10-11"},"Pete Mills ","p.b.mills@lse.ac.uk"]
["Data and Technology Management Board ","SMC","SMC","2023-11-02",null,"10:00:00","11:45:00","Y",10,{"$f":"WORKDAY(D33,-I33,'School closure days'!$B$2:$B$33)","v":"2023-10-19"},"Louise Hatcher","l.hatcher@lse.ac.uk"]
["Office Holders Group","HR","Director","2023-11-02",null,"13:00:00","14:30:00","Y",10,{"$f":"WORKDAY(D34,-I34,'School closure days'!$B$2:$B$33)","v":"2023-10-19"},"Seema Haria","HR.Reward@lse.ac.uk"]
["Finance and Estates Committee","Council","Council","2023-11-06",1,"16:30:00","18:30:00","Y",10,{"$f":"WORKDAY(D35,-I35,'School closure days'!$B$2:$B$33)","v":"2023-10-23"},"Hilary Hunter","h.a.hunter@lse.ac.uk"]
["APRC","Academic Board","AB","2023-11-07",null,"14:00:00","16:00:00","Y",10,{"$f":"WORKDAY(D36,-I36,'School closure days'!$B$2:$B$33)","v":"2023-10-24"},"Evert Nivari","e.a.nivari@lse.ac.uk"]
["Audit Committee","Council","Council","2023-11-07",1,"15:30:00","17:30:00","Y",10,{"$f":"WORKDAY(D37,-I37,'School closure days'!$B$2:$B$33)","v":"2023-10-24"},"Katie Crystal","k.n.crystal@lse.ac.uk"]
["Research Ethics Committee","Academic Board","Research Committee","2023-11-08",null,"14:30:00","16;30","Y",10,{"$f":"WORKDAY(D38,-I38,'School closure days'!$B$2:$B$33)","v":"2023-10-25"},"Lyn Grove","l.grove@lse.ac.uk"]
["Knowledge Exchange Framework Strategy Committee (KEFSC)","Academic Board","Research Committee","2023-11-13",null,"14:00:00","16:30:00","Y",10,{"$f":"WORKDAY(D39,-I39,'School closure days'!$B$2:$B$33)","v":"2023-10-30"},"Casimira Headley-Walker","c.headley-walker@lse.ac.uk"]
["PhD Managers' Forum","Academic Board",null,"2023-11-14",null,"14:00:00","16:00:00","Y",10,{"$f":"WORKDAY(D40,-I40,'School closure days'!$B$2:$B$33)","v":"2023-10-31"},"Edlira Gjonca","e.gjonca@lse.ac.uk"]
["Departmental Tutors' Consultative Forum ","SSC",null,"2023-11-15",null,"14:00:00","16:00:00","Y",10,{"$f":"WORKDAY(D41,-I41,'School closure days'!$B$2:$B$33)","v":"2023-11-01"},"Chiara Milani","ssc.advice@lse.ac.uk"]
["Regulations, Policy and Standards Sub Committee","Academic Board","Education Committee","2023-11-15",null,"14:00:00","16:00:00","Y",10,{"$f":"WORKDAY(D42,-I42,'School closure days'!$B$2:$B$33)","v":"2023-11-01"},"Casey Hawkins","c.hawkins@lse.ac.uk"]
["Promotions Committee (Schedule of Business)","Academic Board","Appointments Committee","2023-11-15",null,"10:00:00","16:00:00","Y",10,{"$f":"WORKDAY(D43,-I43,'School closure days'!$B$2:$B$33)","v":"2023-11-01"},"Nikhil Kalghatgi","n.kalghatgi@lse.ac.uk"]
["International Programmes Board","Academic Board","Education Committee","2023-11-15",null,"10:00:00","12:00:00","Y",10,{"$f":"WORKDAY(D44,-I44,'School closure days'!$B$2:$B$33)","v":"2023-11-01"},"Jack  Wolvey","uolip@lse.ac.uk "]
["Student Experience Sub-Committee","Academic Board","Education Committee","2023-11-16",null,"13:00:00","16:00:00","Y",10,{"$f":"WORKDAY(D45,-I45,'School closure days'!$B$2:$B$33)","v":"2023-11-02"},"Jaffer Hussain","j.hussain3@lse.ac.uk"]
["Agenda Committee of the Academic Board","Academic Board","AB","2023-11-16",null,"12:00:00","14:00:00","Y",10,{"$f":"WORKDAY(D46,-I46,'School closure days'!$B$2:$B$33)","v":"2023-11-02"},"Lyndsay Galpin","l.galpin@lse.ac.uk"]
["Student Numbers and Fees (SNAF) Group ","Academic Board","APRC","2023-11-16",null,"10:00:00","12:00:00","Y",10,{"$f":"WORKDAY(D47,-I47,'School closure days'!$B$2:$B$33)","v":"2023-11-02"},"Emily Jackson","e.jackson2@lse.ac.uk"]
["Information Governance Management Board","SMC","SMC","2023-11-20",null,"13:00:00","15:00:00","Y",10,{"$f":"WORKDAY(Table1[[#This Row],[Date]],-I48,'School closure days'!$B$2:$B$33)","v":"2023-11-06"},"Rachael Maguire","r.e.maguire@lse.ac.uk"]
["APRC Agenda Committee","Academic Board","APRC","2023-11-20",null,"11:00:00","12:00:00","Y",10,{"$f":"WORKDAY(D49,-I49,'School closure days'!$B$2:$B$33)","v":"2023-11-06"},"Evert Nivari","e.a.nivari@lse.ac.uk"]
["Council","Council",null,"2023-11-21",1,"15:00:00","18:00:00","Y",10,{"$f":"WORKDAY(D50,-I50,'School closure days'!$B$2:$B$33)","v":"2023-11-07"},"Hilary Hunter","h.a.hunter@lse.ac.uk"]
["Research and Policy Staff Committee","Academic Board","Appointments Committee","2023-11-22",null,"10:30:00","12:30:00","Y",10,{"$f":"WORKDAY(D51,-I51,'School closure days'!$B$2:$B$33)","v":"2023-11-08"},"Meeta Bhatt","m.bhatt@lse.ac.uk"]
["Graduate Studies Sub Committee","Academic Board","Education Committee","2023-11-22",null,"14:00:00","17:00:00","Y",15,{"$f":"WORKDAY(D52,-I52,'School closure days'!$B$2:$B$33)","v":"2023-11-01"},"Janine Olding","j.olding@lse.ac.uk"]
["Undergraduate Studies Sub Committee","Academic Board","Education Committee","2023-11-22",null,"10:30:00","13:00:00","Y",15,{"$f":"WORKDAY(D53,-I53,'School closure days'!$B$2:$B$33)","v":"2023-11-01"},"Tom Hewlett","t.w.hewlett@lse.ac.uk"]
["Joint Negotiating and Consultative Committee","HR",null,"2023-11-23",null,"14:30:00","16:00:00","Y",10,{"$f":"WORKDAY(D54,-I54,'School closure days'!$B$2:$B$33)","v":"2023-11-09"},"Elisabetta Viotto ","E.Viotto@lse.ac.uk"]
["Joint Negotiation, Information and Consultation Committee (JNICC)","HR",null,"2023-11-23",null,"12:30:00","14:30:00","Y",10,{"$f":"WORKDAY(D55,-I55,'School closure days'!$B$2:$B$33)","v":"2023-11-09"},"Elisabetta Viotto ","E.Viotto@lse.ac.uk"]
["Academic Nominations Committee","Academic Board","AB","2023-11-27",null,"14:00:00","16:00:00","Y",10,{"$f":"WORKDAY(D56,-I56,'School closure days'!$B$2:$B$33)","v":"2023-11-13"},"Lyndsay Galpin","l.galpin@lse.ac.uk"]
["Academic Board","Academic Board",null,"2023-11-29",2,"14:00:00","16:00:00","Y",19,{"$f":"WORKDAY(D57,-I57,'School closure days'!$B$2:$B$33)","v":"2023-11-02"},"Lyndsay Galpin","l.galpin@lse.ac.uk"]
["Professional Services Staff Contribution Group","SMC","HR Management Board","2023-11-30",null,"14:30:00","16:30:00","Y",10,{"$f":"WORKDAY(D58,-I58,'School closure days'!$B$2:$B$33)","v":"2023-11-16"},"Seema Haria","HR.Reward@lse.ac.uk"]
["APRC","Academic Board","AB","2023-12-05",null,"14:00:00","16:00:00","Y",10,{"$f":"WORKDAY(D59,-I59,'School closure days'!$B$2:$B$33)","v":"2023-11-21"},"Evert Nivari","e.a.nivari@lse.ac.uk"]
["Financial Management Board","SMC","SMC","2023-12-05",null,"11:00:00","12:30:00","Y",7,{"$f":"WORKDAY(D60,-I60,'School closure days'!$B$2:$B$33)","v":"2023-11-24"},"Chloe Parkin","c.l.parkin@lse.ac.uk"]
["Estates Management Board","SMC","SMC","2023-12-06",null,"09:30:00","11:00:00","Y",10,{"$f":"WORKDAY(D61,-I61,'School closure days'!$B$2:$B$33)","v":"2023-11-22"},"Davinder Ratra","d.s.ratra@lse.ac.uk"]
["Research Committee","Academic Board","AB","2023-12-06",null,"10:30:00","13:00:00","Y",10,{"$f":"WORKDAY(D62,-I62,'School closure days'!$B$2:$B$33)","v":"2023-11-22"},"Casimira Headley-Walker","c.headley-walker@lse.ac.uk"]
["Research Students' Consultative Forum","Stakeholder Engagement",null,"2023-12-06",null,"14:00:00","16:00:00","Y",10,{"$f":"WORKDAY(D63,-I63,'School closure days'!$B$2:$B$33)","v":"2023-11-22"},"Leonie Zeuner","L.Zeuner@lse.ac.uk"]
["Departmental Heads Forum","SMC","SMC","2023-12-06",null,"10:00:00","12:00:00","Y",10,{"$f":"WORKDAY(D64,-I64,'School closure days'!$B$2:$B$33)","v":"2023-11-22"},"Chloe Parkin","c.l.parkin@lse.ac.uk"]
["Masters Students' Consultative Forum","Stakeholder Engagement",null,"2023-12-07",null,"10:00:00","12:00:00","Y",10,{"$f":"WORKDAY(D65,-I65,'School closure days'!$B$2:$B$33)","v":"2023-11-23"},"Leonie Zeuner","L.Zeuner@lse.ac.uk"]
["Undergraduate Students Consultative Forum","Stakeholder Engagement",null,"2023-12-07",null,"14:00:00","16:00:00","Y",10,{"$f":"WORKDAY(D66,-I66,'School closure days'!$B$2:$B$33)","v":"2023-11-23"},"Leonie Zeuner","L.Zeuner@lse.ac.uk"]
["Ethics Committee","Council","Council","2023-12-12",2,"15:00:00","17:00:00","Y",10,{"$f":"WORKDAY(D67,-I67,'School closure days'!$B$2:$B$33)","v":"2023-11-28"},"Lyndsay Galpin","l.galpin@lse.ac.uk"]
["School closure",null,null,"2023-12-21"]
["School closure",null,null,"2023-12-22"]
["Bank holiday",null,null,"2023-12-25"]
["Bank holiday",null,null,"2023-12-26"]
["School closure",null,null,"2023-12-27"]
["School closure",null,null,"2023-12-28"]
["School closure",null,null,"2023-12-29"]
["Bank holiday",null,null,"2024-01-01"]
["APRC Agenda Committee","Academic Board","APRC","2024-01-08",null,"11:00:00","12:00:00","Y",10,{"$f":"WORKDAY(D76,-I76,'School closure days'!$B$2:$B$33)","v":"2023-12-13"},"Evert Nivari","e.a.nivari@lse.ac.uk"]
["Information Governance Management Board","SMC","SMC","2024-01-15",null,"13:00:00","15:00:00","Y",10,{"$f":"WORKDAY(Table1[[#This Row],[Date]],-I77,'School closure days'!$B$2:$B$33)","v":"2023-12-20"},"Rachael Maguire","r.e.maguire@lse.ac.uk"]
["Financial Management Board","SMC","SMC","2024-01-16",null,"11:00:00","12:30:00","Y",9,{"$f":"WORKDAY(D78,-I78,'School closure days'!$B$2:$B$33)","v":"2024-01-03"},"Chloe Parkin","c.l.parkin@lse.ac.uk"]
["Graduate Studies Sub Committee","Academic Board","Education Committee","2024-01-17",null,"14:00:00","17:00:00","Y",15,{"$f":"WORKDAY(D79,-I79,'School closure days'!$B$2:$B$33)","v":"2023-12-15"},"Janine Olding","j.olding@lse.ac.uk"]
["Undergraduate Studies Sub Committee","Academic Board","Education Committee","2024-01-17",null,"10:30:00","13:00:00","Y",15,{"$f":"WORKDAY(D80,-I80,'School closure days'!$B$2:$B$33)","v":"2023-12-15"},"Tom Hewlett","t.w.hewlett@lse.ac.uk"]
["APRC","Academic Board","AB","2024-01-23",null,"14:00:00","16:00:00","Y",10,{"$f":"WORKDAY(D81,-I81,'School closure days'!$B$2:$B$33)","v":"2024-01-09"},"Evert Nivari","e.a.nivari@lse.ac.uk"]
["Data and Technology Management Board ","SMC","SMC","2024-01-23",null,"14:00:00","15:45:00","Y",10,{"$f":"WORKDAY(D82,-I82,'School closure days'!$B$2:$B$33)","v":"2024-01-09"},"Louise Hatcher","l.hatcher@lse.ac.uk"]
["Education Committee","Academic Board","AB","2024-01-24",null,"14:00:00","16:30:00","Y",12,{"$f":"WORKDAY(D83,-I83,'School closure days'!$B$2:$B$33)","v":"2024-01-08"},"Tom Hewlett","t.w.hewlett@lse.ac.uk"]
["Audit Committee Awayday","Council","Council","2024-01-24",2,"10:00:00","13:00:00","Y",10,{"$f":"WORKDAY(D84,-I84,'School closure days'!$B$2:$B$33)","v":"2024-01-10"},"Katie Crystal","k.n.crystal@lse.ac.uk"]
["Estates Management Board","SMC","SMC","2024-01-24",null,"09:30:00","11:00:00","?",10,{"$f":"WORKDAY(D85,-I85,'School closure days'!$B$2:$B$33)","v":"2024-01-10"},"Davinder Ratra","d.s.ratra@lse.ac.uk"]
["Research Committee","Academic Board","AB","2024-01-24",null,"10:30:00","13:00:00","Y",10,{"$f":"WORKDAY(D86,-I86,'School closure days'!$B$2:$B$33)","v":"2024-01-10"},"Casimira Headley-Walker","c.headley-walker@lse.ac.uk"]
["HR Management Board","SMC","SMC","2024-01-25",null,"11:00:00","12:30:00","Y",10,{"$f":"WORKDAY(D87,-I87,'School closure days'!$B$2:$B$33)","v":"2024-01-11"},"Sugirtha Damadram ","s.damadram@lse.ac.uk"]
["APRC","Academic Board","AB","2024-01-25",null,"14:00:00","16:00:00","Y",10,{"$f":"WORKDAY(D88,-I88,'School closure days'!$B$2:$B$33)","v":"2024-01-11"},"Evert Nivari","e.a.nivari@lse.ac.uk"]
["Agenda Committee of the Academic Board","Academic Board","AB","2024-01-25",null,"12:00:00","14:00:00","Y",10,{"$f":"WORKDAY(D89,-I89,'School closure days'!$B$2:$B$33)","v":"2024-01-11"},"Lyndsay Galpin","l.galpin@lse.ac.uk"]
["Knowledge Exchange Framework Strategy Committee (KEFSC)","Academic Board","Research Committee","2024-01-29",null,"13:30:00","16:00:00","Y",10,{"$f":"WORKDAY(D90,-I90,'School closure days'!$B$2:$B$33)","v":"2024-01-15"},"Casimira Headley-Walker","c.headley-walker@lse.ac.uk"]
["APRC Agenda Committee","Academic Board","APRC","2024-01-29",null,"11:00:00","12:00:00","Y",10,{"$f":"WORKDAY(D91,-I91,'School closure days'!$B$2:$B$33)","v":"2024-01-15"},"Evert Nivari","e.a.nivari@lse.ac.uk"]
["Finance and Estates Committee","Council","Council","2024-01-30",2,"16:30:00","18:30:00","Y",10,{"$f":"WORKDAY(D92,-I92,'School closure days'!$B$2:$B$33)","v":"2024-01-16"},"Hilary Hunter","h.a.hunter@lse.ac.uk"]
["Departmental Tutors' Consultative Forum ","SSC",null,"2024-01-31",null,"14:00:00","16:00:00","Y",10,{"$f":"WORKDAY(D93,-I93,'School closure days'!$B$2:$B$33)","v":"2024-01-17"},"Chiara Milani","ssc.advice@lse.ac.uk"]
["Regulations, Policy and Standards Sub Committee","Academic Board","Education Committee","2024-01-31",null,"14:00:00","16:00:00","Y",10,{"$f":"WORKDAY(D94,-I94,'School closure days'!$B$2:$B$33)","v":"2024-01-17"},"Casey Hawkins","c.hawkins@lse.ac.uk"]
["Departmental Heads Forum","SMC","SMC","2024-02-01",null,"11:00:00","13;00","Y",10,{"$f":"WORKDAY(D95,-I95,'School closure days'!$B$2:$B$33)","v":"2024-01-18"},"Chloe Parkin","c.l.parkin@lse.ac.uk"]
["Governance Committee","Council","Council","2024-02-05",2,"14:30:00","16:30:00","Y",10,{"$f":"WORKDAY(D96,-I96,'School closure days'!$B$2:$B$33)","v":"2024-01-22"},"Hilary Hunter","h.a.hunter@lse.ac.uk"]
["Honorary Awards Committee","Council","Council","2024-02-12",2,"14:00:00","16:00:00","Y",10,{"$f":"WORKDAY(D97,-I97,'School closure days'!$B$2:$B$33)","v":"2024-01-29"},"Lyndsay Galpin","l.galpin@lse.ac.uk"]
["Audit Committee","Council","Council","2024-02-06",2,"15:30:00","17:30:00","Y",10,{"$f":"WORKDAY(D98,-I98,'School closure days'!$B$2:$B$33)","v":"2024-01-23"},"Katie Crystal","k.n.crystal@lse.ac.uk"]
["Student Experience Sub-Committee","Academic Board","Education Committee","2024-02-06",null,"13:00:00","16:30:00","Y",10,{"$f":"WORKDAY(D99,-I99,'School closure days'!$B$2:$B$33)","v":"2024-01-23"},"Jaffer Hussain","j.hussain3@lse.ac.uk"]
["Promotions Committee (Interim Reviews)","Academic Board","Appointments Committee","2024-02-07",null,"10:00:00","16:00:00","Y",10,{"$f":"WORKDAY(D100,-I100,'School closure days'!$B$2:$B$33)","v":"2024-01-24"},"Nikhil Kalghatgi","n.kalghatgi@lse.ac.uk"]
["Academic Board","Academic Board",null,"2024-02-07",2,"14:00:00","16:00:00","Y",19,{"$f":"WORKDAY(D101,-I101,'School closure days'!$B$2:$B$33)","v":"2024-01-11"},"Lyndsay Galpin","l.galpin@lse.ac.uk"]
["Research and Policy Staff Committee","Academic Board","Appointments Committee","2024-02-07",null,"10:30:00","12:30:00","Y",10,{"$f":"WORKDAY(D102,-I102,'School closure days'!$B$2:$B$33)","v":"2024-01-24"},"Meeta Bhatt","m.bhatt@lse.ac.uk"]
["Student town Hall","SMC",null,"2024-02-08",null,"15:00:00","17:00:00","Y","N/A",null,"Ali Annenberg","a.annenberg@lse.ac.uk"]
["APRC","Academic Board","AB","2024-02-13",null,"14:00:00","16:00:00","Y",10,{"$f":"WORKDAY(D104,-I104,'School closure days'!$B$2:$B$33)","v":"2024-01-30"},"Evert Nivari","e.a.nivari@lse.ac.uk"]
["International Programmes Board","Academic Board","Education Committee","2024-02-14",null,"10:00:00","12:00:00","Y",10,{"$f":"WORKDAY(D105,-I105,'School closure days'!$B$2:$B$33)","v":"2024-01-31"},"Jack  Wolvey","uolip@lse.ac.uk "]
["Staff town Hall","SMC",null,"2024-02-14",null,"10:30:00","12:30:00","Y","N/A",null,"Ali Annenberg","a.annenberg@lse.ac.uk"]
["REF Strategy Committee","Academic Board","Research Committee","2024-02-15",null,"10:00:00","11:30:00","Y",10,{"$f":"WORKDAY(D107,-I107,'School closure days'!$B$2:$B$33)","v":"2024-02-01"},"Casimira Headley-Walker","c.headley-walker@lse.ac.uk"]
["Student Numbers and Fees (SNAF) Group ","Academic Board","APRC","2024-02-15",null,"10:00:00","12:00:00","Y",10,{"$f":"WORKDAY(D108,-I108,'School closure days'!$B$2:$B$33)","v":"2024-02-01"},"Emily Jackson","e.jackson2@lse.ac.uk"]
["Council","Council",null,"2024-02-20",2,"15:00:00","18:00:00","Y",10,{"$f":"WORKDAY(D109,-I109,'School closure days'!$B$2:$B$33)","v":"2024-02-06"},"Hilary Hunter","h.a.hunter@lse.ac.uk"]
["Sustainability Leadership Board","SMC","SMC","2024-02-21",null,"15:30:00","17:00:00","Y",5,{"$f":"WORKDAY(D110,-I110,'School closure days'!$B$2:$B$33)","v":"2024-02-14"},"Sustainability Team","sustainability.team@lse.ac.uk"]
["Doctoral Programme Directors' Forum","Stakeholder Engagement",null,"2024-02-21",null,"14:00:00","16:00:00","Y",15,{"$f":"WORKDAY(D111,-I111,'School closure days'!$B$2:$B$33)","v":"2024-01-31"},"Matt Brack","m.brack@lse.ac.uk"]
["Research Ethics Committee","Academic Board","Research Committee","2024-02-28",null,"14:30:00","16:30:00","Y",10,{"$f":"WORKDAY(D112,-I112,'School closure days'!$B$2:$B$33)","v":"2024-02-14"},"Lyn Grove","l.grove@lse.ac.uk"]
["Joint Negotiating and Consultative Committee","HR",null,"2024-02-29",null,"14:30:00","16:00:00","Y",10,{"$f":"WORKDAY(D113,-I113,'School closure days'!$B$2:$B$33)","v":"2024-02-15"},"Elisabetta Viotto ","E.Viotto@lse.ac.uk"]
["Joint Negotiation, Information and Consultation Committee (JNICC)","HR",null,"2024-02-29",null,"12:30:00","14:30:00","Y",10,{"$f":"WORKDAY(D114,-I114,'School closure days'!$B$2:$B$33)","v":"2024-02-15"},"Elisabetta Viotto ","E.Viotto@lse.ac.uk"]
["Agenda Committee of the Academic Board","Academic Board","AB","2024-02-29",null,"12:00:00","14:00:00","Y",10,{"$f":"WORKDAY(D115,-I115,'School closure days'!$B$2:$B$33)","v":"2024-02-15"},"Lyndsay Galpin","l.galpin@lse.ac.uk"]
["APRC Agenda Committee","Academic Board","APRC","2024-03-04",null,"11:00:00","12:00:00","Y",10,{"$f":"WORKDAY(D116,-I116,'School closure days'!$B$2:$B$33)","v":"2024-02-19"},"Evert Nivari","e.a.nivari@lse.ac.uk"]
["Promotions Committee (Promotions)","Academic Board","Appointments Committee","2024-03-05",null,"10:00:00","16:00:00","Y",10,{"$f":"WORKDAY(D117,-I117,'School closure days'!$B$2:$B$33)","v":"2024-02-20"},"Nikhil Kalghatgi","n.kalghatgi@lse.ac.uk"]
["Financial Management Board","SMC","SMC","2024-03-05",null,"11:00:00","12:30:00","Y",7,{"$f":"WORKDAY(D118,-I118,'School closure days'!$B$2:$B$33)","v":"2024-02-23"},"Chloe Parkin","c.l.parkin@lse.ac.uk"]
["Research Degrees Sub Committee","Academic Board","Education Committee","2024-03-06",null,"14:00:00","16:00:00","Y",15,{"$f":"WORKDAY(D119,-I119,'School closure days'!$B$2:$B$33)","v":"2024-02-14"},"Pete Mills ","p.b.mills@lse.ac.uk"]
["Estates Management Board","SMC","SMC","2024-03-06",null,"09:30:00","11:00:00","Y",10,{"$f":"WORKDAY(D120,-I120,'School closure days'!$B$2:$B$33)","v":"2024-02-21"},"Davinder Ratra","d.s.ratra@lse.ac.uk"]
["Promotions Committee (Promotions)","Academic Board","Appointments Committee","2024-03-06",null,"10:00:00","16:00:00","Y",10,{"$f":"WORKDAY(D121,-I121,'School closure days'!$B$2:$B$33)","v":"2024-02-21"},"Nikhil Kalghatgi","n.kalghatgi@lse.ac.uk"]
["Research Committee","Academic Board","AB","2024-03-06",null,"10:30:00","13:00:00","Y",10,{"$f":"WORKDAY(D122,-I122,'School closure days'!$B$2:$B$33)","v":"2024-02-21"},"Casimira Headley-Walker","c.headley-walker@lse.ac.uk"]
["Academic Nominations Committee","Academic Board","AB","2024-03-06",null,"14:00:00","16:00:00","Y",10,{"$f":"WORKDAY(D123,-I123,'School closure days'!$B$2:$B$33)","v":"2024-02-21"},"Lyndsay Galpin","l.galpin@lse.ac.uk"]
["Promotions Committee (Promotions)","Academic Board","Appointments Committee","2024-03-07",null,"10:00:00","16:00:00","Y",10,{"$f":"WORKDAY(D124,-I124,'School closure days'!$B$2:$B$33)","v":"2024-02-22"},"Nikhil Kalghatgi","n.kalghatgi@lse.ac.uk"]
["Investments Sub-Committee","Council","Council","2024-03-12",3,"14:00:00","17:00:00","Y",10,{"$f":"WORKDAY(D125,-I125,'School closure days'!$B$2:$B$33)","v":"2024-02-27"},"Katie Crystal","k.n.crystal@lse.ac.uk"]
["Academic Board","Academic Board",null,"2024-03-13",3,"14:00:00","16:00:00","Y",19,{"$f":"WORKDAY(D126,-I126,'School closure days'!$B$2:$B$33)","v":"2024-02-15"},"Lyndsay Galpin","l.galpin@lse.ac.uk"]
["Departmental Heads Forum","SMC","SMC","2024-03-13",null,"10:00:00","12:00:00","Y",10,{"$f":"WORKDAY(D127,-I127,'School closure days'!$B$2:$B$33)","v":"2024-02-28"},"Chloe Parkin","c.l.parkin@lse.ac.uk"]
["Information Governance Management Board","SMC","SMC","2024-03-18",null,"13:00:00","15:00:00","Y",10,{"$f":"WORKDAY(Table1[[#This Row],[Date]],-I128,'School closure days'!$B$2:$B$33)","v":"2024-03-04"},"Rachael Maguire","r.e.maguire@lse.ac.uk"]
["APRC","Academic Board","AB","2024-03-19",null,"14:00:00","16:00:00","Y",10,{"$f":"WORKDAY(D129,-I129,'School closure days'!$B$2:$B$33)","v":"2024-03-05"},"Evert Nivari","e.a.nivari@lse.ac.uk"]
["Finance and Estates Committee","Council","Council","2024-03-19",3,"16:30:00","18:30:00","Y",10,{"$f":"WORKDAY(D130,-I130,'School closure days'!$B$2:$B$33)","v":"2024-03-05"},"Hilary Hunter","h.a.hunter@lse.ac.uk"]
["Graduate Studies Sub Committee","Academic Board","Education Committee","2024-03-20",null,"14:00:00","17:00:00","Y",15,{"$f":"WORKDAY(D131,-I131,'School closure days'!$B$2:$B$33)","v":"2024-02-28"},"Janine Olding","j.olding@lse.ac.uk"]
["Undergraduate Studies Sub Committee","Academic Board","Education Committee","2024-03-20",null,"10:30:00","13:00:00","Y",15,{"$f":"WORKDAY(D132,-I132,'School closure days'!$B$2:$B$33)","v":"2024-02-28"},"Tom Hewlett","t.w.hewlett@lse.ac.uk"]
["Research Students' Consultative Forum","Stakeholder Engagement",null,"2024-03-21",null,"14:00:00","16:00:00","Y",10,{"$f":"WORKDAY(D133,-I133,'School closure days'!$B$2:$B$33)","v":"2024-03-07"},"Leonie Zeuner","L.Zeuner@lse.ac.uk"]
["Education Committee","Academic Board","AB","2024-03-21",null,"14:00:00","16:30:00","Y",12,{"$f":"WORKDAY(D134,-I134,'School closure days'!$B$2:$B$33)","v":"2024-03-05"},"Tom Hewlett","t.w.hewlett@lse.ac.uk"]
["PhD Managers' Forum","Academic Board",null,"2024-03-26",null,"14:00:00","16:00:00","Y",10,{"$f":"WORKDAY(D135,-I135,'School closure days'!$B$2:$B$33)","v":"2024-03-12"},"Edlira Gjonca","e.gjonca@lse.ac.uk"]
["Promotions Committee (Promotions)","Academic Board","Appointments Committee","2024-03-27",null,"10:00:00","16:00:00","Y",10,{"$f":"WORKDAY(D136,-I136,'School closure days'!$B$2:$B$33)","v":"2024-03-13"},"Nikhil Kalghatgi","n.kalghatgi@lse.ac.uk"]
["Masters Students' Consultative Forum","Stakeholder Engagement",null,"2024-03-28",null,"10:00:00","12:00:00","Y",10,{"$f":"WORKDAY(D137,-I137,'School closure days'!$B$2:$B$33)","v":"2024-03-14"},"Leonie Zeuner","L.Zeuner@lse.ac.uk"]
["Undergraduate Students Consultative Forum","Stakeholder Engagement",null,"2024-03-28",null,"14:00:00","16:00:00","Y",10,{"$f":"WORKDAY(D138,-I138,'School closure days'!$B$2:$B$33)","v":"2024-03-14"},"Leonie Zeuner","L.Zeuner@lse.ac.uk"]
["Bank holiday",null,null,"2024-03-29"]
["Bank holiday",null,null,"2024-04-01"]
["School closure",null,null,"2024-04-02"]
["Estates Management Board","SMC","SMC","2024-04-03",null,"09:30:00","11:00:00","Y",10,{"$f":"WORKDAY(D142,-I142,'School closure days'!$B$2:$B$33)","v":"2024-03-15"},"Davinder Ratra","d.s.ratra@lse.ac.uk"]
["School closure",null,null,"2024-04-03"]
["School closure",null,null,"2024-04-04"]
["Remuneration Committee","Council","Council","2024-04-24",3,"12:30:00","14:30:00","Y",10,{"$f":"WORKDAY(D145,-I145,'School closure days'!$B$2:$B$33)","v":"2024-04-10"},"Hilary Hunter","h.a.hunter@lse.ac.uk"]
["Financial Management Board","SMC","SMC","2024-04-23",null,"11:00:00","12:30:00","Y",7,{"$f":"WORKDAY(D146,-I146,'School closure days'!$B$2:$B$33)","v":"2024-04-12"},"Chloe Parkin","c.l.parkin@lse.ac.uk"]
["Honorary Awards Committee","Council","Council","2024-04-23",3,"15:00:00","17:00:00","Y",10,{"$f":"WORKDAY(D147,-I147,'School closure days'!$B$2:$B$33)","v":"2024-04-09"},"Lyndsay Galpin","l.galpin@lse.ac.uk"]
["Research Committee","Academic Board","AB","2024-04-24",null,"10:30:00","13:00:00","Y",10,{"$f":"WORKDAY(D148,-I148,'School closure days'!$B$2:$B$33)","v":"2024-04-10"},"Casimira Headley-Walker","c.headley-walker@lse.ac.uk"]
["HR Management Board","SMC","SMC","2024-04-25",null,"11:00:00","12:30:00","Y",10,{"$f":"WORKDAY(D149,-I149,'School closure days'!$B$2:$B$33)","v":"2024-04-11"},"Sugirtha Damadram ","s.damadram@lse.ac.uk"]
["Data and Technology Management Board ","SMC","SMC","2024-04-25",null,"14:00:00","15:45:00","Y",10,{"$f":"WORKDAY(D150,-I150,'School closure days'!$B$2:$B$33)","v":"2024-04-11"},"Louise Hatcher","l.hatcher@lse.ac.uk"]
["Agenda Committee of the Academic Board","Academic Board","AB","2024-04-25",null,"12:00:00","14:00:00","Y",10,{"$f":"WORKDAY(D151,-I151,'School closure days'!$B$2:$B$33)","v":"2024-04-11"},"Lyndsay Galpin","l.galpin@lse.ac.uk"]
["APRC Agenda Committee","Academic Board","APRC","2024-04-29",null,"11:00:00","12:00:00","Y",10,{"$f":"WORKDAY(D152,-I152,'School closure days'!$B$2:$B$33)","v":"2024-04-15"},"Evert Nivari","e.a.nivari@lse.ac.uk"]
["Departmental Tutors' Consultative Forum ","SSC",null,"2024-05-01",null,"14:00:00","16:00:00","Y",10,{"$f":"WORKDAY(D153,-I153,'School closure days'!$B$2:$B$33)","v":"2024-04-17"},"Chiara Milani","ssc.advice@lse.ac.uk"]
["Doctoral Programme Directors' Forum","Stakeholder Engagement",null,"2024-05-01",null,"14:00:00","16:00:00","Y",10,{"$f":"WORKDAY(D154,-I154,'School closure days'!$B$2:$B$33)","v":"2024-04-17"},"Matt Brack","m.brack@lse.ac.uk"]
["Estates Management Board","SMC","SMC","2024-05-01",null,"09:30:00","11:00:00","Y",10,{"$f":"WORKDAY(D155,-I155,'School closure days'!$B$2:$B$33)","v":"2024-04-17"},"Davinder Ratra","d.s.ratra@lse.ac.uk"]
["Student Numbers and Fees (SNAF) Group ","Academic Board","APRC","2024-05-02",null,"10:00:00","12:00:00","Y",10,{"$f":"WORKDAY(D156,-I156,'School closure days'!$B$2:$B$33)","v":"2024-04-18"},"Emily Jackson","e.jackson2@lse.ac.uk"]
["Regulations, Policy and Standards Sub Committee","Academic Board","Education Committee","2024-05-02",null,"14:00:00","16:00:00","Y",10,{"$f":"WORKDAY(D157,-I157,'School closure days'!$B$2:$B$33)","v":"2024-04-18"},"Casey Hawkins","c.hawkins@lse.ac.uk"]
["Bank holiday",null,null,"2024-05-06"]
["Council","Council",null,"2024-05-07",3,"15:00:00","18:00:00","Y",10,{"$f":"WORKDAY(D159,-I159,'School closure days'!$B$2:$B$33)","v":"2024-04-22"},"Hilary Hunter","h.a.hunter@lse.ac.uk"]
["Academic Board","Academic Board",null,"2024-05-08",4,"14:00:00","16:00:00","Y",18,{"$f":"WORKDAY(D160,-I160,'School closure days'!$B$2:$B$33)","v":"2024-04-11"},"Lyndsay Galpin","l.galpin@lse.ac.uk"]
["Research and Policy Staff Committee","Academic Board","Appointments Committee","2024-05-08",null,"10:30:00","12:30:00","Y",10,{"$f":"WORKDAY(D161,-I161,'School closure days'!$B$2:$B$33)","v":"2024-04-23"},"Meeta Bhatt","m.bhatt@lse.ac.uk"]
["Departmental Heads Forum","SMC","SMC","2024-05-09",null,"10:00:00","12:00:00","Y",10,{"$f":"WORKDAY(D162,-I162,'School closure days'!$B$2:$B$33)","v":"2024-04-24"},"Chloe Parkin","c.l.parkin@lse.ac.uk"]
["APRC","Academic Board","AB","2024-05-14",null,"14:00:00","16:00:00","Y",10,{"$f":"WORKDAY(D163,-I163,'School closure days'!$B$2:$B$33)","v":"2024-04-29"},"Evert Nivari","e.a.nivari@lse.ac.uk"]
["Graduate Studies Sub Committee","Academic Board","Education Committee","2024-05-15",null,"14:00:00","17:00:00","Y",15,{"$f":"WORKDAY(D164,-I164,'School closure days'!$B$2:$B$33)","v":"2024-04-23"},"Janine Olding","j.olding@lse.ac.uk"]
["Promotions Committee (Review)","Academic Board","Appointments Committee","2024-05-15",null,"10:00:00","16:00:00","Y",10,{"$f":"WORKDAY(D165,-I165,'School closure days'!$B$2:$B$33)","v":"2024-04-30"},"Nikhil Kalghatgi","n.kalghatgi@lse.ac.uk"]
["Research Degrees Sub Committee","Academic Board","Education Committee","2024-05-15",null,"14:00:00","16:00:00","Y",15,{"$f":"WORKDAY(D166,-I166,'School closure days'!$B$2:$B$33)","v":"2024-04-23"},"Pete Mills ","p.b.mills@lse.ac.uk"]
["Undergraduate Studies Sub Committee","Academic Board","Education Committee","2024-05-15",null,"10:30:00","13:00:00","Y",15,{"$f":"WORKDAY(D167,-I167,'School closure days'!$B$2:$B$33)","v":"2024-04-23"},"Tom Hewlett","t.w.hewlett@lse.ac.uk"]
["Information Governance Management Board","SMC","SMC","2024-05-20",null,"13:00:00","15:00:00","Y",10,{"$f":"WORKDAY(Table1[[#This Row],[Date]],-I168,'School closure days'!$B$2:$B$33)","v":"2024-05-03"},"Rachael Maguire","r.e.maguire@lse.ac.uk"]
["REF Strategy Committee","Academic Board","Research Committee","2024-05-20",null,"14:00:00","15:30:00","Y",10,{"$f":"WORKDAY(D169,-I169,'School closure days'!$B$2:$B$33)","v":"2024-05-03"},"Casimira Headley-Walker","c.headley-walker@lse.ac.uk"]
["Staff town Hall","SMC",null,"2024-05-22",null,"10:30:00","12:30:00","Y","N/A",null,"Ali Annenberg","a.annenberg@lse.ac.uk"]
["Education Committee","Academic Board","AB","2024-05-22",null,"14:00:00","16:30:00","Y",12,{"$f":"WORKDAY(D171,-I171,'School closure days'!$B$2:$B$33)","v":"2024-05-03"},"Tom Hewlett","t.w.hewlett@lse.ac.uk"]
["Agenda Committee of the Academic Board","Academic Board","AB","2024-05-23",null,"14:00:00","16:00:00","Y",10,{"$f":"WORKDAY(D172,-I172,'School closure days'!$B$2:$B$33)","v":"2024-05-09"},"Lyndsay Galpin","l.galpin@lse.ac.uk"]
["Bank holiday",null,null,"2024-05-27"]
["Financial Management Board","SMC","SMC","2024-05-28",null,"11:00:00","12:30:00","Y",7,{"$f":"WORKDAY(D174,-I174,'School closure days'!$B$2:$B$33)","v":"2024-05-16"},"Chloe Parkin","c.l.parkin@lse.ac.uk"]
["Investments Sub-Committee","Council","Council","2024-05-28",4,"14:00:00","17:00:00","Y",10,{"$f":"WORKDAY(D175,-I175,'School closure days'!$B$2:$B$33)","v":"2024-05-13"},"Katie Crystal","k.n.crystal@lse.ac.uk"]
["International Programmes Board","Academic Board","Education Committee","2024-05-29",null,"10:00:00","12:00:00","Y",10,{"$f":"WORKDAY(D176,-I176,'School closure days'!$B$2:$B$33)","v":"2024-05-14"},"Jack  Wolvey","uolip@lse.ac.uk "]
["APRC Agenda Committee","Academic Board","APRC","2024-05-29",null,"11:00:00","12:00:00","Y",10,{"$f":"WORKDAY(D177,-I177,'School closure days'!$B$2:$B$33)","v":"2024-05-14"},"Evert Nivari","e.a.nivari@lse.ac.uk"]
["Graduate Studies Sub Committee","Academic Board","Education Committee","2024-05-29",null,"14:00:00","17:00:00","Y",24,{"$f":"WORKDAY(D178,-I178,'School closure days'!$B$2:$B$33)","v":"2024-04-23"},"Janine Olding","j.olding@lse.ac.uk"]
["Ethics Committee","Council","Council","2024-06-04",4,"15:00:00","17:00:00","Y",10,{"$f":"WORKDAY(D179,-I179,'School closure days'!$B$2:$B$33)","v":"2024-05-20"},"Lyndsay Galpin","l.galpin@lse.ac.uk"]
["Student Experience Sub-Committee","Academic Board","Education Committee","2024-06-04",null,"13:00:00","16:30:00","Y",10,{"$f":"WORKDAY(D180,-I180,'School closure days'!$B$2:$B$33)","v":"2024-05-20"},"Jaffer Hussain","j.hussain3@lse.ac.uk"]
["Estates Management Board","SMC","SMC","2024-06-05",null,"09:30:00","11:00:00","Y",10,{"$f":"WORKDAY(D181,-I181,'School closure days'!$B$2:$B$33)","v":"2024-05-21"},"Davinder Ratra","d.s.ratra@lse.ac.uk"]
["Academic Board","Academic Board",null,"2024-06-05",4,"14:00:00","16:00:00","Y",18,{"$f":"WORKDAY(D182,-I182,'School closure days'!$B$2:$B$33)","v":"2024-05-09"},"Lyndsay Galpin","l.galpin@lse.ac.uk"]
["Professional Services Staff Contribution Group","SMC","HR Management Board","2024-06-05",null,"09:30:00","12:30:00","Y",10,{"$f":"WORKDAY(D183,-I183,'School closure days'!$B$2:$B$33)","v":"2024-05-21"},"Seema Haria","HR.Reward@lse.ac.uk"]
["Governance Committee","Council","Council","2024-06-10",4,"14:30:00","16:30:00","Y",10,{"$f":"WORKDAY(D184,-I184,'School closure days'!$B$2:$B$33)","v":"2024-05-24"},"Hilary Hunter","h.a.hunter@lse.ac.uk"]
["Knowledge Exchange Framework Strategy Committee (KEFSC)","Academic Board","Research Committee","2024-06-10",null,"13:30:00","16:00:00","Y",10,{"$f":"WORKDAY(D185,-I185,'School closure days'!$B$2:$B$33)","v":"2024-05-24"},"Casimira Headley-Walker","c.headley-walker@lse.ac.uk"]
["APRC","Academic Board","AB","2024-06-11",null,"14:00:00","16:00:00","Y",10,{"$f":"WORKDAY(D186,-I186,'School closure days'!$B$2:$B$33)","v":"2024-05-28"},"Evert Nivari","e.a.nivari@lse.ac.uk"]
["Finance and Estates Committee","Council","Council","2024-06-11",4,"16:30:00","18:30:00","Y",10,{"$f":"WORKDAY(D187,-I187,'School closure days'!$B$2:$B$33)","v":"2024-05-28"},"Hilary Hunter","h.a.hunter@lse.ac.uk"]
["Research Ethics Committee","Academic Board","Research Committee","2024-06-12",null,"14:30:00","16:30:00","Y",10,{"$f":"WORKDAY(D188,-I188,'School closure days'!$B$2:$B$33)","v":"2024-05-29"},"Lyn Grove","l.grove@lse.ac.uk"]
["Audit Committee","Council","Council","2024-06-12",4,"15:30:00","17:30:00","Y",10,{"$f":"WORKDAY(D189,-I189,'School closure days'!$B$2:$B$33)","v":"2024-05-29"},"Katie Crystal","k.n.crystal@lse.ac.uk"]
["Appointments Committee","Academic Board","Academic Board","2024-06-12",null,"14:00:00","16:00:00","Y",10,{"$f":"WORKDAY(D190,-I190,'School closure days'!$B$2:$B$33)","v":"2024-05-29"},"Nikhil Kalghatgi","n.kalghatgi@lse.ac.uk"]
["Departmental Heads Forum","SMC","SMC","2024-06-12",null,"10:00:00","12:00:00","Y",10,{"$f":"WORKDAY(D191,-I191,'School closure days'!$B$2:$B$33)","v":"2024-05-29"},"Chloe Parkin","c.l.parkin@lse.ac.uk"]
["Joint Negotiating and Consultative Committee","HR",null,"2024-06-13",null,"14:30:00","16:00:00","Y",10,{"$f":"WORKDAY(D192,-I192,'School closure days'!$B$2:$B$33)","v":"2024-05-30"},"Elisabetta Viotto ","E.Viotto@lse.ac.uk"]
["Joint Negotiation, Information and Consultation Committee (JNICC)","HR",null,"2024-06-13",null,"12:30:00","14:30:00","Y",10,{"$f":"WORKDAY(D193,-I193,'School closure days'!$B$2:$B$33)","v":"2024-05-30"},"Elisabetta Viotto ","E.Viotto@lse.ac.uk"]
["Remuneration Committee","Council","Council","2024-06-18",4,"12:30:00","14:30:00","N",10,{"$f":"WORKDAY(D194,-I194,'School closure days'!$B$2:$B$33)","v":"2024-06-04"},"Hilary Hunter","h.a.hunter@lse.ac.uk"]
["Academic Staff Reward Committee","SMC","HR Management Board","2024-06-19",null,"09:00:00","18:00:00","Y",10,{"$f":"WORKDAY(D195,-I195,'School closure days'!$B$2:$B$33)","v":"2024-06-05"},"Seema Haria","HR.Reward@lse.ac.uk"]
["Sustainability Leadership Board","SMC","SMC","2024-06-20",null,"15:30:00","17:00:00","Y",5,{"$f":"WORKDAY(D196,-I196,'School closure days'!$B$2:$B$33)","v":"2024-06-13"},"Sustainability Team","sustainability.team@lse.ac.uk"]
["Council","Council",null,"2024-06-25",4,"15:00:00","18:00:00","Y",10,{"$f":"WORKDAY(D197,-I197,'School closure days'!$B$2:$B$33)","v":"2024-06-11"},"Hilary Hunter","h.a.hunter@lse.ac.uk"]
["Council dinner","Council",null,"2024-06-25",4,"18:00:00","21:00:00","Y",10,{"$f":"WORKDAY(D198,-I198,'School closure days'!$B$2:$B$33)","v":"2024-06-11"},"Hilary Hunter","h.a.hunter@lse.ac.uk"]
["Research Committee","Academic Board","AB","2024-06-26",null,"10:00:00","13:00:00","Y",10,{"$f":"WORKDAY(D199,-I199,'School closure days'!$B$2:$B$33)","v":"2024-06-12"},"Casimira Headley-Walker","c.headley-walker@lse.ac.uk"]
["HR Management Board","SMC","SMC","2024-06-27",null,"11:00:00","12:30:00","Y",10,{"$f":"WORKDAY(D200,-I200,'School closure days'!$B$2:$B$33)","v":"2024-06-13"},"Sugirtha Damadram ","s.damadram@lse.ac.uk"]
["Estates Management Board","SMC","SMC","2024-07-03",null,"09:30:00","11:00:00","Y",10,{"$f":"WORKDAY(D201,-I201,'School closure days'!$B$2:$B$33)","v":"2024-06-19"},"Davinder Ratra","d.s.ratra@lse.ac.uk"]
["Information Governance Management Board","SMC","SMC","2024-07-15",null,"13:00:00","15:00:00","Y",10,{"$f":"WORKDAY(Table1[[#This Row],[Date]],-I202,'School closure days'!$B$2:$B$33)","v":"2024-07-01"},"Rachael Maguire","r.e.maguire@lse.ac.uk"]
["Data and Technology Management Board ","SMC","SMC","2024-07-22",null,"14:00:00","15:45:00","Y",10,{"$f":"WORKDAY(D203,-I203,'School closure days'!$B$2:$B$33)","v":"2024-07-08"},"Louise Hatcher","l.hatcher@lse.ac.uk"]
["Estates Management Board","SMC","SMC","2024-08-07",null,"09:30:00","11:00:00","Y",10,{"$f":"WORKDAY(D204,-I204,'School closure days'!$B$2:$B$33)","v":"2024-07-24"},"Davinder Ratra","d.s.ratra@lse.ac.uk"]
["Bank holiday",null,null,"2024-08-26"]
["Estates Management Board","SMC","SMC","2024-09-04",null,"09:30:00","11:00:00","Y",10,{"$f":"WORKDAY(D206,-I206,'School closure days'!$B$2:$B$33)","v":"2024-08-20"},"Davinder Ratra","d.s.ratra@lse.ac.uk"]
["Information Governance Management Board","SMC","SMC","2024-09-16",null,"13:00:00","15:00:00","Y",10,{"$f":"WORKDAY(Table1[[#This Row],[Date]],-I207,'School closure days'!$B$2:$B$33)","v":"2024-09-02"},"Rachael Maguire","r.e.maguire@lse.ac.uk"]
["Audit Committee","Council","Council","2024-09-24",5,"15:30:00","17:30:00","Y",10,{"$f":"WORKDAY(D208,-I208,'School closure days'!$B$2:$B$33)","v":"2024-09-10"},"Katie Crystal","k.n.crystal@lse.ac.uk"]
["Council Awayday","Council",null,"2024-10-01",5,"09:00:00","21:00:00","Y",10,{"$f":"WORKDAY(D209,-I209,'School closure days'!$B$2:$B$33)","v":"2024-09-17"},"Hilary Hunter","h.a.hunter@lse.ac.uk"]
["Estates Management Board","SMC","SMC","2024-10-02",null,"09:30:00","11:00:00","Y",10,{"$f":"WORKDAY(D210,-I210,'School closure days'!$B$2:$B$33)","v":"2024-09-18"},"Davinder Ratra","d.s.ratra@lse.ac.uk"]
["Honorary Awards Committee","Council","Council","2024-10-08",5,"15:00:00","17:00:00","Y",10,{"$f":"WORKDAY(D211,-I211,'School closure days'!$B$2:$B$33)","v":"2024-09-24"},"Lyndsay Galpin","l.galpin@lse.ac.uk"]
["Investments Sub-Committee","Council","Council","2024-10-14",5,"14:00:00","17:00:00","Y",10,{"$f":"WORKDAY(D212,-I212,'School closure days'!$B$2:$B$33)","v":"2024-09-30"},"Katie Crystal","k.n.crystal@lse.ac.uk"]
["Academic Board","Academic Board",null,"2024-10-23",5,"14:00:00","16:00:00","Y",20,{"$f":"WORKDAY(D213,-I213,'School closure days'!$B$2:$B$33)","v":"2024-09-25"},"Lyndsay Galpin","l.galpin@lse.ac.uk"]
["Remuneration Committee","Council","Council","2024-10-31",5,"15:00:00","17:00:00","Y",10,{"$f":"WORKDAY(D214,-I214,'School closure days'!$B$2:$B$33)","v":"2024-10-17"},"Hilary Hunter","h.a.hunter@lse.ac.uk"]
["Data and Technology Management Board ","SMC","SMC","2024-10-31",null,"10:00:00","11:45:00","Y",10,{"$f":"WORKDAY(D215,-I215,'School closure days'!$B$2:$B$33)","v":"2024-10-17"},"Louise Hatcher","l.hatcher@lse.ac.uk"]
["Governance Committee","Council","Council","2024-11-01",5,"15:00:00","17:00:00","Y",10,{"$f":"WORKDAY(D216,-I216,'School closure days'!$B$2:$B$33)","v":"2024-10-18"},"Hilary Hunter","h.a.hunter@lse.ac.uk"]
["Finance and Estates Committee","Council","Council","2024-11-04",5,"16:30:00","18:30:00","Y",10,{"$f":"WORKDAY(D217,-I217,'School closure days'!$B$2:$B$33)","v":"2024-10-21"},"Hilary Hunter","h.a.hunter@lse.ac.uk"]
["Audit Committee","Council","Council","2024-11-05",5,"15:30:00","17:30:00","Y",10,{"$f":"WORKDAY(D218,-I218,'School closure days'!$B$2:$B$33)","v":"2024-10-22"},"Katie Crystal","k.n.crystal@lse.ac.uk"]
["Estates Management Board","SMC","SMC","2024-11-06",null,"09:30:00","11:00:00","Y",10,{"$f":"WORKDAY(D219,-I219,'School closure days'!$B$2:$B$33)","v":"2024-10-23"},"Davinder Ratra","d.s.ratra@lse.ac.uk"]
["Information Governance Management Board","SMC","SMC","2024-11-18",null,"13:00:00","15:00:00","Y",10,{"$f":"WORKDAY(Table1[[#This Row],[Date]],-I220,'School closure days'!$B$2:$B$33)","v":"2024-11-04"},"Rachael Maguire","r.e.maguire@lse.ac.uk"]
["Council","Council",null,"2024-11-19",5,"15:00:00","18:00:00","Y",10,{"$f":"WORKDAY(D221,-I221,'School closure days'!$B$2:$B$33)","v":"2024-11-05"},"Hilary Hunter","h.a.hunter@lse.ac.uk"]
["Academic Board","Academic Board",null,"2024-11-27",6,"14:00:00","16:00:00","Y",20,{"$f":"WORKDAY(D222,-I222,'School closure days'!$B$2:$B$33)","v":"2024-10-30"},"Lyndsay Galpin","l.galpin@lse.ac.uk"]
["Estates Management Board","SMC","SMC","2024-12-04",null,"09:30:00","11:00:00","Y",10,{"$f":"WORKDAY(D223,-I223,'School closure days'!$B$2:$B$33)","v":"2024-11-20"},"Davinder Ratra","d.s.ratra@lse.ac.uk"]
["Ethics Committee","Council","Council","2024-12-10",6,"15:00:00","17:00:00","Y",10,{"$f":"WORKDAY(D224,-I224,'School closure days'!$B$2:$B$33)","v":"2024-11-26"},"Lyndsay Galpin","l.galpin@lse.ac.uk"]
["School closure",null,null,"2024-12-23"]
["School closure",null,null,"2024-12-24"]
["Bank holiday",null,null,"2024-12-25"]
["Bank holiday",null,null,"2024-12-26"]
["School closure",null,null,"2024-12-27"]
["School closure",null,null,"2024-12-30"]
["School closure",null,null,"2024-12-31"]
["Bank holiday",null,null,"2025-01-01"]
["Information Governance Management Board","SMC","SMC","2025-01-20",null,"13:00:00","15:00:00","Y",10,{"$f":"WORKDAY(Table1[[#This Row],[Date]],-I233,'School closure days'!$B$2:$B$33)","v":"2025-01-06"},"Rachael Maguire","r.e.maguire@lse.ac.uk"]
["Audit Committee Awayday","Council","Council","2025-01-22",6,"10:00:00","13:00:00","Y",10,{"$f":"WORKDAY(D234,-I234,'School closure days'!$B$2:$B$33)","v":"2025-01-08"},"Katie Crystal","k.n.crystal@lse.ac.uk"]
["Finance and Estates Committee","Council","Council","2025-01-28",6,"16:30:00","18:30:00","Y",10,{"$f":"WORKDAY(D235,-I235,'School closure days'!$B$2:$B$33)","v":"2025-01-14"},"Hilary Hunter","h.a.hunter@lse.ac.uk"]
["Governance Committee","Council","Council","2025-02-03",6,"14:30:00","16:30:00","Y",10,{"$f":"WORKDAY(D236,-I236,'School closure days'!$B$2:$B$33)","v":"2025-01-20"},"Hilary Hunter","h.a.hunter@lse.ac.uk"]
["Honorary Awards Committee","Council","Council","2025-02-04",6,"15:00:00","17:00:00","Y",10,{"$f":"WORKDAY(D237,-I237,'School closure days'!$B$2:$B$33)","v":"2025-01-21"},"Lyndsay Galpin","l.galpin@lse.ac.uk"]
["Audit Committee","Council","Council","2025-02-04",6,"15:30:00","17:30:00","Y",10,{"$f":"WORKDAY(D238,-I238,'School closure days'!$B$2:$B$33)","v":"2025-01-21"},"Katie Crystal","k.n.crystal@lse.ac.uk"]
["Academic Board","Academic Board",null,"2025-02-05",6,"14:00:00","16:00:00","Y",20,{"$f":"WORKDAY(D239,-I239,'School closure days'!$B$2:$B$33)","v":"2025-01-08"},"Lyndsay Galpin","l.galpin@lse.ac.uk"]
["Council","Council",null,"2025-02-18",6,"15:00:00","18:00:00","Y",10,{"$f":"WORKDAY(D240,-I240,'School closure days'!$B$2:$B$33)","v":"2025-02-04"},"Hilary Hunter","h.a.hunter@lse.ac.uk"]
["Investments Sub-Committee","Council","Council","2025-03-11",7,"14:00:00","17:00:00","Y",10,{"$f":"WORKDAY(D241,-I241,'School closure days'!$B$2:$B$33)","v":"2025-02-25"},"Katie Crystal","k.n.crystal@lse.ac.uk"]
["Academic Board","Academic Board",null,"2025-03-12",7,"14:00:00","16:00:00","Y",20,{"$f":"WORKDAY(D242,-I242,'School closure days'!$B$2:$B$33)","v":"2025-02-12"},"Lyndsay Galpin","l.galpin@lse.ac.uk"]
["Information Governance Management Board","SMC","SMC","2025-03-17",null,"13:00:00","15:00:00","Y",10,{"$f":"WORKDAY(Table1[[#This Row],[Date]],-I243,'School closure days'!$B$2:$B$33)","v":"2025-03-03"},"Rachael Maguire","r.e.maguire@lse.ac.uk"]
["Finance and Estates Committee","Council","Council","2025-03-18",7,"16:30:00","18:30:00","Y",10,{"$f":"WORKDAY(D244,-I244,'School closure days'!$B$2:$B$33)","v":"2025-03-04"},"Hilary Hunter","h.a.hunter@lse.ac.uk"]
["Remuneration Committee","Council","Council","2025-04-08",7,"12:30:00","14:30:00","Y",10,{"$f":"WORKDAY(D245,-I245,'School closure days'!$B$2:$B$33)","v":"2025-03-25"},"Hilary Hunter","h.a.hunter@lse.ac.uk"]
["Honorary Awards Committee","Council","Council","2025-04-08",7,"15:00:00","17:00:00","Y",10,{"$f":"WORKDAY(D246,-I246,'School closure days'!$B$2:$B$33)","v":"2025-03-25"},"Lyndsay Galpin","l.galpin@lse.ac.uk"]
["School closure",null,null,"2025-04-17"]
["Bank holiday",null,null,"2025-04-18"]
["Bank holiday",null,null,"2025-04-21"]
["School closure",null,null,"2025-04-22"]
["School closure",null,null,"2025-04-23"]
["Council","Council",null,"2025-05-06",7,"15:00:00","18:00:00","Y",10,{"$f":"WORKDAY(D252,-I252,'School closure days'!$B$2:$B$33)","v":"2025-04-14"},"Hilary Hunter","h.a.hunter@lse.ac.uk"]
["Academic Board","Academic Board",null,"2025-05-07",8,"14:00:00","16:00:00","Y",20,{"$f":"WORKDAY(D253,-I253,'School closure days'!$B$2:$B$33)","v":"2025-04-01"},"Lyndsay Galpin","l.galpin@lse.ac.uk"]
["Information Governance Management Board","SMC","SMC","2025-05-19",null,"13:00:00","15:00:00","Y",10,{"$f":"WORKDAY(Table1[[#This Row],[Date]],-I254,'School closure days'!$B$2:$B$33)","v":"2025-05-02"},"Rachael Maguire","r.e.maguire@lse.ac.uk"]
["Bank holiday",null,null,"2025-05-26"]
["Investments Sub-Committee","Council","Council","2025-05-27",8,"14:00:00","17:00:00","Y",10,{"$f":"WORKDAY(D256,-I256,'School closure days'!$B$2:$B$33)","v":"2025-05-12"},"Katie Crystal","k.n.crystal@lse.ac.uk"]
["Ethics Committee","Council","Council","2025-06-03",8,"15:00:00","17:00:00","Y",10,{"$f":"WORKDAY(D257,-I257,'School closure days'!$B$2:$B$33)","v":"2025-05-19"},"Lyndsay Galpin","l.galpin@lse.ac.uk"]
["Academic Board","Academic Board",null,"2025-06-04",8,"14:00:00","16:00:00","Y",20,{"$f":"WORKDAY(D258,-I258,'School closure days'!$B$2:$B$33)","v":"2025-05-06"},"Lyndsay Galpin","l.galpin@lse.ac.uk"]
["Bank holiday",null,null,"2025-06-05"]
["Governance Committee","Council","Council","2025-06-09",8,"14:30:00","16:30:00","Y",10,{"$f":"WORKDAY(D260,-I260,'School closure days'!$B$2:$B$33)","v":"2025-05-23"},"Hilary Hunter","h.a.hunter@lse.ac.uk"]
["Finance and Estates Committee","Council","Council","2025-06-10",8,"16:30:00","18:30:00","Y",10,{"$f":"WORKDAY(D261,-I261,'School closure days'!$B$2:$B$33)","v":"2025-05-27"},"Hilary Hunter","h.a.hunter@lse.ac.uk"]
["Audit Committee","Council","Council","2025-06-11",8,"15:30:00","17:30:00","Y",10,{"$f":"WORKDAY(D262,-I262,'School closure days'!$B$2:$B$33)","v":"2025-05-28"},"Katie Crystal","k.n.crystal@lse.ac.uk"]
["Remuneration Committee","Council","Council","2025-06-17",8,"12:30:00","14:30:00","Y",10,{"$f":"WORKDAY(D263,-I263,'School closure days'!$B$2:$B$33)","v":"2025-06-03"},"Hilary Hunter","h.a.hunter@lse.ac.uk"]
["Council","Council",null,"2025-06-24",8,"15:00:00","18:00:00","Y",10,{"$f":"WORKDAY(D264,-I264,'School closure days'!$B$2:$B$33)","v":"2025-06-10"},"Hilary Hunter","h.a.hunter@lse.ac.uk"]
["Council dinner","Council",null,"2025-06-24",8,"18:00:00","21:00:00","Y",null,{"$f":"WORKDAY(D265,-I265,'School closure days'!$B$2:$B$33)","v":"2025-06-24"},"Hilary Hunter","h.a.hunter@lse.ac.uk"]
["Information Governance Management Board","SMC","SMC","2025-07-21",null,"13:00:00","15:00:00","Y",10,{"$f":"WORKDAY(Table1[[#This Row],[Date]],-I266,'School closure days'!$B$2:$B$33)","v":"2025-07-07"},"Rachael Maguire","r.e.maguire@lse.ac.uk"]

{"sheet":"School closure days","index":1,"n_rows":33,"n_cols":3,"rows_kept":33,"cut":false,"hidden":false,"merged":[]}
["Year","Date","Type of holiday"]
["2023/2024","2023-08-28","Bank holiday"]
["2023/2024","2023-12-21","School closure"]
["2023/2024","2023-12-22","School closure"]
["2023/2024","2023-12-25","Bank holiday"]
["2023/2024","2023-12-26","Bank holiday"]
["2023/2024","2023-12-27","School closure"]
["2023/2024","2023-12-28","School closure"]
["2023/2024","2023-12-29","School closure"]
["2023/2024","2024-01-01","Bank holiday"]
["2023/2024","2024-03-29","Bank holiday"]
["2023/2024","2024-04-01","Bank holiday"]
["2023/2024","2024-04-02","School closure"]
["2023/2024","2024-04-03","School closure"]
["2023/2024","2024-04-04","School closure"]
["2023/2024","2024-05-06","Bank holiday"]
["2023/2024","2024-05-27","Bank holiday"]
["2024/2025","2024-08-26","Bank holiday"]
["2024/2025","2024-12-23","School closure"]
["2024/2025","2024-12-24","School closure"]
["2024/2025","2024-12-25","Bank holiday"]
["2024/2025","2024-12-26","Bank holiday"]
["2024/2025","2024-12-27","School closure"]
["2024/2025","2024-12-30","School closure"]
["2024/2025","2024-12-31","School closure"]
["2024/2025","2025-01-01","Bank holiday"]
["2024/2025","2025-04-17","School closure"]
["2024/2025","2025-04-18","Bank holiday"]
["2024/2025","2025-04-21","Bank holiday"]
["2024/2025","2025-04-22","School closure"]
["2024/2025","2025-04-23","School closure"]
["2024/2025","2025-05-05","Bank holiday"]
["2024/2025","2025-05-26","Bank holiday"]