{"text_format":"1","workbook":"xlsx","n_sheets":2,"sheets":["2024-25 Planner","School closure days"],"not_rendered":{"charts":0,"images":0,"macros":1,"external_links":0,"defined_names":3,"comments":0,"pivot_tables":0},"unopened":[],"bounds":{"document_bytes":16777216,"sheet_cells":100000,"rows_first":2000,"rows_last":500,"rows_between":2000,"halvings":0,"cell_chars":16384,"cell_head_chars":4096},"cells_cut":0,"cells_raw":0,"read":"whole","date_system":"1900"}

{"sheet":"2024-25 Planner","index":0,"n_rows":277,"n_cols":14,"rows_kept":277,"cut":false,"hidden":false,"merged":[]}
["Committee","Area ","Reports to","Date","Cycle","Start","End","Confirmed","Deadline days","Deadline date","Secretary /Organiser","Email",{"$f":"\"This calendar was last updated on \" & TEXT((LastModified),\"dd mmmm yyy\")","v":{"$error":"#NAME?"}}]
["Estates Management Board","SMC","SMC","2024-07-31",null,"09:30:00","11:00:00","Y",10,{"$f":"WORKDAY(D2,-I2,'School closure days'!$B$2:$B$17)","v":"2024-07-17"},"Davinder Ratra","d.s.ratra@lse.ac.uk",{"$f":"N2","v":45869},"2025-07-31"]
["Bank holiday",null,null,"2024-08-26",null,null,null,null,null,null,null,null,{"$f":"N3","v":46235},"2026-08-01"]
["Estates Management Board","SMC","SMC","2024-09-04",null,"09:30:00","11:00:00","Y",10,{"$f":"WORKDAY(D4,-I4,'School closure days'!$B$2:$B$17)","v":"2024-08-20"},"Davinder Ratra","d.s.ratra@lse.ac.uk"]
["Information Governance Management Board","SMC","SMC","2024-09-16",null,"13:00:00","15:00:00","Y",10,{"$f":"WORKDAY(D5,-I5,'School closure days'!$B$2:$B$17)","v":"2024-09-02"},"Monica Haile-Selassie","m.haile-selassie@lse.ac.uk"]
["APRC Agenda Committee","Academic Board","APRC","2024-09-23",null,"11:00:00","11:30:00","Y",10,{"$f":"WORKDAY(D6,-I6,'School closure days'!$B$2:$B$17)","v":"2024-09-09"},"Evert Nivari","e.a.nivari@lse.ac.uk"]
["Audit Committee","Council","Council","2024-09-24",1,"15:30:00","17:30:00","Y",10,{"$f":"WORKDAY(D7,-I7,'School closure days'!$B$2:$B$17)","v":"2024-09-10"},"Katie Crystal","k.n.crystal@lse.ac.uk"]
["External Funding Ethical Review Board Information Event","SMC","SMC","2024-09-25",null,"15:00:00","17:00:00","Y",null,null,null,"l.galpin@lse.ac.uk"]
["Council Awayday","Council",null,"2024-10-01",1,"09:00:00","21:00:00","Y",10,{"$f":"WORKDAY(D9,-I9,'School closure days'!$B$2:$B$17)","v":"2024-09-17"},"Hilary Hunter","h.a.hunter@lse.ac.uk"]
["Promotions Committee (Induction for new members)","Academic Board","Appointments Committee","2024-10-02",null,"10:00:00","12:00:00","Y",10,{"$f":"WORKDAY(D10,-I10,'School closure days'!$B$2:$B$17)","v":"2024-09-18"},"Nikhil Kalghatgi","n.kalghatgi@lse.ac.uk"]
["Graduate Studies Sub Committee","Academic Board","Education Committee","2024-10-02",null,"14:00:00","17:00:00","Y",15,{"$f":"WORKDAY(D11,-I11,'School closure days'!$B$2:$B$17)","v":"2024-09-11"},"Janine Olding","j.olding@lse.ac.uk"]
["Undergraduate Studies Sub Committee","Academic Board","Education Committee","2024-10-02",null,"10:30:00","13:00:00","Y",15,{"$f":"WORKDAY(D12,-I12,'School closure days'!$B$2:$B$17)","v":"2024-09-11"},"Tom Hewlett","t.w.hewlett@lse.ac.uk"]
["Knowledge Exchange Framework Strategy Committee (KEFSC)","Academic Board","Research Committee","2024-10-02",null,"14:00:00","16:00:00","Y",10,{"$f":"WORKDAY(D13,-I13,'School closure days'!$B$2:$B$17)","v":"2024-09-18"},"Casimira Headley-Walker","c.headley-walker@lse.ac.uk"]
["HR Management Board","SMC","SMC","2024-10-03",null,"11:00:00","12:30:00","Y",10,{"$f":"WORKDAY(D14,-I14,'School closure days'!$B$2:$B$17)","v":"2024-09-19"},"Sugirtha Damadram ","s.damadram@lse.ac.uk"]
["APRC","Academic Board","AB","2024-10-15",null,"14:00:00","16:00:00","Y",10,{"$f":"WORKDAY(D15,-I15,'School closure days'!$B$2:$B$17)","v":"2024-10-01"},"Evert Nivari","e.a.nivari@lse.ac.uk"]
["Honorary Awards Committee","Council","Council","2024-10-08",1,"15:00:00","17:00:00","Y",10,{"$f":"WORKDAY(D16,-I16,'School closure days'!$B$2:$B$17)","v":"2024-09-24"},"Lyndsay Galpin","l.galpin@lse.ac.uk"]
["Research Committee","Academic Board","AB","2024-10-09",null,"14:00:00","16:30:00","Y",10,{"$f":"WORKDAY(D17,-I17,'School closure days'!$B$2:$B$17)","v":"2024-09-25"},"Casimira Headley-Walker","c.headley-walker@lse.ac.uk"]
["Estates Management Board","SMC","SMC","2024-10-09",null,"09:30:00","11:00:00","Y",10,{"$f":"WORKDAY(D18,-I18,'School closure days'!$B$2:$B$17)","v":"2024-09-25"},"Davinder Ratra","d.s.ratra@lse.ac.uk"]
["Agenda Committee of the Academic Board","Academic Board","AB","2024-10-10",null,"12:30:00","14:30:00","Y",6,{"$f":"WORKDAY(D19,-I19,'School closure days'!$B$2:$B$17)","v":"2024-10-02"},"Lyndsay Galpin","l.galpin@lse.ac.uk"]
["Departmental Heads Forum","SMC","SMC","2024-10-10",null,"10:00:00","12:00:00","Y",10,{"$f":"WORKDAY(D20,-I20,'School closure days'!$B$2:$B$17)","v":"2024-09-26"},"Chloe Parkin","c.l.parkin@lse.ac.uk"]
["Investments Sub-Committee","Council","Council","2024-10-14",1,"14:00:00","17:00:00","Y",10,{"$f":"WORKDAY(D21,-I21,'School closure days'!$B$2:$B$17)","v":"2024-09-30"},"Katie Crystal","k.n.crystal@lse.ac.uk"]
["Doctoral Programme Directors' Forum","Stakeholder Engagement",null,"2024-10-16",null,"14:00:00","16:00:00","Y",10,{"$f":"WORKDAY(D22,-I22,'School closure days'!$B$2:$B$17)","v":"2024-10-02"},"Matt Brack","m.brack@lse.ac.uk"]
["External Funding Ethical Review Board","SMC","SMC","2024-10-16",null,"16:00:00","17:30:00","Y",null,null,"Lyndsay Galpin","l.galpin@lse.ac.uk"]
["Education Committee","Academic Board","AB","2024-10-16",null,"14:00:00","16:30:00","Y",12,{"$f":"WORKDAY(D24,-I24,'School closure days'!$B$2:$B$17)","v":"2024-09-30"},"Tom Hewlett","t.w.hewlett@lse.ac.uk"]
["APRC Agenda Committee","Academic Board","APRC","2024-10-21",null,"11:00:00","11:30:00","Y",10,{"$f":"WORKDAY(D25,-I25,'School closure days'!$B$2:$B$17)","v":"2024-10-07"},"Evert Nivari","e.a.nivari@lse.ac.uk"]
["Financial Management Board","SMC","SMC","2024-10-22",null,"11:00:00","12:30:00","Y",7,{"$f":"WORKDAY(D26,-I26,'School closure days'!$B$2:$B$17)","v":"2024-10-11"},"Chloe Parkin","c.l.parkin@lse.ac.uk"]
["Academic Board","Academic Board",null,"2024-10-23",1,"14:00:00","16:00:00","Y",15,{"$f":"WORKDAY(D27,-I27,'School closure days'!$B$2:$B$17)","v":"2024-10-02"},"Lyndsay Galpin","l.galpin@lse.ac.uk"]
["Staff town Hall","SMC",null,"2024-10-23",null,"10:30:00","12:30:00","N",null,null,"Ali Annenberg","a.annenberg@lse.ac.uk"]
["Sustainability Leadership Board","SMC","SMC","2024-10-24",null,"11:00:00","12:30:00","Y",5,{"$f":"WORKDAY(D29,-I29,'School closure days'!$B$2:$B$17)","v":"2024-10-17"},"Sustainability Team","sustainability.team@lse.ac.uk"]
["Meet LSE Leadership student event","SMC",null,"2024-10-29",null,"14:00:00","16:00:00","Y",null,null,"Ali Annenberg","a.annenberg@lse.ac.uk"]
["Estates Management Board","SMC","SMC","2024-10-30",null,"09:30:00","11:00:00","Y",10,{"$f":"WORKDAY(D31,-I31,'School closure days'!$B$2:$B$17)","v":"2024-10-16"},"Davinder Ratra","d.s.ratra@lse.ac.uk"]
["Research Degrees Sub Committee","Academic Board","Education Committee","2024-10-30",null,"14:00:00","16:00:00","Y",15,{"$f":"WORKDAY(D32,-I32,'School closure days'!$B$2:$B$17)","v":"2024-10-09"},"Pete Mills ","p.b.mills@lse.ac.uk"]
["Data and Technology Management Board ","SMC","SMC","2024-10-31",null,"10:00:00","11:45:00","Y",10,{"$f":"WORKDAY(D33,-I33,'School closure days'!$B$2:$B$17)","v":"2024-10-17"},"Louise Hatcher","l.hatcher@lse.ac.uk"]
["Office Holders Group","HR","Director","2024-10-31",null,"13:00:00","14:30:00","Y",10,{"$f":"WORKDAY(D34,-I34,'School closure days'!$B$2:$B$17)","v":"2024-10-17"},"Seema Haria","HR.Reward@lse.ac.uk"]
["Remuneration Committee","Council","Council","2024-10-31",1,"12:30:00","14:30:00","Y",10,{"$f":"WORKDAY(D35,-I35,'School closure days'!$B$2:$B$17)","v":"2024-10-17"},"Hilary Hunter","h.a.hunter@lse.ac.uk"]
["Governance Committee","Council","Council","2024-11-01",1,"14:30:00","16:30:00","Y",10,{"$f":"WORKDAY(D36,-I36,'School closure days'!$B$2:$B$17)","v":"2024-10-18"},"Hilary Hunter","h.a.hunter@lse.ac.uk"]
["Finance and Estates Committee","Council","Council","2024-11-04",1,"16:30:00","18:30:00","Y",10,{"$f":"WORKDAY(D37,-I37,'School closure days'!$B$2:$B$17)","v":"2024-10-21"},"Hilary Hunter","h.a.hunter@lse.ac.uk"]
["APRC","Academic Board","AB","2024-11-05",null,"14:00:00","16:00:00","Y",10,{"$f":"WORKDAY(D38,-I38,'School closure days'!$B$2:$B$17)","v":"2024-10-22"},"Evert Nivari","e.a.nivari@lse.ac.uk"]
["Audit Committee","Council","Council","2024-11-05",1,"15:30:00","17:30:00","Y",10,{"$f":"WORKDAY(D39,-I39,'School closure days'!$B$2:$B$17)","v":"2024-10-22"},"Katie Crystal","k.n.crystal@lse.ac.uk"]
["Research Ethics Committee","Academic Board","Research Committee","2024-11-06",null,"14:30:00","16;30","Y",10,{"$f":"WORKDAY(D40,-I40,'School closure days'!$B$2:$B$17)","v":"2024-10-23"},"Lyn Grove","l.grove@lse.ac.uk"]
["PhD Managers' Forum","Academic Board",null,"2024-11-12",null,"14:00:00","16:00:00","Y",10,{"$f":"WORKDAY(D41,-I41,'School closure days'!$B$2:$B$17)","v":"2024-10-29"},"Edlira Gjonca","e.gjonca@lse.ac.uk"]
["REF Strategy Committee","Academic Board","Research Committee","2024-11-13",null,"14:00:00","16:00:00","Y",10,{"$f":"WORKDAY(D42,-I42,'School closure days'!$B$2:$B$17)","v":"2024-10-30"},"Casimira Headley-Walker","c.headley-walker@lse.ac.uk"]
["Departmental Tutors' Consultative Forum ","SSC",null,"2024-11-13",null,"14:00:00","16:00:00","Y",10,{"$f":"WORKDAY(D43,-I43,'School closure days'!$B$2:$B$17)","v":"2024-10-30"},"Chiara Milani","ssc.student-advice-engagement@lse.ac.uk"]
["International Programmes Board","Academic Board","Education Committee","2024-11-13",null,"10:00:00","12:00:00","Y",10,{"$f":"WORKDAY(D44,-I44,'School closure days'!$B$2:$B$17)","v":"2024-10-30"},"Jack  Wolvey","uolip@lse.ac.uk "]
["Promotions Committee (Schedule of Business)","Academic Board","Appointments Committee","2024-11-13",null,"10:00:00","16:00:00","Y",10,{"$f":"WORKDAY(D45,-I45,'School closure days'!$B$2:$B$17)","v":"2024-10-30"},"Nikhil Kalghatgi","n.kalghatgi@lse.ac.uk"]
["Regulations, Policy and Standards Sub Committee","Academic Board","Education Committee","2024-11-13",null,"14:00:00","16:00:00","Y",10,{"$f":"WORKDAY(D46,-I46,'School closure days'!$B$2:$B$17)","v":"2024-10-30"},"Casey Hawkins","c.hawkins@lse.ac.uk"]
["Agenda Committee of the Academic Board","Academic Board","AB","2024-11-14",null,"12:00:00","14:00:00","Y",6,{"$f":"WORKDAY(D47,-I47,'School closure days'!$B$2:$B$17)","v":"2024-11-06"},"Lyndsay Galpin","l.galpin@lse.ac.uk"]
["Student Experience Sub-Committee","Academic Board","Education Committee","2024-11-14",null,"13:00:00","16:00:00","Y",10,{"$f":"WORKDAY(D48,-I48,'School closure days'!$B$2:$B$17)","v":"2024-10-31"},"Susan Parsons","S.Parsons@lse.ac.uk"]
["Student Numbers and Fees (SNAF) Group ","Academic Board","APRC","2024-11-14",null,"10:00:00","12:00:00","Y",10,{"$f":"WORKDAY(D49,-I49,'School closure days'!$B$2:$B$17)","v":"2024-10-31"},"Planning Division","Planning.division@lse.ac.uk"]
["APRC Agenda Committee","Academic Board","APRC","2024-11-18",null,"11:00:00","11:30:00","Y",10,{"$f":"WORKDAY(D50,-I50,'School closure days'!$B$2:$B$17)","v":"2024-11-04"},"Evert Nivari","e.a.nivari@lse.ac.uk"]
["Information Governance Management Board","SMC","SMC","2024-11-18",null,"13:00:00","15:00:00","Y",10,{"$f":"WORKDAY(D51,-I51,'School closure days'!$B$2:$B$17)","v":"2024-11-04"},"Monica Haile-Selassie","m.haile-selassie@lse.ac.uk"]
["Council","Council",null,"2024-11-19",1,"15:00:00","18:00:00","Y",10,{"$f":"WORKDAY(D52,-I52,'School closure days'!$B$2:$B$17)","v":"2024-11-05"},"Hilary Hunter","h.a.hunter@lse.ac.uk"]
["Graduate Studies Sub Committee","Academic Board","Education Committee","2024-11-20",null,"14:00:00","17:00:00","Y",15,{"$f":"WORKDAY(D53,-I53,'School closure days'!$B$2:$B$17)","v":"2024-10-30"},"Janine Olding","j.olding@lse.ac.uk"]
["Research and Policy Staff Committee","Academic Board","Appointments Committee","2024-11-27",null,"10:00:00","12:00:00","Y",10,{"$f":"WORKDAY(D54,-I54,'School closure days'!$B$2:$B$17)","v":"2024-11-13"},"Meeta Bhatt","m.bhatt@lse.ac.uk"]
["Undergraduate Studies Sub Committee","Academic Board","Education Committee","2024-11-20",null,"10:30:00","13:00:00","Y",15,{"$f":"WORKDAY(D55,-I55,'School closure days'!$B$2:$B$17)","v":"2024-10-30"},"Tom Hewlett","t.w.hewlett@lse.ac.uk"]
["Academic Nominations Committee","Academic Board","AB","2024-11-25",null,"14:00:00","16:00:00","Y",10,{"$f":"WORKDAY(D56,-I56,'School closure days'!$B$2:$B$17)","v":"2024-11-11"},"Lyndsay Galpin","l.galpin@lse.ac.uk"]
["Extended Education Sub-Committee","Academic Board","APRC and Education Committee","2024-11-26",null,"14:00:00","16:00:00","Y",10,{"$f":"WORKDAY(D57,-I57,'School closure days'!$B$2:$B$17)","v":"2024-11-12"},"Evert Nivari","e.a.nivari@lse.ac.uk"]
["Academic Board","Academic Board",null,"2024-11-27",2,"14:00:00","16:00:00","Y",15,{"$f":"WORKDAY(D58,-I58,'School closure days'!$B$2:$B$17)","v":"2024-11-06"},"Lyndsay Galpin","l.galpin@lse.ac.uk"]
["Joint Negotiating and Consultative Committee","HR",null,"2024-11-28",null,"14:30:00","16:00:00","Y",10,{"$f":"WORKDAY(D59,-I59,'School closure days'!$B$2:$B$17)","v":"2024-11-14"},"Elisabetta Viotto ","E.Viotto@lse.ac.uk"]
["Joint Negotiation, Information and Consultation Committee (JNICC)","HR",null,"2024-11-28",null,"12:30:00","14:30:00","Y",10,{"$f":"WORKDAY(D60,-I60,'School closure days'!$B$2:$B$17)","v":"2024-11-14"},"Elisabetta Viotto ","E.Viotto@lse.ac.uk"]
["Professional Services Staff Contribution Group","SMC","HR Management Board","2024-11-28",null,"14:30:00","16:30:00","Y",10,{"$f":"WORKDAY(D61,-I61,'School closure days'!$B$2:$B$17)","v":"2024-11-14"},"Seema Haria","HR.Reward@lse.ac.uk"]
["Departmental Heads Forum","SMC","SMC","2024-11-28",null,"10:00:00","12:00:00","Y",10,{"$f":"WORKDAY(D62,-I62,'School closure days'!$B$2:$B$17)","v":"2024-11-14"},"Chloe Parkin","c.l.parkin@lse.ac.uk"]
["Research Committee","Academic Board","AB","2024-12-02",null,"14:00:00","16:30:00","Y",10,{"$f":"WORKDAY(D63,-I63,'School closure days'!$B$2:$B$17)","v":"2024-11-18"},"Casimira Headley-Walker","c.headley-walker@lse.ac.uk"]
["APRC","Academic Board","AB","2024-12-03",null,"14:00:00","16:00:00","Y",10,{"$f":"WORKDAY(D64,-I64,'School closure days'!$B$2:$B$17)","v":"2024-11-19"},"Evert Nivari","e.a.nivari@lse.ac.uk"]
["Financial Management Board","SMC","SMC","2024-12-03",null,"11:00:00","12:30:00","Y",7,{"$f":"WORKDAY(D65,-I65,'School closure days'!$B$2:$B$17)","v":"2024-11-22"},"Chloe Parkin","c.l.parkin@lse.ac.uk"]
["Estates Management Board","SMC","SMC","2024-12-04",null,"09:30:00","11:00:00","Y",10,{"$f":"WORKDAY(D66,-I66,'School closure days'!$B$2:$B$17)","v":"2024-11-20"},"Davinder Ratra","d.s.ratra@lse.ac.uk"]
["Research Students' Consultative Forum","Stakeholder Engagement",null,"2024-12-04",null,"14:00:00","16:00:00","Y",10,{"$f":"WORKDAY(D67,-I67,'School closure days'!$B$2:$B$17)","v":"2024-11-20"},"Evan Saunders","e.saunders2@lse.ac.uk "]
["Masters Students' Consultative Forum","Stakeholder Engagement",null,"2024-12-05",null,"10:00:00","12:00:00","Y",10,{"$f":"WORKDAY(D68,-I68,'School closure days'!$B$2:$B$17)","v":"2024-11-21"},"Evan Saunders","e.saunders2@lse.ac.uk "]
["Undergraduate Students Consultative Forum","Stakeholder Engagement",null,"2024-12-05",null,"14:00:00","16:00:00","Y",10,{"$f":"WORKDAY(D69,-I69,'School closure days'!$B$2:$B$17)","v":"2024-11-21"},"Evan Saunders","e.saunders2@lse.ac.uk "]
["Ethics Committee","Council","Council","2024-12-10",2,"15:00:00","17:00:00","Y",10,{"$f":"WORKDAY(D70,-I70,'School closure days'!$B$2:$B$17)","v":"2024-11-26"},"Lyndsay Galpin","l.galpin@lse.ac.uk"]
["School closure",null,null,"2024-12-23"]
["School closure",null,null,"2024-12-24"]
["Bank holiday",null,null,"2024-12-25"]
["Bank holiday",null,null,"2024-12-26"]
["School closure",null,null,"2024-12-27"]
["School closure",null,null,"2024-12-30"]
["School closure",null,null,"2024-12-31"]
["Bank holiday",null,null,"2025-01-01"]
["APRC Agenda Committee","Academic Board","APRC","2025-01-13",null,"11:00:00","11:30:00","Y",10,{"$f":"WORKDAY(D79,-I79,'School closure days'!$B$2:$B$17)","v":"2024-12-18"},"Evert Nivari","e.a.nivari@lse.ac.uk"]
["Information Governance Management Board","SMC","SMC","2025-01-13",null,"13:00:00","15:00:00","Y",10,{"$f":"WORKDAY(D80,-I80,'School closure days'!$B$2:$B$17)","v":"2024-12-18"},"Monica Haile-Selassie","m.haile-selassie@lse.ac.uk"]
["Financial Management Board","SMC","SMC","2025-01-14",null,"11:00:00","12:30:00","Y",9,{"$f":"WORKDAY(D81,-I81,'School closure days'!$B$2:$B$17)","v":"2024-12-20"},"Chloe Parkin","c.l.parkin@lse.ac.uk"]
["Graduate Studies Sub Committee","Academic Board","Education Committee","2025-01-15",null,"14:00:00","17:00:00","Y",15,"2024-12-09","Janine Olding","j.olding@lse.ac.uk"]
["Undergraduate Studies Sub Committee","Academic Board","Education Committee","2025-01-15",null,"10:30:00","13:00:00","Y",15,"2024-12-09","Tom Hewlett","t.w.hewlett@lse.ac.uk"]
["Data and Technology Management Board ","SMC","SMC","2025-01-21",null,"14:00:00","15:45:00","Y",10,{"$f":"WORKDAY(D84,-I84,'School closure days'!$B$2:$B$17)","v":"2025-01-07"},"Louise Hatcher","l.hatcher@lse.ac.uk"]
["Education Committee","Academic Board","AB","2025-01-22",null,"14:00:00","16:30:00","Y",12,{"$f":"WORKDAY(D85,-I85,'School closure days'!$B$2:$B$17)","v":"2025-01-06"},"Tom Hewlett","t.w.hewlett@lse.ac.uk"]
["Estates Management Board","SMC","SMC","2025-01-22",null,"09:30:00","11:00:00","Y",10,{"$f":"WORKDAY(D86,-I86,'School closure days'!$B$2:$B$17)","v":"2025-01-08"},"Davinder Ratra","d.s.ratra@lse.ac.uk"]
["Knowledge Exchange Framework Strategy Committee (KEFSC)","Academic Board","Research Committee","2025-01-22",null,"14:00:00","16:00:00","Y",10,{"$f":"WORKDAY(D87,-I87,'School closure days'!$B$2:$B$17)","v":"2025-01-08"},"Casimira Headley-Walker","c.headley-walker@lse.ac.uk"]
["Agenda Committee of the Academic Board","Academic Board","AB","2025-01-23",null,"12:00:00","14:00:00","Y",6,{"$f":"WORKDAY(D88,-I88,'School closure days'!$B$2:$B$17)","v":"2025-01-15"},"Lyndsay Galpin","l.galpin@lse.ac.uk"]
["APRC","Academic Board","AB","2025-01-28",null,"14:00:00","16:00:00","Y",10,{"$f":"WORKDAY(D89,-I89,'School closure days'!$B$2:$B$17)","v":"2025-01-14"},"Evert Nivari","e.a.nivari@lse.ac.uk"]
["Finance and Estates Committee","Council","Council","2025-01-28",2,"16:30:00","18:30:00","N",10,{"$f":"WORKDAY(D90,-I90,'School closure days'!$B$2:$B$17)","v":"2025-01-14"},"Hilary Hunter","h.a.hunter@lse.ac.uk"]
["Audit Committee Awayday","Council","Council","2025-01-29",2,"10:00:00","13:00:00","N",10,{"$f":"WORKDAY(D91,-I91,'School closure days'!$B$2:$B$17)","v":"2025-01-15"},"Katie Crystal","k.n.crystal@lse.ac.uk"]
["Research Committee","Academic Board","AB","2025-01-29",null,"14:00:00","16:30:00","Y",10,{"$f":"WORKDAY(D92,-I92,'School closure days'!$B$2:$B$17)","v":"2025-01-15"},"Casimira Headley-Walker","c.headley-walker@lse.ac.uk"]
["External Funding Ethical Review Board","SMC","SMC","2025-01-29",null,"16:00:00","17:30:00","Y",null,null,"Lyndsay Galpin","l.galpin@lse.ac.uk"]
["Regulations, Policy and Standards Sub Committee","Academic Board","Education Committee","2025-01-29",null,"14:00:00","16:00:00","Y",10,{"$f":"WORKDAY(D94,-I94,'School closure days'!$B$2:$B$17)","v":"2025-01-15"},"Casey Hawkins","c.hawkins@lse.ac.uk"]
["APRC","Academic Board","AB","2025-01-30",null,"14:00:00","16:00:00","Y",10,{"$f":"WORKDAY(D95,-I95,'School closure days'!$B$2:$B$17)","v":"2025-01-16"},"Evert Nivari","e.a.nivari@lse.ac.uk"]
["HR Management Board","SMC","SMC","2025-01-30",null,"14:00:00","15:30:00","Y",10,{"$f":"WORKDAY(D96,-I96,'School closure days'!$B$2:$B$17)","v":"2025-01-16"},"Sugirtha Damadram ","s.damadram@lse.ac.uk"]
["Departmental Heads Forum","SMC","SMC","2025-01-30",null,"10:00:00","12:00:00","Y",10,{"$f":"WORKDAY(D97,-I97,'School closure days'!$B$2:$B$17)","v":"2025-01-16"},"Chloe Parkin","c.l.parkin@lse.ac.uk"]
["Governance Committee","Council","Council","2025-02-03",2,"14:30:00","16:30:00","Y",10,{"$f":"WORKDAY(D98,-I98,'School closure days'!$B$2:$B$17)","v":"2025-01-20"},"Hilary Hunter","h.a.hunter@lse.ac.uk"]
["Audit Committee","Council","Council","2025-02-04",2,"15:30:00","17:30:00","Y",10,{"$f":"WORKDAY(D99,-I99,'School closure days'!$B$2:$B$17)","v":"2025-01-21"},"Katie Crystal","k.n.crystal@lse.ac.uk"]
["Honorary Awards Committee","Council","Council","2025-02-04",2,"14:00:00","16:00:00","Y",10,{"$f":"WORKDAY(D100,-I100,'School closure days'!$B$2:$B$17)","v":"2025-01-21"},"Lyndsay Galpin","l.galpin@lse.ac.uk"]
["Student Experience Sub-Committee","Academic Board","Education Committee","2025-02-04",null,"13:00:00","16:30:00","Y",10,{"$f":"WORKDAY(D101,-I101,'School closure days'!$B$2:$B$17)","v":"2025-01-21"},"Susan Parsons","S.Parsons@lse.ac.uk"]
["Promotions Committee (Interim Reviews)","Academic Board","Appointments Committee","2025-02-05",null,"10:00:00","16:00:00","Y",10,{"$f":"WORKDAY(D102,-I102,'School closure days'!$B$2:$B$17)","v":"2025-01-22"},"Nikhil Kalghatgi","n.kalghatgi@lse.ac.uk"]
["Departmental Tutors' Consultative Forum ","SSC",null,"2025-02-05",null,"10:00:00","12:00:00","Y",10,{"$f":"WORKDAY(D103,-I103,'School closure days'!$B$2:$B$17)","v":"2025-01-22"},"Chiara Milani","ssc.student-advice-engagement@lse.ac.uk"]
["Academic Board","Academic Board",null,"2025-02-05",2,"14:00:00","16:00:00","Y",15,{"$f":"WORKDAY(D104,-I104,'School closure days'!$B$2:$B$17)","v":"2025-01-15"},"Lyndsay Galpin","l.galpin@lse.ac.uk"]
["Staff town Hall","SMC",null,"2025-02-06",null,"10:00:00","12:00:00","Y",null,null,"Ali Annenberg","a.annenberg@lse.ac.uk"]
["APRC Agenda Committee","Academic Board","APRC","2025-02-10",null,"11:00:00","11:30:00","Y",10,{"$f":"WORKDAY(D106,-I106,'School closure days'!$B$2:$B$17)","v":"2025-01-27"},"Evert Nivari","e.a.nivari@lse.ac.uk"]
["International Programmes Board","Academic Board","Education Committee","2025-02-12",null,"10:00:00","12:00:00","Y",10,{"$f":"WORKDAY(D107,-I107,'School closure days'!$B$2:$B$17)","v":"2025-01-29"},"Jack  Wolvey","uolip@lse.ac.uk "]
["Student Numbers and Fees (SNAF) Group ","Academic Board","APRC","2025-02-13",null,"10:00:00","12:00:00","Y",10,{"$f":"WORKDAY(D108,-I108,'School closure days'!$B$2:$B$17)","v":"2025-01-30"},"Planning Division","Planning.division@lse.ac.uk"]
["Council","Council",null,"2025-02-18",2,"15:00:00","18:00:00","Y",10,{"$f":"WORKDAY(D109,-I109,'School closure days'!$B$2:$B$17)","v":"2025-02-04"},"Hilary Hunter","h.a.hunter@lse.ac.uk"]
["Doctoral Programme Directors' Forum","Stakeholder Engagement",null,"2025-02-19",null,"14:00:00","16:00:00","Y",15,{"$f":"WORKDAY(D110,-I110,'School closure days'!$B$2:$B$17)","v":"2025-01-29"},"Matt Brack","m.brack@lse.ac.uk"]
["Sustainability Leadership Board","SMC","SMC","2025-02-19",null,"15:30:00","17:00:00","Y",5,{"$f":"WORKDAY(D111,-I111,'School closure days'!$B$2:$B$17)","v":"2025-02-12"},"Sustainability Team","sustainability.team@lse.ac.uk"]
["Joint Negotiating and Consultative Committee","HR",null,"2025-02-20",null,"14:30:00","16:00:00","Y",10,{"$f":"WORKDAY(D112,-I112,'School closure days'!$B$2:$B$17)","v":"2025-02-06"},"Elisabetta Viotto ","E.Viotto@lse.ac.uk"]
["Joint Negotiation, Information and Consultation Committee (JNICC)","HR",null,"2025-02-20",null,"12:30:00","14:30:00","Y",10,{"$f":"WORKDAY(D113,-I113,'School closure days'!$B$2:$B$17)","v":"2025-02-06"},"Elisabetta Viotto ","E.Viotto@lse.ac.uk"]
["APRC","Academic Board","AB","2025-02-25",null,"14:00:00","16:00:00","Y",10,{"$f":"WORKDAY(D114,-I114,'School closure days'!$B$2:$B$17)","v":"2025-02-11"},"Evert Nivari","e.a.nivari@lse.ac.uk"]
["Research and Policy Staff Committee","Academic Board","Appointments Committee","2025-02-26",null,"10:00:00","12:00:00","Y",10,{"$f":"WORKDAY(D115,-I115,'School closure days'!$B$2:$B$17)","v":"2025-02-12"},"Meeta Bhatt","m.bhatt@lse.ac.uk"]
["Research Ethics Committee","Academic Board","Research Committee","2025-02-26",null,"14:30:00","16:30:00","Y",10,{"$f":"WORKDAY(D116,-I116,'School closure days'!$B$2:$B$17)","v":"2025-02-12"},"Lyn Grove","l.grove@lse.ac.uk"]
["Agenda Committee of the Academic Board","Academic Board","AB","2025-02-27",null,"12:00:00","14:00:00","Y",6,{"$f":"WORKDAY(D117,-I117,'School closure days'!$B$2:$B$17)","v":"2025-02-19"},"Lyndsay Galpin","l.galpin@lse.ac.uk"]
["Financial Management Board","SMC","SMC","2025-03-04",null,"11:00:00","12:30:00","Y",7,{"$f":"WORKDAY(D118,-I118,'School closure days'!$B$2:$B$17)","v":"2025-02-21"},"Chloe Parkin","c.l.parkin@lse.ac.uk"]
["Promotions Committee (Promotions)","Academic Board","Appointments Committee","2025-03-04",null,"10:00:00","16:00:00","Y",10,{"$f":"WORKDAY(D119,-I119,'School closure days'!$B$2:$B$17)","v":"2025-02-18"},"Nikhil Kalghatgi","n.kalghatgi@lse.ac.uk"]
["REF Strategy Committee","Academic Board","Research Committee","2025-03-05",null,"14:00:00","16:00:00","Y",10,{"$f":"WORKDAY(D120,-I120,'School closure days'!$B$2:$B$17)","v":"2025-02-19"},"Casimira Headley-Walker","c.headley-walker@lse.ac.uk"]
["Academic Nominations Committee","Academic Board","AB","2025-03-05",null,"14:00:00","16:00:00","Y",10,{"$f":"WORKDAY(D121,-I121,'School closure days'!$B$2:$B$17)","v":"2025-02-19"},"Lyndsay Galpin","l.galpin@lse.ac.uk"]
["Estates Management Board","SMC","SMC","2025-03-05",null,"09:30:00","11:00:00","Y",10,{"$f":"WORKDAY(D122,-I122,'School closure days'!$B$2:$B$17)","v":"2025-02-19"},"Davinder Ratra","d.s.ratra@lse.ac.uk"]
["Promotions Committee (Promotions)","Academic Board","Appointments Committee","2025-03-05",null,"10:00:00","16:00:00","Y",10,{"$f":"WORKDAY(D123,-I123,'School closure days'!$B$2:$B$17)","v":"2025-02-19"},"Nikhil Kalghatgi","n.kalghatgi@lse.ac.uk"]
["Research Degrees Sub Committee","Academic Board","Education Committee","2025-03-05",null,"14:00:00","16:00:00","Y",15,{"$f":"WORKDAY(D124,-I124,'School closure days'!$B$2:$B$17)","v":"2025-02-12"},"Pete Mills ","p.b.mills@lse.ac.uk"]
["Promotions Committee (Promotions)","Academic Board","Appointments Committee","2025-03-06",null,"10:00:00","16:00:00","Y",10,{"$f":"WORKDAY(D125,-I125,'School closure days'!$B$2:$B$17)","v":"2025-02-20"},"Nikhil Kalghatgi","n.kalghatgi@lse.ac.uk"]
["APRC Agenda Committee","Academic Board","APRC","2025-03-10",null,"11:00:00","11:30:00","Y",10,{"$f":"WORKDAY(D126,-I126,'School closure days'!$B$2:$B$17)","v":"2025-02-24"},"Evert Nivari","e.a.nivari@lse.ac.uk"]
["Investments Sub-Committee","Council","Council","2025-03-11",3,"14:00:00","17:00:00","Y",10,{"$f":"WORKDAY(D127,-I127,'School closure days'!$B$2:$B$17)","v":"2025-02-25"},"Katie Crystal","k.n.crystal@lse.ac.uk"]
["Academic Board","Academic Board",null,"2025-03-12",3,"14:00:00","16:00:00","Y",15,{"$f":"WORKDAY(D128,-I128,'School closure days'!$B$2:$B$17)","v":"2025-02-19"},"Lyndsay Galpin","l.galpin@lse.ac.uk"]
["Departmental Heads Forum","SMC","SMC","2025-03-12",null,"10:00:00","12:00:00","Y",10,{"$f":"WORKDAY(D129,-I129,'School closure days'!$B$2:$B$17)","v":"2025-02-26"},"Chloe Parkin","c.l.parkin@lse.ac.uk"]
["Meet LSE Leadership student event","SMC",null,"2025-03-13",null,"14:00:00","16:00:00","Y",null,null,"Ali Annenberg","a.annenberg@lse.ac.uk"]
["Information Governance Management Board","SMC","SMC","2025-03-17",null,"13:00:00","15:00:00","Y",10,{"$f":"WORKDAY(D131,-I131,'School closure days'!$B$2:$B$17)","v":"2025-03-03"},"Monica Haile-Selassie","m.haile-selassie@lse.ac.uk"]
["Finance and Estates Committee","Council","Council","2025-03-17",3,"16:30:00","18:30:00","N",10,{"$f":"WORKDAY(D132,-I132,'School closure days'!$B$2:$B$17)","v":"2025-03-03"},"Hilary Hunter","h.a.hunter@lse.ac.uk"]
["Graduate Studies Sub Committee","Academic Board","Education Committee","2025-03-19",null,"14:00:00","17:00:00","Y",15,{"$f":"WORKDAY(D133,-I133,'School closure days'!$B$2:$B$17)","v":"2025-02-26"},"Janine Olding","j.olding@lse.ac.uk"]
["Undergraduate Studies Sub Committee","Academic Board","Education Committee","2025-03-19",null,"10:30:00","13:00:00","Y",15,{"$f":"WORKDAY(D134,-I134,'School closure days'!$B$2:$B$17)","v":"2025-02-26"},"Tom Hewlett","t.w.hewlett@lse.ac.uk"]
["Research Students' Consultative Forum","Stakeholder Engagement",null,"2025-03-20",null,"14:00:00","16:00:00","Y",10,{"$f":"WORKDAY(D135,-I135,'School closure days'!$B$2:$B$17)","v":"2025-03-06"},"Evan Saunders","e.saunders2@lse.ac.uk "]
["APRC","Academic Board","AB","2025-03-25",null,"14:00:00","16:00:00","Y",10,{"$f":"WORKDAY(D136,-I136,'School closure days'!$B$2:$B$17)","v":"2025-03-11"},"Evert Nivari","e.a.nivari@lse.ac.uk"]
["PhD Managers' Forum","Academic Board",null,"2025-03-25",null,"14:00:00","16:00:00","Y",10,{"$f":"WORKDAY(D137,-I137,'School closure days'!$B$2:$B$17)","v":"2025-03-11"},"Edlira Gjonca","e.gjonca@lse.ac.uk"]
["Research Committee","Academic Board","AB","2025-03-26",null,"14:00:00","16:30:00","Y",10,{"$f":"WORKDAY(D138,-I138,'School closure days'!$B$2:$B$17)","v":"2025-03-12"},"Casimira Headley-Walker","c.headley-walker@lse.ac.uk"]
["Education Committee","Academic Board","AB","2025-03-26",null,"14:00:00","16:30:00","Y",12,{"$f":"WORKDAY(D139,-I139,'School closure days'!$B$2:$B$17)","v":"2025-03-10"},"Tom Hewlett","t.w.hewlett@lse.ac.uk"]
["Promotions Committee (Promotions)","Academic Board","Appointments Committee","2025-03-26",null,"10:00:00","16:00:00","Y",10,{"$f":"WORKDAY(D140,-I140,'School closure days'!$B$2:$B$17)","v":"2025-03-12"},"Nikhil Kalghatgi","n.kalghatgi@lse.ac.uk"]
["Extended Education Sub-Committee","Academic Board","APRC and Education Committee","2025-03-27",null,"14:00:00","16:00:00","Y",10,{"$f":"WORKDAY(D141,-I141,'School closure days'!$B$2:$B$17)","v":"2025-03-13"},"Evert Nivari","e.a.nivari@lse.ac.uk"]
["Masters Students' Consultative Forum","Stakeholder Engagement",null,"2025-03-27",null,"10:00:00","12:00:00","Y",10,{"$f":"WORKDAY(D142,-I142,'School closure days'!$B$2:$B$17)","v":"2025-03-13"},null,"L.Zeuner@lse.ac.uk"]
["Undergraduate Students Consultative Forum","Stakeholder Engagement",null,"2025-03-27",null,"14:00:00","16:00:00","Y",10,{"$f":"WORKDAY(D143,-I143,'School closure days'!$B$2:$B$17)","v":"2025-03-13"},"Evan Saunders","e.saunders2@lse.ac.uk "]
["Estates Management Board","SMC","SMC","2025-04-02",null,"09:30:00","11:00:00","Y",10,{"$f":"WORKDAY(D144,-I144,'School closure days'!$B$2:$B$17)","v":"2025-03-19"},"Davinder Ratra","d.s.ratra@lse.ac.uk"]
["Honorary Awards Committee","Council","Council","2025-04-08",3,"15:00:00","17:00:00","Y",10,{"$f":"WORKDAY(D145,-I145,'School closure days'!$B$2:$B$17)","v":"2025-03-25"},"Lyndsay Galpin","l.galpin@lse.ac.uk"]
["Remuneration Committee","Council","Council","2025-04-08",3,"12:30:00","14:30:00","Y",10,{"$f":"WORKDAY(D146,-I146,'School closure days'!$B$2:$B$17)","v":"2025-03-25"},"Hilary Hunter","h.a.hunter@lse.ac.uk"]
["School closure",null,null,"2025-04-17"]
["Bank holiday",null,null,"2025-04-18"]
["Bank holiday",null,null,"2025-04-21"]
["School closure",null,null,"2025-04-22"]
["School closure",null,null,"2025-04-23"]
["Agenda Committee of the Academic Board","Academic Board","AB","2025-04-24",null,"12:00:00","14:00:00","Y",6,"2025-04-16","Lyndsay Galpin","l.galpin@lse.ac.uk"]
["Data and Technology Management Board ","SMC","SMC","2025-04-24",null,"14:00:00","15:45:00","Y",10,{"$f":"WORKDAY(D153,-I153,'School closure days'!$B$2:$B$17)","v":"2025-04-03"},"Louise Hatcher","l.hatcher@lse.ac.uk"]
["HR Management Board","SMC","SMC","2025-04-24",null,"11:00:00","12:30:00","Y",10,{"$f":"WORKDAY(D154,-I154,'School closure days'!$B$2:$B$17)","v":"2025-04-03"},"Sugirtha Damadram ","s.damadram@lse.ac.uk"]
["APRC Agenda Committee","Academic Board","APRC","2025-04-28",null,"11:00:00","11:30:00","Y",10,{"$f":"WORKDAY(D155,-I155,'School closure days'!$B$2:$B$17)","v":"2025-04-07"},"Evert Nivari","e.a.nivari@lse.ac.uk"]
["Financial Management Board","SMC","SMC","2025-04-29",null,"11:00:00","12:30:00","Y",7,{"$f":"WORKDAY(D156,-I156,'School closure days'!$B$2:$B$17)","v":"2025-04-11"},"Chloe Parkin","c.l.parkin@lse.ac.uk"]
["Departmental Tutors' Consultative Forum ","SSC",null,"2025-04-30",null,"14:00:00","16:00:00","Y",10,{"$f":"WORKDAY(D157,-I157,'School closure days'!$B$2:$B$17)","v":"2025-04-09"},"Chiara Milani","ssc.student-advice-engagement@lse.ac.uk"]
["Doctoral Programme Directors' Forum","Stakeholder Engagement",null,"2025-04-30",null,"14:00:00","16:00:00","Y",10,{"$f":"WORKDAY(D158,-I158,'School closure days'!$B$2:$B$17)","v":"2025-04-09"},"Matt Brack","m.brack@lse.ac.uk"]
["Estates Management Board","SMC","SMC","2025-04-30",null,"09:30:00","11:00:00","Y",10,{"$f":"WORKDAY(D159,-I159,'School closure days'!$B$2:$B$17)","v":"2025-04-09"},"Davinder Ratra","d.s.ratra@lse.ac.uk"]
["External Funding Ethical Review Board","SMC","SMC","2025-04-30",null,"16:00:00","17:30:00","Y",null,null,"Lyndsay Galpin","l.galpin@lse.ac.uk"]
["Regulations, Policy and Standards Sub Committee","Academic Board","Education Committee","2025-05-01",null,"14:00:00","16:00:00","Y",10,{"$f":"WORKDAY(D161,-I161,'School closure days'!$B$2:$B$17)","v":"2025-04-10"},"Casey Hawkins","c.hawkins@lse.ac.uk"]
["Student Numbers and Fees (SNAF) Group ","Academic Board","APRC","2025-05-01",null,"10:00:00","12:00:00","Y",10,{"$f":"WORKDAY(D162,-I162,'School closure days'!$B$2:$B$17)","v":"2025-04-10"},"Planning Division","Planning.division@lse.ac.uk"]
["Bank holiday",null,null,"2025-05-05"]
["Council","Council",null,"2025-05-06",3,"15:00:00","18:00:00","Y",10,{"$f":"WORKDAY(D164,-I164,'School closure days'!$B$2:$B$17)","v":"2025-04-14"},"Hilary Hunter","h.a.hunter@lse.ac.uk"]
["Academic Board","Academic Board",null,"2025-05-07",4,"14:00:00","16:00:00","Y",14,"2025-04-16","Lyndsay Galpin","l.galpin@lse.ac.uk"]
["Research and Policy Staff Committee","Academic Board","Appointments Committee","2025-05-07",null,"10:00:00","12:00:00","Y",10,{"$f":"WORKDAY(D166,-I166,'School closure days'!$B$2:$B$17)","v":"2025-04-15"},"Meeta Bhatt","m.bhatt@lse.ac.uk"]
["Departmental Heads Forum","SMC","SMC","2025-05-08",null,"10:00:00","12:00:00","Y",10,{"$f":"WORKDAY(D167,-I167,'School closure days'!$B$2:$B$17)","v":"2025-04-16"},"Chloe Parkin","c.l.parkin@lse.ac.uk"]
["Knowledge Exchange Framework Strategy Committee (KEFSC)","Academic Board","Research Committee","2025-05-08",null,"14:00:00","16:00:00","Y",10,{"$f":"WORKDAY(D168,-I168,'School closure days'!$B$2:$B$17)","v":"2025-04-16"},"Casimira Headley-Walker","c.headley-walker@lse.ac.uk"]
["APRC","Academic Board","AB","2025-05-13",null,"14:00:00","16:00:00","Y",10,{"$f":"WORKDAY(D169,-I169,'School closure days'!$B$2:$B$17)","v":"2025-04-28"},"Evert Nivari","e.a.nivari@lse.ac.uk"]
["Research Committee","Academic Board","AB","2025-05-14",null,"14:00:00","16:30:00","Y",10,{"$f":"WORKDAY(D170,-I170,'School closure days'!$B$2:$B$17)","v":"2025-04-29"},"Casimira Headley-Walker","c.headley-walker@lse.ac.uk"]
["Graduate Studies Sub Committee","Academic Board","Education Committee","2025-05-14",null,"14:00:00","17:00:00","Y",15,{"$f":"WORKDAY(D171,-I171,'School closure days'!$B$2:$B$17)","v":"2025-04-15"},"Janine Olding","j.olding@lse.ac.uk"]
["Promotions Committee (Review)","Academic Board","Appointments Committee","2025-05-14",null,"10:00:00","16:00:00","Y",10,{"$f":"WORKDAY(D172,-I172,'School closure days'!$B$2:$B$17)","v":"2025-04-29"},"Nikhil Kalghatgi","n.kalghatgi@lse.ac.uk"]
["Research Degrees Sub Committee","Academic Board","Education Committee","2025-05-14",null,"14:00:00","16:00:00","Y",15,{"$f":"WORKDAY(D173,-I173,'School closure days'!$B$2:$B$17)","v":"2025-04-15"},"Pete Mills ","p.b.mills@lse.ac.uk"]
["Undergraduate Studies Sub Committee","Academic Board","Education Committee","2025-05-14",null,"10:30:00","13:00:00","Y",15,{"$f":"WORKDAY(D174,-I174,'School closure days'!$B$2:$B$17)","v":"2025-04-15"},"Tom Hewlett","t.w.hewlett@lse.ac.uk"]
["Information Governance Management Board","SMC","SMC","2025-05-19",null,"13:00:00","15:00:00","Y",10,{"$f":"WORKDAY(D175,-I175,'School closure days'!$B$2:$B$17)","v":"2025-05-02"},"Monica Haile-Selassie","m.haile-selassie@lse.ac.uk"]
["Extended Education Sub-Committee","Academic Board","APRC and Education Committee","2025-05-20",null,"14:00:00","16:00:00","Y",10,{"$f":"WORKDAY(D176,-I176,'School closure days'!$B$2:$B$17)","v":"2025-05-06"},"Evert Nivari","e.a.nivari@lse.ac.uk"]
["Education Committee","Academic Board","AB","2025-05-21",null,"14:00:00","16:30:00","Y",12,{"$f":"WORKDAY(D177,-I177,'School closure days'!$B$2:$B$17)","v":"2025-05-02"},"Tom Hewlett","t.w.hewlett@lse.ac.uk"]
["Staff town Hall","SMC",null,"2025-05-21",null,"14:00:00","16:00:00","Y",null,null,"Ali Annenberg","a.annenberg@lse.ac.uk"]
["Agenda Committee of the Academic Board","Academic Board","AB","2025-05-22",null,"12:00:00","14:00:00","Y",6,{"$f":"WORKDAY(D179,-I179,'School closure days'!$B$2:$B$17)","v":"2025-05-14"},"Lyndsay Galpin","l.galpin@lse.ac.uk"]
["Bank holiday",null,null,"2025-05-26"]
["Financial Management Board","SMC","SMC","2025-05-27",null,"11:00:00","12:30:00","Y",7,{"$f":"WORKDAY(D181,-I181,'School closure days'!$B$2:$B$17)","v":"2025-05-15"},"Chloe Parkin","c.l.parkin@lse.ac.uk"]
["Investments Sub-Committee","Council","Council","2025-05-27",4,"14:00:00","17:00:00","Y",10,{"$f":"WORKDAY(D182,-I182,'School closure days'!$B$2:$B$17)","v":"2025-05-12"},"Katie Crystal","k.n.crystal@lse.ac.uk"]
["APRC Agenda Committee","Academic Board","APRC","2025-05-28",null,"11:00:00","11:30:00","Y",10,{"$f":"WORKDAY(D183,-I183,'School closure days'!$B$2:$B$17)","v":"2025-05-13"},"Evert Nivari","e.a.nivari@lse.ac.uk"]
["Graduate Studies Sub Committee","Academic Board","Education Committee","2025-05-28",null,"14:00:00","17:00:00","Y",24,{"$f":"WORKDAY(D184,-I184,'School closure days'!$B$2:$B$17)","v":"2025-04-15"},"Janine Olding","j.olding@lse.ac.uk"]
["International Programmes Board","Academic Board","Education Committee","2025-05-28",null,"10:00:00","12:00:00","Y",10,{"$f":"WORKDAY(D185,-I185,'School closure days'!$B$2:$B$17)","v":"2025-05-13"},"Jack  Wolvey","uolip@lse.ac.uk "]
["Ethics Committee","Council","Council","2025-06-03",4,"15:00:00","17:00:00","Y",10,{"$f":"WORKDAY(D186,-I186,'School closure days'!$B$2:$B$17)","v":"2025-05-19"},"Lyndsay Galpin","l.galpin@lse.ac.uk"]
["Student Experience Sub-Committee","Academic Board","Education Committee","2025-06-03",null,"13:00:00","16:30:00","Y",10,{"$f":"WORKDAY(D187,-I187,'School closure days'!$B$2:$B$17)","v":"2025-05-19"},"Susan Parsons","S.Parsons@lse.ac.uk"]
["Academic Board","Academic Board",null,"2025-06-04",4,"14:00:00","16:00:00","Y",14,{"$f":"WORKDAY(D188,-I188,'School closure days'!$B$2:$B$17)","v":"2025-05-14"},"Lyndsay Galpin","l.galpin@lse.ac.uk"]
["Professional Services Staff Contribution Group","SMC","HR Management Board","2025-06-04",null,"09:30:00","12:30:00","Y",10,{"$f":"WORKDAY(D189,-I189,'School closure days'!$B$2:$B$17)","v":"2025-05-20"},"Seema Haria","HR.Reward@lse.ac.uk"]
["Governance Committee","Council","Council","2025-06-09",4,"14:30:00","16:30:00","Y",10,{"$f":"WORKDAY(D190,-I190,'School closure days'!$B$2:$B$17)","v":"2025-05-23"},"Hilary Hunter","h.a.hunter@lse.ac.uk"]
["APRC","Academic Board","AB","2025-06-10",null,"14:00:00","16:00:00","Y",10,{"$f":"WORKDAY(D191,-I191,'School closure days'!$B$2:$B$17)","v":"2025-05-27"},"Evert Nivari","e.a.nivari@lse.ac.uk"]
["Finance and Estates Committee","Council","Council","2025-06-10",4,"16:30:00","18:30:00","Y",10,{"$f":"WORKDAY(D192,-I192,'School closure days'!$B$2:$B$17)","v":"2025-05-27"},"Hilary Hunter","h.a.hunter@lse.ac.uk"]
["Appointments Committee","Academic Board","Academic Board","2025-06-11",null,"14:00:00","16:00:00","Y",10,{"$f":"WORKDAY(D193,-I193,'School closure days'!$B$2:$B$17)","v":"2025-05-28"},"Nikhil Kalghatgi","n.kalghatgi@lse.ac.uk"]
["Audit Committee","Council","Council","2025-06-11",4,"15:30:00","17:30:00","Y",10,{"$f":"WORKDAY(D194,-I194,'School closure days'!$B$2:$B$17)","v":"2025-05-28"},"Katie Crystal","k.n.crystal@lse.ac.uk"]
["Departmental Heads Forum","SMC","SMC","2025-06-11",null,"10:00:00","12:00:00","Y",10,{"$f":"WORKDAY(D195,-I195,'School closure days'!$B$2:$B$17)","v":"2025-05-28"},"Chloe Parkin","c.l.parkin@lse.ac.uk"]
["Research Ethics Committee","Academic Board","Research Committee","2025-06-11",null,"14:30:00","16:30:00","Y",10,{"$f":"WORKDAY(D196,-I196,'School closure days'!$B$2:$B$17)","v":"2025-05-28"},"Lyn Grove","l.grove@lse.ac.uk"]
["Joint Negotiating and Consultative Committee","HR",null,"2025-06-12",null,"14:30:00","16:00:00","Y",10,{"$f":"WORKDAY(D197,-I197,'School closure days'!$B$2:$B$17)","v":"2025-05-29"},"Elisabetta Viotto ","E.Viotto@lse.ac.uk"]
["Joint Negotiation, Information and Consultation Committee (JNICC)","HR",null,"2025-06-12",null,"12:30:00","14:30:00","Y",10,{"$f":"WORKDAY(D198,-I198,'School closure days'!$B$2:$B$17)","v":"2025-05-29"},"Elisabetta Viotto ","E.Viotto@lse.ac.uk"]
["Remuneration Committee","Council","Council","2025-06-17",4,"12:30:00","14:30:00","Y",10,{"$f":"WORKDAY(D199,-I199,'School closure days'!$B$2:$B$17)","v":"2025-06-03"},"Hilary Hunter","h.a.hunter@lse.ac.uk"]
["REF Strategy Committee","Academic Board","Research Committee","2025-06-18",null,"14:00:00","16:00:00","Y",10,{"$f":"WORKDAY(D200,-I200,'School closure days'!$B$2:$B$17)","v":"2025-06-04"},"Casimira Headley-Walker","c.headley-walker@lse.ac.uk"]
["Academic Staff Reward Committee","SMC","HR Management Board","2025-06-18",null,"09:00:00","18:00:00","Y",10,{"$f":"WORKDAY(D201,-I201,'School closure days'!$B$2:$B$17)","v":"2025-06-04"},"Seema Haria","HR.Reward@lse.ac.uk"]
["Sustainability Leadership Board","SMC","SMC","2025-06-19",null,"15:30:00","17:00:00","Y",5,{"$f":"WORKDAY(D202,-I202,'School closure days'!$B$2:$B$17)","v":"2025-06-12"},"Sustainability Team","sustainability.team@lse.ac.uk"]
["Council","Council",null,"2025-06-24",4,"15:00:00","18:00:00","Y",10,{"$f":"WORKDAY(D203,-I203,'School closure days'!$B$2:$B$17)","v":"2025-06-10"},"Hilary Hunter","h.a.hunter@lse.ac.uk"]
["Council dinner","Council",null,"2025-06-24",4,"18:00:00","21:00:00","Y",10,{"$f":"WORKDAY(D204,-I204,'School closure days'!$B$2:$B$17)","v":"2025-06-10"},"Hilary Hunter","h.a.hunter@lse.ac.uk"]
["External Funding Ethical Review Board","SMC","SMC","2025-06-25",null,"16:00:00","17:30:00","Y",null,null,"Lyndsay Galpin","l.galpin@lse.ac.uk"]
["HR Management Board","SMC","SMC","2025-06-26",null,"11:00:00","12:30:00","Y",10,{"$f":"WORKDAY(D206,-I206,'School closure days'!$B$2:$B$17)","v":"2025-06-12"},"Sugirtha Damadram ","s.damadram@lse.ac.uk"]
["Research Committee","Academic Board","AB","2025-07-02",null,"14:00:00","16:30:00","Y",10,{"$f":"WORKDAY(D207,-I207,'School closure days'!$B$2:$B$17)","v":"2025-06-18"},"Casimira Headley-Walker","c.headley-walker@lse.ac.uk"]
["Estates Management Board","SMC","SMC","2025-07-02",null,"09:30:00","11:00:00","Y",10,{"$f":"WORKDAY(D208,-I208,'School closure days'!$B$2:$B$17)","v":"2025-06-18"},"Davinder Ratra","d.s.ratra@lse.ac.uk"]
["Information Governance Management Board","SMC","SMC","2025-07-14",null,"13:00:00","15:00:00","Y",10,{"$f":"WORKDAY(D209,-I209,'School closure days'!$B$2:$B$17)","v":"2025-06-30"},"Monica Haile-Selassie","m.haile-selassie@lse.ac.uk"]
["Data and Technology Management Board ","SMC","SMC","2025-07-21",null,"14:00:00","15:45:00","Y",10,{"$f":"WORKDAY(D210,-I210,'School closure days'!$B$2:$B$17)","v":"2025-07-07"},"Louise Hatcher","l.hatcher@lse.ac.uk"]
["Estates Management Board","SMC","SMC","2025-08-06",null,"09:30:00","11:00:00","Y",10,{"$f":"WORKDAY(D211,-I211,'School closure days'!$B$2:$B$17)","v":"2025-07-23"},"Davinder Ratra","d.s.ratra@lse.ac.uk"]
["Bank holiday",null,null,"2025-08-25"]
["Estates Management Board","SMC","SMC","2025-09-03",null,"09:30:00","11:00:00","Y",10,{"$f":"WORKDAY(D213,-I213,'School closure days'!$B$2:$B$17)","v":"2025-08-20"},"Davinder Ratra","d.s.ratra@lse.ac.uk"]
["Information Governance Management Board","SMC","SMC","2025-09-15",null,"13:00:00","15:00:00","N",10,{"$f":"WORKDAY(D214,-I214,'School closure days'!$B$2:$B$17)","v":"2025-09-01"},"Monica Haile-Selassie","m.haile-selassie@lse.ac.uk"]
["Audit Committee","Council","Council","2025-09-30",5,"15:30:00","17:30:00","Y",10,{"$f":"WORKDAY(D215,-I215,'School closure days'!$B$2:$B$17)","v":"2025-09-16"},"Katie Crystal","k.n.crystal@lse.ac.uk"]
["Estates Management Board","SMC","SMC","2025-10-01",null,"09:30:00","11:00:00","Y",10,{"$f":"WORKDAY(D216,-I216,'School closure days'!$B$2:$B$17)","v":"2025-09-17"},"Davinder Ratra","d.s.ratra@lse.ac.uk"]
["Council Awayday","Council",null,"2025-10-07",5,"09:00:00","21:00:00","Y",10,{"$f":"WORKDAY(D217,-I217,'School closure days'!$B$2:$B$17)","v":"2025-09-23"},"Hilary Hunter","h.a.hunter@lse.ac.uk"]
["Honorary Awards Committee","Council","Council","2025-10-14",5,"15:00:00","17:00:00","N",10,{"$f":"WORKDAY(D218,-I218,'School closure days'!$B$2:$B$17)","v":"2025-09-30"},"Lyndsay Galpin","l.galpin@lse.ac.uk"]
["Investments Sub-Committee","Council","Council","2025-10-20",5,"14:00:00","17:00:00","Y",10,{"$f":"WORKDAY(D219,-I219,'School closure days'!$B$2:$B$17)","v":"2025-10-06"},"Katie Crystal","k.n.crystal@lse.ac.uk"]
["Academic Board","Academic Board",null,"2025-10-22",5,"14:00:00","16:00:00","Y",15,{"$f":"WORKDAY(D220,-I220,'School closure days'!$B$2:$B$17)","v":"2025-10-01"},"Lyndsay Galpin","l.galpin@lse.ac.uk"]
["Remuneration Committee","Council","Council","2025-10-28",5,"15:00:00","17:00:00","Y",10,{"$f":"WORKDAY(D221,-I221,'School closure days'!$B$2:$B$17)","v":"2025-10-14"},"Hilary Hunter","h.a.hunter@lse.ac.uk"]
["Data and Technology Management Board ","SMC","SMC","2025-10-30",null,"10:00:00","11:45:00","Y",10,{"$f":"WORKDAY(D222,-I222,'School closure days'!$B$2:$B$17)","v":"2025-10-16"},"Louise Hatcher","l.hatcher@lse.ac.uk"]
["Estates Management Board","SMC","SMC","2025-11-05",null,"09:30:00","11:00:00","Y",10,{"$f":"WORKDAY(D223,-I223,'School closure days'!$B$2:$B$17)","v":"2025-10-22"},"Davinder Ratra","d.s.ratra@lse.ac.uk"]
["Governance Committee","Council","Council","2025-11-07",5,"15:00:00","17:00:00","N",10,{"$f":"WORKDAY(D224,-I224,'School closure days'!$B$2:$B$17)","v":"2025-10-24"},"Hilary Hunter","h.a.hunter@lse.ac.uk"]
["Finance and Estates Committee","Council","Council","2025-11-10",5,"16:30:00","18:30:00","Y",10,{"$f":"WORKDAY(D225,-I225,'School closure days'!$B$2:$B$17)","v":"2025-10-27"},"Hilary Hunter","h.a.hunter@lse.ac.uk"]
["Audit Committee","Council","Council","2025-11-11",5,"15:30:00","17:30:00","Y",10,{"$f":"WORKDAY(D226,-I226,'School closure days'!$B$2:$B$17)","v":"2025-10-28"},"Katie Crystal","k.n.crystal@lse.ac.uk"]
["Information Governance Management Board","SMC","SMC","2025-11-17",null,"13:00:00","15:00:00","N",10,{"$f":"WORKDAY(D227,-I227,'School closure days'!$B$2:$B$17)","v":"2025-11-03"},"Monica Haile-Selassie","m.haile-selassie@lse.ac.uk"]
["Council","Council",null,"2025-11-25",5,"15:00:00","18:00:00","Y",10,{"$f":"WORKDAY(D228,-I228,'School closure days'!$B$2:$B$17)","v":"2025-11-11"},"Hilary Hunter","h.a.hunter@lse.ac.uk"]
["Academic Board","Academic Board",null,"2025-11-26",6,"14:00:00","16:00:00","Y",15,{"$f":"WORKDAY(D229,-I229,'School closure days'!$B$2:$B$17)","v":"2025-11-05"},"Lyndsay Galpin","l.galpin@lse.ac.uk"]
["Estates Management Board","SMC","SMC","2025-12-03",null,"09:30:00","11:00:00","Y",10,{"$f":"WORKDAY(D230,-I230,'School closure days'!$B$2:$B$17)","v":"2025-11-19"},"Davinder Ratra","d.s.ratra@lse.ac.uk"]
["Ethics Committee","Council","Council","2025-12-09",6,"15:00:00","17:00:00","N",10,{"$f":"WORKDAY(D231,-I231,'School closure days'!$B$2:$B$17)","v":"2025-11-25"},"Lyndsay Galpin","l.galpin@lse.ac.uk"]
["School closure",null,null,"2025-12-23"]
["School closure",null,null,"2025-12-24"]
["Bank holiday",null,null,"2025-12-25"]
["Bank holiday",null,null,"2025-12-26"]
["School closure",null,null,"2025-12-29"]
["School closure",null,null,"2025-12-30"]
["School closure",null,null,"2025-12-31"]
["Bank holiday",null,null,"2026-01-01"]
["Estates Management Board","SMC","SMC","2026-01-07",null,"09:30:00","11:00:00","Y",10,{"$f":"WORKDAY(D240,-I240,'School closure days'!$B$2:$B$17)","v":"2025-12-24"},"Davinder Ratra","d.s.ratra@lse.ac.uk"]
["Information Governance Management Board","SMC","SMC","2026-01-19",null,"13:00:00","15:00:00","N",10,{"$f":"WORKDAY(D241,-I241,'School closure days'!$B$2:$B$17)","v":"2026-01-05"},"Monica Haile-Selassie","m.haile-selassie@lse.ac.uk"]
["Audit Committee Awayday","Council","Council","2026-01-21",6,"10:00:00","13:00:00","Y",10,{"$f":"WORKDAY(D242,-I242,'School closure days'!$B$2:$B$17)","v":"2026-01-07"},"Katie Crystal","k.n.crystal@lse.ac.uk"]
["Finance and Estates Committee","Council","Council","2026-01-27",6,"16:30:00","18:30:00","Y",10,{"$f":"WORKDAY(D243,-I243,'School closure days'!$B$2:$B$17)","v":"2026-01-13"},"Hilary Hunter","h.a.hunter@lse.ac.uk"]
["Governance Committee","Council","Council","2026-02-02",6,"14:30:00","16:30:00","N",10,{"$f":"WORKDAY(D244,-I244,'School closure days'!$B$2:$B$17)","v":"2026-01-19"},"Hilary Hunter","h.a.hunter@lse.ac.uk"]
["Honorary Awards Committee","Council","Council","2026-02-03",6,"15:00:00","17:00:00","N",10,{"$f":"WORKDAY(D245,-I245,'School closure days'!$B$2:$B$17)","v":"2026-01-20"},"Lyndsay Galpin","l.galpin@lse.ac.uk"]
["Academic Board","Academic Board",null,"2026-02-04",6,"14:00:00","16:00:00","Y",15,{"$f":"WORKDAY(D246,-I246,'School closure days'!$B$2:$B$17)","v":"2026-01-14"},"Lyndsay Galpin","l.galpin@lse.ac.uk"]
["Estates Management Board","SMC","SMC","2026-02-04",null,"09:30:00","11:00:00","Y",10,{"$f":"WORKDAY(D247,-I247,'School closure days'!$B$2:$B$17)","v":"2026-01-21"},"Davinder Ratra","d.s.ratra@lse.ac.uk"]
["Audit Committee","Council","Council","2026-02-10",6,"15:30:00","17:30:00","Y",10,{"$f":"WORKDAY(D248,-I248,'School closure days'!$B$2:$B$17)","v":"2026-01-27"},"Katie Crystal","k.n.crystal@lse.ac.uk"]
["Council","Council",null,"2026-02-24",6,"15:00:00","18:00:00","Y",10,{"$f":"WORKDAY(D249,-I249,'School closure days'!$B$2:$B$17)","v":"2026-02-10"},"Hilary Hunter","h.a.hunter@lse.ac.uk"]
["Estates Management Board","SMC","SMC","2026-03-04",null,"09:30:00","11:00:00","Y",10,{"$f":"WORKDAY(D250,-I250,'School closure days'!$B$2:$B$17)","v":"2026-02-18"},"Davinder Ratra","d.s.ratra@lse.ac.uk"]
["Investments Sub-Committee","Council","Council","2026-03-10",7,"14:00:00","17:00:00","Y",10,{"$f":"WORKDAY(D251,-I251,'School closure days'!$B$2:$B$17)","v":"2026-02-24"},"Katie Crystal","k.n.crystal@lse.ac.uk"]
["Academic Board","Academic Board",null,"2026-03-11",7,"14:00:00","16:00:00","Y",15,{"$f":"WORKDAY(D252,-I252,'School closure days'!$B$2:$B$17)","v":"2026-02-18"},"Lyndsay Galpin","l.galpin@lse.ac.uk"]
["Information Governance Management Board","SMC","SMC","2026-03-16",null,"13:00:00","15:00:00","N",10,{"$f":"WORKDAY(D253,-I253,'School closure days'!$B$2:$B$17)","v":"2026-03-02"},"Monica Haile-Selassie","m.haile-selassie@lse.ac.uk"]
["Finance and Estates Committee","Council","Council","2026-03-17",7,"16:30:00","18:30:00","Y",10,{"$f":"WORKDAY(D254,-I254,'School closure days'!$B$2:$B$17)","v":"2026-03-03"},"Hilary Hunter","h.a.hunter@lse.ac.uk"]
["Estates Management Board","SMC","SMC","2026-04-01",null,"09:30:00","11:00:00","Y",10,{"$f":"WORKDAY(D255,-I255,'School closure days'!$B$2:$B$17)","v":"2026-03-18"},"Davinder Ratra","d.s.ratra@lse.ac.uk"]
["Bank holiday",null,null,"2026-04-03"]
["Bank holiday",null,null,"2026-04-06"]
["Honorary Awards Committee","Council","Council","2026-04-14",7,"15:00:00","17:00:00","N",10,{"$f":"WORKDAY(D258,-I258,'School closure days'!$B$2:$B$17)","v":"2026-03-31"},"Lyndsay Galpin","l.galpin@lse.ac.uk"]
["Remuneration Committee","Council","Council","2026-04-14",7,"12:30:00","14:30:00","Y",10,{"$f":"WORKDAY(D259,-I259,'School closure days'!$B$2:$B$17)","v":"2026-03-31"},"Hilary Hunter","h.a.hunter@lse.ac.uk"]
["Bank holiday",null,null,"2026-05-04"]
["Council","Council",null,"2026-05-05",7,"15:00:00","18:00:00","Y",10,{"$f":"WORKDAY(D261,-I261,'School closure days'!$B$2:$B$17)","v":"2026-04-21"},"Hilary Hunter","h.a.hunter@lse.ac.uk"]
["Academic Board","Academic Board",null,"2026-05-06",8,"14:00:00","16:00:00","Y",15,{"$f":"WORKDAY(D262,-I262,'School closure days'!$B$2:$B$17)","v":"2026-04-15"},"Lyndsay Galpin","l.galpin@lse.ac.uk"]
["Estates Management Board","SMC","SMC","2026-05-06",null,"09:30:00","11:00:00","Y",10,{"$f":"WORKDAY(D263,-I263,'School closure days'!$B$2:$B$17)","v":"2026-04-22"},"Davinder Ratra","d.s.ratra@lse.ac.uk"]
["Information Governance Management Board","SMC","SMC","2026-05-18",null,"13:00:00","15:00:00","N",10,{"$f":"WORKDAY(D264,-I264,'School closure days'!$B$2:$B$17)","v":"2026-05-04"},"Monica Haile-Selassie","m.haile-selassie@lse.ac.uk"]
["Bank holiday",null,null,"2026-05-25"]
["Investments Sub-Committee","Council","Council","2026-05-26",8,"14:00:00","17:00:00","Y",10,{"$f":"WORKDAY(D266,-I266,'School closure days'!$B$2:$B$17)","v":"2026-05-12"},"Katie Crystal","k.n.crystal@lse.ac.uk"]
["Ethics Committee","Council","Council","2026-06-02",8,"15:00:00","17:00:00","N",10,{"$f":"WORKDAY(D267,-I267,'School closure days'!$B$2:$B$17)","v":"2026-05-19"},"Lyndsay Galpin","l.galpin@lse.ac.uk"]
["Academic Board","Academic Board",null,"2026-06-03",8,"14:00:00","16:00:00","Y",15,{"$f":"WORKDAY(D268,-I268,'School closure days'!$B$2:$B$17)","v":"2026-05-13"},"Lyndsay Galpin","l.galpin@lse.ac.uk"]
["Estates Management Board","SMC","SMC","2026-06-03",null,"09:30:00","11:00:00","Y",10,{"$f":"WORKDAY(D269,-I269,'School closure days'!$B$2:$B$17)","v":"2026-05-20"},"Davinder Ratra","d.s.ratra@lse.ac.uk"]
["Governance Committee","Council","Council","2026-06-08",8,"14:30:00","16:30:00","N",10,{"$f":"WORKDAY(D270,-I270,'School closure days'!$B$2:$B$17)","v":"2026-05-25"},"Hilary Hunter","h.a.hunter@lse.ac.uk"]
["Finance and Estates Committee","Council","Council","2026-06-09",8,"16:30:00","18:30:00","Y",10,{"$f":"WORKDAY(D271,-I271,'School closure days'!$B$2:$B$17)","v":"2026-05-26"},"Hilary Hunter","h.a.hunter@lse.ac.uk"]
["Audit Committee","Council","Council","2026-06-10",8,"15:30:00","17:30:00","Y",10,{"$f":"WORKDAY(D272,-I272,'School closure days'!$B$2:$B$17)","v":"2026-05-27"},"Katie Crystal","k.n.crystal@lse.ac.uk"]
["Remuneration Committee","Council","Council","2026-06-16",8,"12:30:00","14:30:00","Y",10,{"$f":"WORKDAY(D273,-I273,'School closure days'!$B$2:$B$17)","v":"2026-06-02"},"Hilary Hunter","h.a.hunter@lse.ac.uk"]
["Council","Council",null,"2026-06-23",8,"15:00:00","18:00:00","Y",10,{"$f":"WORKDAY(D274,-I274,'School closure days'!$B$2:$B$17)","v":"2026-06-09"},"Hilary Hunter","h.a.hunter@lse.ac.uk"]
["Council dinner","Council",null,"2026-06-23",8,"18:00:00","21:00:00","Y",null,null,"Hilary Hunter","h.a.hunter@lse.ac.uk"]
["Estates Management Board","SMC","SMC","2026-07-01",null,"09:30:00","11:00:00","Y",10,{"$f":"WORKDAY(D276,-I276,'School closure days'!$B$2:$B$17)","v":"2026-06-17"},"Davinder Ratra","d.s.ratra@lse.ac.uk"]
["Information Governance Management Board","SMC","SMC","2026-07-20",null,"13:00:00","15:00:00","N",10,{"$f":"WORKDAY(D277,-I277,'School closure days'!$B$2:$B$17)","v":"2026-07-06"},"Monica Haile-Selassie","m.haile-selassie@lse.ac.uk"]

{"sheet":"School closure days","index":1,"n_rows":34,"n_cols":3,"rows_kept":34,"cut":false,"hidden":false,"merged":[]}
["Year","Date","Type of holiday"]
["2024/2025","2024-08-26","Bank holiday"]
["2024/2025","2024-12-23","School closure"]
["2024/2025","2024-12-24","School closure"]
["2024/2025","2024-12-25","Bank holiday"]
["2024/2025","2024-12-26","Bank holiday"]
["2024/2025","2024-12-27","School closure"]
["2024/2025","2024-12-30","School closure"]
["2024/2025","2024-12-31","School closure"]
["2024/2025","2025-01-01","Bank holiday"]
["2024/2025","2025-04-17","School closure"]
["2024/2025","2025-04-18","Bank holiday"]
["2024/2025","2025-04-21","Bank holiday"]
["2024/2025","2025-04-22","School closure"]
["2024/2025","2025-04-23","School closure"]
["2024/2025","2025-05-05","Bank holiday"]
["2024/2025","2025-05-26","Bank holiday"]
["2025/2026","2025-08-25","Bank holiday"]
["2025/2026","2025-12-23","School closure"]
["2025/2026","2025-12-24","School closure"]
["2025/2026","2025-12-25","Bank holiday"]
["2025/2026","2025-12-26","Bank holiday"]
["2025/2026","2025-12-29","School closure"]
["2025/2026","2025-12-30","School closure"]
["2025/2026","2025-12-31","School closure"]
["2025/2026"]
["2025/2026"]
["2025/2026"]
["2025/2026"]
["2025/2026"]
["2025/2026"]
["2025/2026"]
["2025/2026"]
["2025/2026"]