{"text_format":"1","workbook":"xlsx","n_sheets":2,"sheets":["2025-26 Planner","School closure days"],"not_rendered":{"charts":0,"images":0,"macros":1,"external_links":0,"defined_names":3,"comments":0,"pivot_tables":0},"unopened":[],"bounds":{"document_bytes":16777216,"sheet_cells":100000,"rows_first":2000,"rows_last":500,"rows_between":2000,"halvings":0,"cell_chars":16384,"cell_head_chars":4096},"cells_cut":0,"cells_raw":0,"read":"whole","date_system":"1900"}

{"sheet":"2025-26 Planner","index":0,"n_rows":271,"n_cols":14,"rows_kept":271,"cut":false,"hidden":false,"merged":[]}
["Committee","Area ","Reports to","Cycle","2025/26 date","Start","End","Confirmed","Deadline days","Deadline date","Secretary /Organiser","Email",{"$f":"\"This calendar was last updated on \" & TEXT((LastModified),\"dd mmmm yyy\")","v":{"$error":"#NAME?"}}]
["Estates Management Board","SMC","SMC",null,"2025-07-30","09:30:00","11:00:00","Y",10,{"$f":"WORKDAY(E2,-I2,'School closure days'!$B$2:$B$17)","v":"2025-07-16"},"Davinder Ratra","d.s.ratra@lse.ac.uk",{"$f":"N2","v":46234},"2026-07-31"]
["Bank holiday",null,null,null,"2025-08-25",null,null,"Y",null,null,null,null,{"$f":"N3","v":46600},"2027-08-01"]
["Estates Management Board","SMC","SMC",null,"2025-09-03","09:30:00","11:00:00","Y",10,{"$f":"WORKDAY(E4,-I4,'School closure days'!$B$2:$B$17)","v":"2025-08-19"},"Davinder Ratra","d.s.ratra@lse.ac.uk"]
["Information Governance Management Board","SMC","SMC",null,"2025-09-15","13:00:00","15:00:00","Y",10,{"$f":"WORKDAY(E5,-I5,'School closure days'!$B$2:$B$17)","v":"2025-09-01"},"Monica Haile-Selassie","m.haile-selassie@lse.ac.uk"]
["APRC Agenda Committee","Academic Board","APRC",null,"2025-09-29","11:00:00","11:30:00","Y",10,{"$f":"WORKDAY(E6,-I6,'School closure days'!$B$2:$B$17)","v":"2025-09-15"},"Evert Nivari","e.a.nivari@lse.ac.uk"]
["HR Management Board","SMC","SMC",null,"2025-09-29","11:00:00","12:30:00","Y",10,{"$f":"WORKDAY(E7,-I7,'School closure days'!$B$2:$B$17)","v":"2025-09-15"},"Sugirtha Damadram ","s.damadram@lse.ac.uk"]
["Audit Committee","Council","Council",1,"2025-09-30","15:30:00","17:30:00","Y",10,{"$f":"WORKDAY(E8,-I8,'School closure days'!$B$2:$B$17)","v":"2025-09-16"},"Katie Crystal","k.n.crystal@lse.ac.uk"]
["Promotions Committee (Induction for new members)","Academic Board","Appointments Committee",null,"2025-10-01","10:00:00","12:00:00","Y",10,{"$f":"WORKDAY(E9,-I9,'School closure days'!$B$2:$B$17)","v":"2025-09-17"},"Nikhil Kalghatgi","n.kalghatgi@lse.ac.uk"]
["Graduate Studies Sub Committee","Academic Board","Education Committee",null,"2025-10-01","14:00:00","17:00:00","Y",15,{"$f":"WORKDAY(E10,-I10,'School closure days'!$B$2:$B$17)","v":"2025-09-10"},"Janine Olding","j.olding@lse.ac.uk"]
["Undergraduate Studies Sub Committee","Academic Board","Education Committee",null,"2025-10-01","10:30:00","13:00:00","Y",15,{"$f":"WORKDAY(E11,-I11,'School closure days'!$B$2:$B$17)","v":"2025-09-10"},"KC Ho","k.c.ho@lse.ac.uk"]
["Council Awayday","Council",null,1,"2025-10-07","09:00:00","21:00:00","Y",10,{"$f":"WORKDAY(E12,-I12,'School closure days'!$B$2:$B$17)","v":"2025-09-23"},"Andrew Browning","a.browning@lse.ac.uk"]
["Estates Management Board","SMC","SMC",null,"2025-10-08","09:30:00","11:00:00","Y",10,{"$f":"WORKDAY(E13,-I13,'School closure days'!$B$2:$B$17)","v":"2025-09-24"},"Davinder Ratra","d.s.ratra@lse.ac.uk"]
["Departmental Heads Forum","SMC","SMC",null,"2025-10-08","10:00:00","12:00:00","Y",10,{"$f":"WORKDAY(E14,-I14,'School closure days'!$B$2:$B$17)","v":"2025-09-24"},"Chloe Parkin","c.l.parkin@lse.ac.uk"]
["APRC","Academic Board","AB",null,"2025-10-14","14:00:00","16:00:00","Y",10,{"$f":"WORKDAY(E15,-I15,'School closure days'!$B$2:$B$17)","v":"2025-09-30"},"Evert Nivari","e.a.nivari@lse.ac.uk"]
["Honorary Awards Committee","Council","Council",1,"2025-10-14","15:00:00","17:00:00","Y",15,{"$f":"WORKDAY(E16,-I16,'School closure days'!$B$2:$B$17)","v":"2025-09-23"},"Lyndsay Galpin","l.galpin@lse.ac.uk"]
["Research Committee","Academic Board","AB",null,"2025-10-15","14:00:00","16:30:00","Y",10,{"$f":"WORKDAY(E17,-I17,'School closure days'!$B$2:$B$17)","v":"2025-10-01"},"Casimira Headley-Walker","c.headley-walker@lse.ac.uk"]
["Doctoral Programme Directors' Forum","Stakeholder Engagement",null,null,"2025-10-15","14:00:00","16:00:00","Y",10,{"$f":"WORKDAY(E18,-I18,'School closure days'!$B$2:$B$17)","v":"2025-10-01"},"Freya Grisoni","F.Grisoni@lse.ac.uk"]
["External Funding Ethical Review Board","SMC","SMC",null,"2025-10-15","16:00:00","17:30:00","Y",null,{"$f":"WORKDAY(E19,-I19,'School closure days'!$B$2:$B$17)","v":"2025-10-15"},"Lyndsay Galpin","l.galpin@lse.ac.uk"]
["Education Committee","Academic Board","AB",null,"2025-10-15","14:00:00","16:30:00","Y",12,{"$f":"WORKDAY(E20,-I20,'School closure days'!$B$2:$B$17)","v":"2025-09-29"},"Tom Hewlett","t.w.hewlett@lse.ac.uk"]
["Investments Sub-Committee","Council","Council",1,"2025-10-20","14:00:00","17:00:00","Y",10,{"$f":"WORKDAY(E21,-I21,'School closure days'!$B$2:$B$17)","v":"2025-10-06"},"Katie Crystal","k.n.crystal@lse.ac.uk"]
["APRC Agenda Committee","Academic Board","APRC",null,"2025-10-21","11:00:00","11:30:00","Y",10,{"$f":"WORKDAY(E22,-I22,'School closure days'!$B$2:$B$17)","v":"2025-10-07"},"Evert Nivari","e.a.nivari@lse.ac.uk"]
["Financial Management Board","SMC","SMC",null,"2025-10-21","11:00:00","12:30:00","Y",7,{"$f":"WORKDAY(E23,-I23,'School closure days'!$B$2:$B$17)","v":"2025-10-10"},"Chloe Parkin","c.l.parkin@lse.ac.uk"]
["Sustainability Leadership Board","SMC","SMC",null,"2025-10-23","11:00:00","12:30:00","Y",5,{"$f":"WORKDAY(E24,-I24,'School closure days'!$B$2:$B$17)","v":"2025-10-16"},"Sustainability Team","sustainability.team@lse.ac.uk"]
["Student Sports and Activities Committee","Academic Board","Education Committee",null,"2025-10-28","16:00:00","17:00:00","Y",10,{"$f":"WORKDAY(E25,-I25,'School closure days'!$B$2:$B$17)","v":"2025-10-14"},"Susan Parsons","S.Parsons@lse.ac.uk"]
["Meet LSE Leadership student event","SMC",null,null,"2025-10-28","14:00:00","16:00:00","Y",null,{"$f":"WORKDAY(E26,-I26,'School closure days'!$B$2:$B$17)","v":"2025-10-28"},"Ali Annenberg","a.annenberg@lse.ac.uk"]
["Remuneration Committee","Council","Council",1,"2025-10-28","12:30:00","14:30:00","Y",10,{"$f":"WORKDAY(E27,-I27,'School closure days'!$B$2:$B$17)","v":"2025-10-14"},"Andrew Browning","a.browning@lse.ac.uk"]
["Estates Management Board","SMC","SMC",null,"2025-10-29","09:30:00","11:00:00","Y",10,{"$f":"WORKDAY(E28,-I28,'School closure days'!$B$2:$B$17)","v":"2025-10-15"},"Davinder Ratra","d.s.ratra@lse.ac.uk"]
["Research Degrees Sub Committee","Academic Board","Education Committee",null,"2025-10-29","14:00:00","16:00:00","Y",15,{"$f":"WORKDAY(E29,-I29,'School closure days'!$B$2:$B$17)","v":"2025-10-08"},"Pete Mills ","p.b.mills@lse.ac.uk"]
["Research Ethics Review Board","Academic Board","Research Committee",null,"2025-10-29","14:00:00","16:00:00","Y",10,{"$f":"WORKDAY(E30,-I30,'School closure days'!$B$2:$B$17)","v":"2025-10-15"},"Lyn Grove","l.grove@lse.ac.uk"]
["Agenda Committee of the Academic Board","Academic Board","AB",null,"2025-10-30","12:00:00","14:00:00","Y",6,{"$f":"WORKDAY(E31,-I31,'School closure days'!$B$2:$B$17)","v":"2025-10-22"},"Lyndsay Galpin","l.galpin@lse.ac.uk"]
["Data and Technology Management Board ","SMC","SMC",null,"2025-10-30","10:00:00","11:45:00","Y",10,{"$f":"WORKDAY(E32,-I32,'School closure days'!$B$2:$B$17)","v":"2025-10-16"},"Louise Hatcher","l.hatcher@lse.ac.uk"]
["Office Holders Group","HR","Director",null,"2025-11-03","15:00:00","16:15:00","Y",10,{"$f":"WORKDAY(E33,-I33,'School closure days'!$B$2:$B$17)","v":"2025-10-20"},"Raj Lakhani","HR.Reward@lse.ac.uk"]
["APRC","Academic Board","AB",null,"2025-11-04","14:00:00","16:00:00","Y",10,{"$f":"WORKDAY(E34,-I34,'School closure days'!$B$2:$B$17)","v":"2025-10-21"},"Evert Nivari","e.a.nivari@lse.ac.uk"]
["REF Strategy Committee","Academic Board","Research Committee",null,"2025-11-05","14:00:00","16:00:00","Y",10,{"$f":"WORKDAY(E35,-I35,'School closure days'!$B$2:$B$17)","v":"2025-10-22"},"Casimira Headley-Walker","c.headley-walker@lse.ac.uk"]
["Regulations, Policy and Standards Sub Committee","Academic Board","Education Committee",null,"2025-11-05","14:00:00","16:00:00","Y",10,{"$f":"WORKDAY(E36,-I36,'School closure days'!$B$2:$B$17)","v":"2025-10-22"},"Casey Hawkins","c.hawkins@lse.ac.uk"]
["Staff town Hall","SMC",null,null,"2025-11-06","10:15:00","11:30:00","Y",null,{"$f":"WORKDAY(E37,-I37,'School closure days'!$B$2:$B$17)","v":"2025-11-06"},"Ali Annenberg","a.annenberg@lse.ac.uk"]
["Governance Committee","Council","Council",1,"2025-11-07","14:30:00","16:30:00","Y",10,{"$f":"WORKDAY(E38,-I38,'School closure days'!$B$2:$B$17)","v":"2025-10-24"},"Andrew Browning","a.browning@lse.ac.uk"]
["Finance and Estates Committee","Council","Council",1,"2025-11-10","16:30:00","18:30:00","Y",10,{"$f":"WORKDAY(E39,-I39,'School closure days'!$B$2:$B$17)","v":"2025-10-27"},"Meaghan Saunders","m.k.saunders@lse.ac.uk"]
["Audit Committee","Council","Council",1,"2025-11-11","15:30:00","17:30:00","Y",10,{"$f":"WORKDAY(E40,-I40,'School closure days'!$B$2:$B$17)","v":"2025-10-28"},"Katie Crystal","k.n.crystal@lse.ac.uk"]
["PhD Managers' Forum","Academic Board",null,null,"2025-11-11","14:00:00","16:00:00","Y",10,{"$f":"WORKDAY(E41,-I41,'School closure days'!$B$2:$B$17)","v":"2025-10-28"},"Amy Brook / Monika Kruesmann","a.brook1@lse.ac.uk / m.h.kruesmann@lse.ac.uk"]
["Academic Board","Academic Board",null,1,"2025-11-12","14:00:00","17:00:00","Y",15,{"$f":"WORKDAY(E42,-I42,'School closure days'!$B$2:$B$17)","v":"2025-10-22"},"Lyndsay Galpin","l.galpin@lse.ac.uk"]
["Departmental Tutors' Consultative Forum ","SSC",null,null,"2025-11-12","14:00:00","16:00:00","Y",10,{"$f":"WORKDAY(E43,-I43,'School closure days'!$B$2:$B$17)","v":"2025-10-29"},"Tasho Rachev","ssc.student-advice-engagement@lse.ac.uk"]
["Promotions Committee (Schedule of Business)","Academic Board","Appointments Committee",null,"2025-11-12","10:00:00","16:00:00","Y",10,{"$f":"WORKDAY(E44,-I44,'School closure days'!$B$2:$B$17)","v":"2025-10-29"},"Nikhil Kalghatgi","n.kalghatgi@lse.ac.uk"]
["International Programmes Board","Academic Board","Education Committee",null,"2025-11-13","10:00:00","12:00:00","Y",10,{"$f":"WORKDAY(E45,-I45,'School closure days'!$B$2:$B$17)","v":"2025-10-30"},"Jack  Wolvey","uolip@lse.ac.uk "]
["Student Experience Sub-Committee","Academic Board","Education Committee",null,"2025-11-13","13:00:00","16:00:00","Y",10,{"$f":"WORKDAY(E46,-I46,'School closure days'!$B$2:$B$17)","v":"2025-10-30"},"Susan Parsons","S.Parsons@lse.ac.uk"]
["Student Numbers and Fees (SNAF) Group ","Academic Board","APRC",null,"2025-11-13","10:00:00","12:00:00","Y",10,{"$f":"WORKDAY(E47,-I47,'School closure days'!$B$2:$B$17)","v":"2025-10-30"},"Planning Division","Planning.division@lse.ac.uk"]
["Information Governance Management Board","SMC","SMC",null,"2025-11-17","13:00:00","15:00:00","Y",10,{"$f":"WORKDAY(E48,-I48,'School closure days'!$B$2:$B$17)","v":"2025-11-03"},"Monica Haile-Selassie","m.haile-selassie@lse.ac.uk"]
["APRC Agenda Committee","Academic Board","APRC",null,"2025-11-18","11:00:00","11:30:00","Y",10,{"$f":"WORKDAY(E49,-I49,'School closure days'!$B$2:$B$17)","v":"2025-11-04"},"Evert Nivari","e.a.nivari@lse.ac.uk"]
["Graduate Studies Sub Committee","Academic Board","Education Committee",null,"2025-11-19","14:00:00","17:00:00","Y",15,{"$f":"WORKDAY(E50,-I50,'School closure days'!$B$2:$B$17)","v":"2025-10-29"},"Janine Olding","j.olding@lse.ac.uk"]
["Undergraduate Studies Sub Committee","Academic Board","Education Committee",null,"2025-11-19","10:30:00","13:00:00","Y",15,{"$f":"WORKDAY(E51,-I51,'School closure days'!$B$2:$B$17)","v":"2025-10-29"},"KC Ho","k.c.ho@lse.ac.uk"]
["Joint Negotiating and Consultative Committee","HR",null,null,"2025-11-20","14:30:00","16:00:00","Y",10,{"$f":"WORKDAY(E52,-I52,'School closure days'!$B$2:$B$17)","v":"2025-11-06"},"Beno Azebiah","b.azebiah@lse.ac.uk"]
["Joint Negotiation, Information and Consultation Committee (JNICC)","HR",null,null,"2025-11-20","12:30:00","14:30:00","Y",10,{"$f":"WORKDAY(E53,-I53,'School closure days'!$B$2:$B$17)","v":"2025-11-06"},"Beno Azebiah","b.azebiah@lse.ac.uk"]
["Departmental Heads Forum","SMC","SMC",null,"2025-11-20","10:00:00","12:00:00","Y",10,{"$f":"WORKDAY(E54,-I54,'School closure days'!$B$2:$B$17)","v":"2025-11-06"},"Chloe Parkin","c.l.parkin@lse.ac.uk"]
["Academic Nominations Committee","Academic Board","AB",null,"2025-11-24","14:00:00","16:00:00","Y",10,{"$f":"WORKDAY(E55,-I55,'School closure days'!$B$2:$B$17)","v":"2025-11-10"},"Lyndsay Galpin","l.galpin@lse.ac.uk"]
["Council","Council",null,1,"2025-11-25","15:00:00","18:00:00","Y",10,{"$f":"WORKDAY(E56,-I56,'School closure days'!$B$2:$B$17)","v":"2025-11-11"},"Andrew Browning","a.browning@lse.ac.uk"]
["Research and Policy Staff Committee","Academic Board","Appointments Committee",null,"2025-11-26","10:00:00","12:00:00","Y",10,{"$f":"WORKDAY(E57,-I57,'School closure days'!$B$2:$B$17)","v":"2025-11-12"},"Abhi Chakraborty","a.chakraborty5@lse.ac.uk"]
["Professional Services Staff Contribution Group","SMC","HR Management Board",null,"2025-11-27","14:30:00","16:30:00","Y",10,{"$f":"WORKDAY(E58,-I58,'School closure days'!$B$2:$B$17)","v":"2025-11-13"},"Raj Lakhani","HR.Reward@lse.ac.uk"]
["APRC","Academic Board","AB",null,"2025-12-02","14:00:00","16:00:00","Y",10,{"$f":"WORKDAY(E59,-I59,'School closure days'!$B$2:$B$17)","v":"2025-11-18"},"Evert Nivari","e.a.nivari@lse.ac.uk"]
["Financial Management Board","SMC","SMC",null,"2025-12-02","11:00:00","12:30:00","Y",7,{"$f":"WORKDAY(E60,-I60,'School closure days'!$B$2:$B$17)","v":"2025-11-21"},"Chloe Parkin","c.l.parkin@lse.ac.uk"]
["Estates Management Board","SMC","SMC",null,"2025-12-03","09:30:00","11:00:00","Y",10,{"$f":"WORKDAY(E61,-I61,'School closure days'!$B$2:$B$17)","v":"2025-11-19"},"Davinder Ratra","d.s.ratra@lse.ac.uk"]
["Research Students' Consultative Forum","Stakeholder Engagement",null,null,"2025-12-03","14:00:00","16:00:00","Y",10,{"$f":"WORKDAY(E62,-I62,'School closure days'!$B$2:$B$17)","v":"2025-11-19"},"Evan Saunders","e.saunders2@lse.ac.uk "]
["Research Committee","Academic Board","AB",null,"2025-12-03","14:00:00","16:30:00","Y",10,{"$f":"WORKDAY(E63,-I63,'School closure days'!$B$2:$B$17)","v":"2025-11-19"},"Casimira Headley-Walker","c.headley-walker@lse.ac.uk"]
["Masters Students' Consultative Forum","Stakeholder Engagement",null,null,"2025-12-10","10:00:00","12:00:00","Y",10,{"$f":"WORKDAY(E64,-I64,'School closure days'!$B$2:$B$17)","v":"2025-11-26"},"Evan Saunders","e.saunders2@lse.ac.uk "]
["Undergraduate Students Consultative Forum","Stakeholder Engagement",null,null,"2025-12-10","14:00:00","16:00:00","Y",10,{"$f":"WORKDAY(E65,-I65,'School closure days'!$B$2:$B$17)","v":"2025-11-26"},"Evan Saunders","e.saunders2@lse.ac.uk "]
["International Strategy Board",null,null,null,"2025-12-10","12:00:00","14:00:00","Y",null,null,"Stephanie Cloots","s.g.cloots@lse.ac.uk"]
["School closure",null,null,null,"2025-12-22",null,null,"Y"]
["School closure",null,null,null,"2025-12-23",null,null,"Y"]
["Bank holiday",null,null,null,"2025-12-24",null,null,"Y"]
["Bank holiday",null,null,null,"2025-12-25",null,null,"Y"]
["School closure",null,null,null,"2025-12-26",null,null,"Y"]
["School closure",null,null,null,"2025-12-29",null,null,"Y"]
["School closure",null,null,null,"2025-12-30",null,null,"Y"]
["Bank holiday",null,null,null,"2025-12-31",null,null,"Y"]
["Information Governance Management Board","SMC","SMC",null,"2026-01-12","13:00:00","15:00:00","Y",10,{"$f":"WORKDAY(E75,-I75,'School closure days'!$B$2:$B$17)","v":"2025-12-17"},"Monica Haile-Selassie","m.haile-selassie@lse.ac.uk"]
["APRC Agenda Committee","Academic Board","APRC",null,"2026-01-13","11:00:00","11:30:00","Y",10,{"$f":"WORKDAY(E76,-I76,'School closure days'!$B$2:$B$17)","v":"2025-12-18"},"Evert Nivari","e.a.nivari@lse.ac.uk"]
["Financial Management Board","SMC","SMC",null,"2026-01-13","11:00:00","12:30:00","Y",9,{"$f":"WORKDAY(E77,-I77,'School closure days'!$B$2:$B$17)","v":"2025-12-19"},"Chloe Parkin","c.l.parkin@lse.ac.uk"]
["Graduate Studies Sub Committee","Academic Board","Education Committee",null,"2026-01-14","14:00:00","17:00:00","Y",15,{"$f":"WORKDAY(E78,-I78,'School closure days'!$B$2:$B$17)","v":"2025-12-12"},"Janine Olding","j.olding@lse.ac.uk"]
["Undergraduate Studies Sub Committee","Academic Board","Education Committee",null,"2026-01-14","10:30:00","13:00:00","Y",15,{"$f":"WORKDAY(E79,-I79,'School closure days'!$B$2:$B$17)","v":"2025-12-12"},"KC Ho","k.c.ho@lse.ac.uk"]
["Data and Technology Management Board ","SMC","SMC",null,"2026-01-20","14:00:00","15:45:00","Y",10,{"$f":"WORKDAY(E80,-I80,'School closure days'!$B$2:$B$17)","v":"2026-01-06"},"Louise Hatcher","l.hatcher@lse.ac.uk"]
["Education Committee","Academic Board","AB",null,"2026-01-21","14:00:00","16:30:00","Y",12,{"$f":"WORKDAY(E81,-I81,'School closure days'!$B$2:$B$17)","v":"2026-01-05"},"Tom Hewlett","t.w.hewlett@lse.ac.uk"]
["Estates Management Board","SMC","SMC",null,"2026-01-21","09:30:00","11:00:00","Y",10,{"$f":"WORKDAY(E82,-I82,'School closure days'!$B$2:$B$17)","v":"2026-01-07"},"Davinder Ratra","d.s.ratra@lse.ac.uk"]
["Audit Committee Awayday","Council","Council",2,"2026-01-21","10:00:00","13:00:00","Y",10,{"$f":"WORKDAY(E83,-I83,'School closure days'!$B$2:$B$17)","v":"2026-01-07"},"Katie Crystal","k.n.crystal@lse.ac.uk"]
["Finance and Estates Committee","Council","Council",2,"2026-01-27","16:30:00","18:30:00","Y",10,{"$f":"WORKDAY(E84,-I84,'School closure days'!$B$2:$B$17)","v":"2026-01-13"},"Meaghan Saunders","m.k.saunders@lse.ac.uk"]
["APRC","Academic Board","AB",null,"2026-01-27","14:00:00","16:00:00","Y",10,{"$f":"WORKDAY(E85,-I85,'School closure days'!$B$2:$B$17)","v":"2026-01-13"},"Evert Nivari","e.a.nivari@lse.ac.uk"]
["Research Committee","Academic Board","AB",null,"2026-01-28","14:00:00","16:30:00","Y",10,{"$f":"WORKDAY(E86,-I86,'School closure days'!$B$2:$B$17)","v":"2026-01-14"},"Casimira Headley-Walker","c.headley-walker@lse.ac.uk"]
["External Funding Ethical Review Board","SMC","SMC",null,"2026-01-28","16:00:00","17:30:00","Y",null,{"$f":"WORKDAY(E87,-I87,'School closure days'!$B$2:$B$17)","v":"2026-01-28"},"Lyndsay Galpin","l.galpin@lse.ac.uk"]
["Regulations, Policy and Standards Sub Committee","Academic Board","Education Committee",null,"2026-01-28","14:00:00","16:00:00","Y",10,{"$f":"WORKDAY(E88,-I88,'School closure days'!$B$2:$B$17)","v":"2026-01-14"},"Casey Hawkins","c.hawkins@lse.ac.uk"]
["Agenda Committee of the Academic Board","Academic Board","Academic Board",null,"2026-01-29","12:00:00","14:00:00","Y",6,{"$f":"WORKDAY(E89,-I89,'School closure days'!$B$2:$B$17)","v":"2026-01-21"}]
["APRC","Academic Board","AB",null,"2026-01-29","14:00:00","16:00:00","Y",10,{"$f":"WORKDAY(E90,-I90,'School closure days'!$B$2:$B$17)","v":"2026-01-15"},"Evert Nivari","e.a.nivari@lse.ac.uk"]
["Departmental Heads Forum","SMC","SMC",null,"2026-01-29","10:00:00","12:00:00","Y",10,{"$f":"WORKDAY(E91,-I91,'School closure days'!$B$2:$B$17)","v":"2026-01-15"},"Chloe Parkin","c.l.parkin@lse.ac.uk"]
["Governance Committee","Council","Council",2,"2026-02-02","14:30:00","16:30:00","Y",10,{"$f":"WORKDAY(E92,-I92,'School closure days'!$B$2:$B$17)","v":"2026-01-19"},"Andrew Browning","a.browning@lse.ac.uk"]
["Honorary Awards Committee","Council","Council",2,"2026-02-03","15:00:00","17:00:00","Y",15,{"$f":"WORKDAY(E93,-I93,'School closure days'!$B$2:$B$17)","v":"2026-01-13"},"Lyndsay Galpin","l.galpin@lse.ac.uk"]
["Student Experience Sub-Committee","Academic Board","Education Committee",null,"2026-02-03","13:00:00","16:30:00","Y",10,{"$f":"WORKDAY(E94,-I94,'School closure days'!$B$2:$B$17)","v":"2026-01-20"},"Susan Parsons","S.Parsons@lse.ac.uk"]
["Promotions Committee (Interim Reviews)","Academic Board","Appointments Committee",null,"2026-02-04","10:00:00","16:00:00","Y",10,{"$f":"WORKDAY(E95,-I95,'School closure days'!$B$2:$B$17)","v":"2026-01-21"},"Nikhil Kalghatgi","n.kalghatgi@lse.ac.uk"]
["Departmental Tutors' Consultative Forum ","SSC",null,null,"2026-02-04","14:00:00","16:00:00","Y",10,{"$f":"WORKDAY(E96,-I96,'School closure days'!$B$2:$B$17)","v":"2026-01-21"},"Tasho Rachev","ssc.student-advice-engagement@lse.ac.uk"]
["Staff town Hall","SMC",null,null,"2026-02-05","10:00:00","12:00:00","Y",null,{"$f":"WORKDAY(E97,-I97,'School closure days'!$B$2:$B$17)","v":"2026-02-05"},"Ali Annenberg","a.annenberg@lse.ac.uk"]
["HR Management Board","SMC","SMC",null,"2026-02-05","11:00:00","12:30:00","Y",10,{"$f":"WORKDAY(E98,-I98,'School closure days'!$B$2:$B$17)","v":"2026-01-22"},"Sugirtha Damadram ","s.damadram@lse.ac.uk"]
["Audit Committee","Council","Council",2,"2026-02-10","13:00:00","15:00:00","Y",10,{"$f":"WORKDAY(E99,-I99,'School closure days'!$B$2:$B$17)","v":"2026-01-27"},"Katie Crystal","k.n.crystal@lse.ac.uk"]
["APRC Agenda Committee","Academic Board","APRC",null,"2026-02-10","11:00:00","11:30:00","Y",10,{"$f":"WORKDAY(E100,-I100,'School closure days'!$B$2:$B$17)","v":"2026-01-27"},"Evert Nivari","e.a.nivari@lse.ac.uk"]
["Academic Board","Academic Board","Council",null,"2026-02-11","14:00:00","17:00:00","Y",15,{"$f":"WORKDAY(E101,-I101,'School closure days'!$B$2:$B$17)","v":"2026-01-21"}]
["International Programmes Board","Academic Board","Education Committee",null,"2026-02-11","10:00:00","12:00:00","Y",10,{"$f":"WORKDAY(E102,-I102,'School closure days'!$B$2:$B$17)","v":"2026-01-28"},"Jack  Wolvey","uolip@lse.ac.uk "]
["Student Numbers and Fees (SNAF) Group ","Academic Board","APRC",null,"2026-02-12","10:00:00","12:00:00","Y",10,{"$f":"WORKDAY(E103,-I103,'School closure days'!$B$2:$B$17)","v":"2026-01-29"},"Planning Division","Planning.division@lse.ac.uk"]
["Doctoral Programme Directors' Forum","Stakeholder Engagement",null,null,"2026-02-18","14:00:00","16:00:00","Y",15,{"$f":"WORKDAY(E104,-I104,'School closure days'!$B$2:$B$17)","v":"2026-01-28"},"Freya Grisoni","F.Grisoni@lse.ac.uk"]
["Sustainability Leadership Board","SMC","SMC",null,"2026-02-18","15:30:00","17:00:00","Y",5,{"$f":"WORKDAY(E105,-I105,'School closure days'!$B$2:$B$17)","v":"2026-02-11"},"Sustainability Team","sustainability.team@lse.ac.uk"]
["Research Ethics Review Board","Academic Board","Research Committee",null,"2026-02-18","11:00:00","13:00:00","Y",10,{"$f":"WORKDAY(E106,-I106,'School closure days'!$B$2:$B$17)","v":"2026-02-04"},"Lyn Grove","l.grove@lse.ac.uk"]
["Council","Council",null,2,"2026-02-24","09:00:00","18:00:00","Y",10,{"$f":"WORKDAY(E107,-I107,'School closure days'!$B$2:$B$17)","v":"2026-02-10"},"Andrew Browning","a.browning@lse.ac.uk"]
["APRC","Academic Board","AB",null,"2026-02-25","14:00:00","16:00:00","Y",10,{"$f":"WORKDAY(E108,-I108,'School closure days'!$B$2:$B$17)","v":"2026-02-11"},"Evert Nivari","e.a.nivari@lse.ac.uk"]
["Research and Policy Staff Committee","Academic Board","Appointments Committee",null,"2026-02-25","10:00:00","12:00:00","Y",10,{"$f":"WORKDAY(E109,-I109,'School closure days'!$B$2:$B$17)","v":"2026-02-11"},"Abhi Chakraborty","a.chakraborty5@lse.ac.uk"]
["International Strategy Board",null,null,null,"2026-02-25","10:00:00","12:00:00","Y",null,null,"Stephanie Cloots","s.g.cloots@lse.ac.uk"]
["Promotions Committee (Promotions)","Academic Board","Appointments Committee",null,"2026-03-03","10:00:00","16:00:00","Y",10,{"$f":"WORKDAY(E111,-I111,'School closure days'!$B$2:$B$17)","v":"2026-02-17"},"Nikhil Kalghatgi","n.kalghatgi@lse.ac.uk"]
["Financial Management Board","SMC","SMC",null,"2026-03-03","11:00:00","12:30:00","Y",null,{"$f":"WORKDAY(E112,-I112,'School closure days'!$B$2:$B$17)","v":"2026-03-03"}]
["REF Strategy Committee","Academic Board","Research Committee",null,"2026-03-04","14:00:00","16:00:00","Y",10,{"$f":"WORKDAY(E113,-I113,'School closure days'!$B$2:$B$17)","v":"2026-02-18"},"Casimira Headley-Walker","c.headley-walker@lse.ac.uk"]
["Academic Nominations Committee","Academic Board","AB",null,"2026-03-04","14:00:00","16:00:00","Y",10,{"$f":"WORKDAY(E114,-I114,'School closure days'!$B$2:$B$17)","v":"2026-02-18"},"Lyndsay Galpin","l.galpin@lse.ac.uk"]
["Estates Management Board","SMC","SMC",null,"2026-03-04","09:30:00","11:00:00","Y",10,{"$f":"WORKDAY(E115,-I115,'School closure days'!$B$2:$B$17)","v":"2026-02-18"},"Davinder Ratra","d.s.ratra@lse.ac.uk"]
["Promotions Committee (Promotions)","Academic Board","Appointments Committee",null,"2026-03-04","10:00:00","16:00:00","Y",10,{"$f":"WORKDAY(E116,-I116,'School closure days'!$B$2:$B$17)","v":"2026-02-18"},"Nikhil Kalghatgi","n.kalghatgi@lse.ac.uk"]
["Research Degrees Sub Committee","Academic Board","Education Committee",null,"2026-03-04","14:00:00","16:00:00","Y",15,{"$f":"WORKDAY(E117,-I117,'School closure days'!$B$2:$B$17)","v":"2026-02-11"},"Pete Mills ","p.b.mills@lse.ac.uk"]
["Promotions Committee (Promotions)","Academic Board","Appointments Committee",null,"2026-03-05","10:00:00","16:00:00","Y",10,{"$f":"WORKDAY(E118,-I118,'School closure days'!$B$2:$B$17)","v":"2026-02-19"},"Nikhil Kalghatgi","n.kalghatgi@lse.ac.uk"]
["APRC Agenda Committee","Academic Board","APRC",null,"2026-03-10","11:00:00","11:30:00","Y",10,{"$f":"WORKDAY(E119,-I119,'School closure days'!$B$2:$B$17)","v":"2026-02-24"},"Evert Nivari","e.a.nivari@lse.ac.uk"]
["Investments Sub-Committee","Council","Council",3,"2026-03-10","14:00:00","17:00:00","Y",10,{"$f":"WORKDAY(E120,-I120,'School closure days'!$B$2:$B$17)","v":"2026-02-24"},"Katie Crystal","k.n.crystal@lse.ac.uk"]
["Departmental Heads Forum","SMC","SMC",null,"2026-03-11","10:00:00","12:00:00","Y",10,{"$f":"WORKDAY(E121,-I121,'School closure days'!$B$2:$B$17)","v":"2026-02-25"},"Chloe Parkin","c.l.parkin@lse.ac.uk"]
["Joint Negotiating and Consultative Committee","HR",null,null,"2026-03-12","14:30:00","16:00:00","Y",10,{"$f":"WORKDAY(E122,-I122,'School closure days'!$B$2:$B$17)","v":"2026-02-26"},"Beno Azebiah","b.azebiah@lse.ac.uk"]
["Joint Negotiation, Information and Consultation Committee (JNICC)","HR",null,null,"2026-03-12","12:30:00","14:30:00","Y",10,{"$f":"WORKDAY(E123,-I123,'School closure days'!$B$2:$B$17)","v":"2026-02-26"},"Beno Azebiah","b.azebiah@lse.ac.uk"]
["Meet LSE Leadership student event","SMC",null,null,"2026-03-12","14:00:00","16:00:00","Y",null,{"$f":"WORKDAY(E124,-I124,'School closure days'!$B$2:$B$17)","v":"2026-03-12"},"Ali Annenberg","a.annenberg@lse.ac.uk"]
["Information Governance Management Board","SMC","SMC",null,"2026-03-16","13:00:00","15:00:00","Y",10,{"$f":"WORKDAY(E125,-I125,'School closure days'!$B$2:$B$17)","v":"2026-03-02"},"Monica Haile-Selassie","m.haile-selassie@lse.ac.uk"]
["Finance and Estates Committee","Council","Council",3,"2026-03-17","14:00:00","16:00:00","Y",10,{"$f":"WORKDAY(E126,-I126,'School closure days'!$B$2:$B$17)","v":"2026-03-03"},"Meaghan Saunders","m.k.saunders@lse.ac.uk"]
["Research Committee","Academic Board","AB",null,"2026-03-18","14:00:00","16:30:00","Y",10,{"$f":"WORKDAY(E127,-I127,'School closure days'!$B$2:$B$17)","v":"2026-03-04"},"Casimira Headley-Walker","c.headley-walker@lse.ac.uk"]
["Education Committee","Academic Board","AB",null,"2026-03-18","14:00:00","16:30:00","Y",12,{"$f":"WORKDAY(E128,-I128,'School closure days'!$B$2:$B$17)","v":"2026-03-02"},"Tom Hewlett","t.w.hewlett@lse.ac.uk"]
["Agenda Committee of the Academic Board","Academic Board","AB",null,"2026-03-19","12:00:00","14:00:00","Y",6,{"$f":"WORKDAY(E129,-I129,'School closure days'!$B$2:$B$17)","v":"2026-03-11"},"Lyndsay Galpin","l.galpin@lse.ac.uk"]
["PhD Managers' Forum","Academic Board",null,null,"2026-03-24","14:00:00","16:00:00","Y",10,{"$f":"WORKDAY(E130,-I130,'School closure days'!$B$2:$B$17)","v":"2026-03-10"},"Amy Brook / Monika Kruesmann","a.brook1@lse.ac.uk / m.h.kruesmann@lse.ac.uk"]
["APRC","Academic Board","AB",null,"2026-03-24","14:00:00","16:00:00","Y",10,{"$f":"WORKDAY(E131,-I131,'School closure days'!$B$2:$B$17)","v":"2026-03-10"},"Evert Nivari","e.a.nivari@lse.ac.uk"]
["Graduate Studies Sub Committee","Academic Board","Education Committee",null,"2026-03-25","14:00:00","17:00:00","Y",15,{"$f":"WORKDAY(E132,-I132,'School closure days'!$B$2:$B$17)","v":"2026-03-04"},"Janine Olding","j.olding@lse.ac.uk"]
["Undergraduate Studies Sub Committee","Academic Board","Education Committee",null,"2026-03-25","10:30:00","13:00:00","Y",15,{"$f":"WORKDAY(E133,-I133,'School closure days'!$B$2:$B$17)","v":"2026-03-04"},"KC Ho","k.c.ho@lse.ac.uk"]
["Research Students' Consultative Forum","Stakeholder Engagement",null,null,"2026-03-25","14:00:00","16:00:00","Y",10,{"$f":"WORKDAY(E134,-I134,'School closure days'!$B$2:$B$17)","v":"2026-03-11"},"Evan Saunders","e.saunders2@lse.ac.uk "]
["Promotions Committee (Promotions)","Academic Board","Appointments Committee",null,"2026-03-25","10:00:00","16:00:00","Y",10,{"$f":"WORKDAY(E135,-I135,'School closure days'!$B$2:$B$17)","v":"2026-03-11"},"Nikhil Kalghatgi","n.kalghatgi@lse.ac.uk"]
["Academic Board","Academic Board",null,2,"2026-04-01","14:00:00","17:00:00","Y",15,{"$f":"WORKDAY(E136,-I136,'School closure days'!$B$2:$B$17)","v":"2026-03-11"},"Lyndsay Galpin","l.galpin@lse.ac.uk"]
["Masters Students' Consultative Forum","Stakeholder Engagement",null,null,"2026-04-01","10:00:00","12:00:00","Y",10,{"$f":"WORKDAY(E137,-I137,'School closure days'!$B$2:$B$17)","v":"2026-03-18"},"Evan Saunders","e.saunders2@lse.ac.uk "]
["Undergraduate Students Consultative Forum","Stakeholder Engagement",null,null,"2026-04-01","14:00:00","16:00:00","Y",10,{"$f":"WORKDAY(E138,-I138,'School closure days'!$B$2:$B$17)","v":"2026-03-18"},"Evan Saunders","e.saunders2@lse.ac.uk "]
["Estates Management Board","SMC","SMC",null,"2026-04-01","09:30:00","11:00:00","Y",10,{"$f":"WORKDAY(E139,-I139,'School closure days'!$B$2:$B$17)","v":"2026-03-18"},"Davinder Ratra","d.s.ratra@lse.ac.uk"]
["Remuneration Committee","Council","Council",3,"2026-04-14","15:30:00","17:30:00","Y",10,{"$f":"WORKDAY(E140,-I140,'School closure days'!$B$2:$B$17)","v":"2026-03-24"},"Andrew Browning","a.browning@lse.ac.uk"]
["School closure",null,null,null,"2026-04-16",null,null,"Y"]
["Bank holiday",null,null,null,"2026-04-17",null,null,"Y"]
["Bank holiday",null,null,null,"2026-04-20",null,null,"Y"]
["Financial Management Board","SMC","SMC",null,"2026-04-21","11:00:00","12:30:00","Y",7,{"$f":"WORKDAY(E144,-I144,'School closure days'!$B$2:$B$17)","v":"2026-04-10"},"Chloe Parkin","c.l.parkin@lse.ac.uk"]
["School closure",null,null,null,"2026-04-21",null,null,"Y"]
["School closure",null,null,null,"2026-04-22",null,null,"Y"]
["Data and Technology Management Board ","SMC","SMC",null,"2026-04-23","14:00:00","15:45:00","Y",10,{"$f":"WORKDAY(E147,-I147,'School closure days'!$B$2:$B$17)","v":"2026-04-09"},"Louise Hatcher","l.hatcher@lse.ac.uk"]
["APRC Agenda Committee","Academic Board","APRC",null,"2026-04-27","11:00:00","11:30:00","Y",10,{"$f":"WORKDAY(E148,-I148,'School closure days'!$B$2:$B$17)","v":"2026-04-13"},"Evert Nivari","e.a.nivari@lse.ac.uk"]
["Estates Management Board","SMC","SMC",null,"2026-04-29","09:30:00","11:00:00","Y",10,{"$f":"WORKDAY(E149,-I149,'School closure days'!$B$2:$B$17)","v":"2026-04-15"},"Davinder Ratra","d.s.ratra@lse.ac.uk"]
["External Funding Ethical Review Board","SMC","SMC",null,"2026-04-29","16:00:00","17:30:00","Y",null,{"$f":"WORKDAY(E150,-I150,'School closure days'!$B$2:$B$17)","v":"2026-04-29"},"Lyndsay Galpin","l.galpin@lse.ac.uk"]
["HR Management Board","SMC","SMC",null,"2026-04-30","11:00:00","12:30:00","Y",10,{"$f":"WORKDAY(E151,-I151,'School closure days'!$B$2:$B$17)","v":"2026-04-16"},"Sugirtha Damadram ","s.damadram@lse.ac.uk"]
["Regulations, Policy and Standards Sub Committee","Academic Board","Education Committee",null,"2026-04-30","14:00:00","16:00:00","Y",10,{"$f":"WORKDAY(E152,-I152,'School closure days'!$B$2:$B$17)","v":"2026-04-16"},"Casey Hawkins","c.hawkins@lse.ac.uk"]
["Bank holiday",null,null,null,"2026-05-04",null,null,"Y"]
["Council","Council",null,3,"2026-05-05","15:00:00","18:00:00","Y",10,{"$f":"WORKDAY(E154,-I154,'School closure days'!$B$2:$B$17)","v":"2026-04-20"},"Andrew Browning","a.browning@lse.ac.uk"]
["REF Strategy Committee","Academic Board","Research Committee",null,"2026-05-05","14:00:00","16:00:00","Y",10,"2026-06-03","Casimira Headley-Walker","c.headley-walker@lse.ac.uk"]
["Research and Policy Staff Committee","Academic Board","Appointments Committee",null,"2026-05-06","10:00:00","12:00:00","Y",10,{"$f":"WORKDAY(E156,-I156,'School closure days'!$B$2:$B$17)","v":"2026-04-21"},"Abhi Chakraborty","a.chakraborty5@lse.ac.uk"]
["Departmental Heads Forum","SMC","SMC",null,"2026-05-06","10:00:00","12:00:00","Y",10,{"$f":"WORKDAY(E157,-I157,'School closure days'!$B$2:$B$17)","v":"2026-04-21"},"Chloe Parkin","c.l.parkin@lse.ac.uk"]
["Student Numbers and Fees (SNAF) Group ","Academic Board","APRC",null,"2026-05-07","10:00:00","12:00:00","Y",10,{"$f":"WORKDAY(E158,-I158,'School closure days'!$B$2:$B$17)","v":"2026-04-22"},"Planning Division","Planning.division@lse.ac.uk"]
["Research Committee","Academic Board","AB",null,"2026-05-07","14:00:00","16:30:00","Y",10,{"$f":"WORKDAY(E159,-I159,'School closure days'!$B$2:$B$17)","v":"2026-04-22"},"Casimira Headley-Walker","c.headley-walker@lse.ac.uk"]
["APRC","Academic Board","AB",null,"2026-05-12","14:00:00","16:00:00","Y",10,{"$f":"WORKDAY(E160,-I160,'School closure days'!$B$2:$B$17)","v":"2026-04-27"},"Evert Nivari","e.a.nivari@lse.ac.uk"]
["Graduate Studies Sub Committee","Academic Board","Education Committee",null,"2026-05-13","14:00:00","17:00:00","Y",15,{"$f":"WORKDAY(E161,-I161,'School closure days'!$B$2:$B$17)","v":"2026-04-21"},"Janine Olding","j.olding@lse.ac.uk"]
["Departmental Tutors' Consultative Forum ","SSC",null,null,"2026-05-13","14:00:00","16:00:00","Y",10,{"$f":"WORKDAY(E162,-I162,'School closure days'!$B$2:$B$17)","v":"2026-04-28"},"Tasho Rachev","ssc.student-advice-engagement@lse.ac.uk"]
["Doctoral Programme Directors' Forum","Stakeholder Engagement",null,null,"2026-05-13","14:00:00","16:00:00","Y",10,{"$f":"WORKDAY(E163,-I163,'School closure days'!$B$2:$B$17)","v":"2026-04-28"},"Freya Grisoni","F.Grisoni@lse.ac.uk"]
["Promotions Committee (Review)","Academic Board","Appointments Committee",null,"2026-05-13","10:00:00","16:00:00","Y",10,{"$f":"WORKDAY(E164,-I164,'School closure days'!$B$2:$B$17)","v":"2026-04-28"},"Nikhil Kalghatgi","n.kalghatgi@lse.ac.uk"]
["Research Degrees Sub Committee","Academic Board","Education Committee",null,"2026-05-13","14:00:00","16:00:00","Y",15,{"$f":"WORKDAY(E165,-I165,'School closure days'!$B$2:$B$17)","v":"2026-04-21"},"Pete Mills ","p.b.mills@lse.ac.uk"]
["Undergraduate Studies Sub Committee","Academic Board","Education Committee",null,"2026-05-13","10:30:00","13:00:00","Y",15,{"$f":"WORKDAY(E166,-I166,'School closure days'!$B$2:$B$17)","v":"2026-04-21"},"KC Ho","k.c.ho@lse.ac.uk"]
["Information Governance Management Board","SMC","SMC",null,"2026-05-18","13:00:00","15:00:00","Y",10,"2026-05-01","Monica Haile-Selassie","m.haile-selassie@lse.ac.uk"]
["Graduate Studies Sub Committee","Academic Board","Education Committee",null,"2026-05-20","14:00:00","17:00:00","Y",null,"2026-04-21","Janine Olding","j.olding@lse.ac.uk"]
["Education Committee","Academic Board","AB",null,"2026-05-20","14:00:00","16:30:00","Y",12,"2026-05-01","Tom Hewlett","t.w.hewlett@lse.ac.uk"]
["Staff town Hall","SMC",null,null,"2026-05-20","14:00:00","16:00:00","Y",null,"2026-05-20","Ali Annenberg","a.annenberg@lse.ac.uk"]
["Agenda Committee of the Academic Board","Academic Board","AB",null,"2026-05-21","12:00:00","14:00:00","Y",6,"2026-05-13","Lyndsay Galpin","l.galpin@lse.ac.uk"]
["Bank holiday",null,null,null,"2026-05-25"]
["Honorary Awards Committee","Council","Council",3,"2026-05-26","15:00:00","17:00:00","Y",15,"2026-05-11","Lyndsay Galpin","l.galpin@lse.ac.uk"]
["Financial Management Board","SMC","SMC",null,"2026-05-26","11:00:00","12:30:00","Y",7,"2026-05-14","Chloe Parkin","c.l.parkin@lse.ac.uk"]
["Investments Sub-Committee","Council","Council",4,"2026-05-26","14:00:00","17:00:00","Y",10,"2026-05-11","Katie Crystal","k.n.crystal@lse.ac.uk"]
["APRC Agenda Committee","Academic Board","APRC",null,"2026-05-26","11:00:00","11:30:00","Y",10,"2026-05-11","Evert Nivari","e.a.nivari@lse.ac.uk"]
["Graduate Studies Sub Committee","Academic Board","Education Committee",null,"2026-05-27","14:00:00","17:00:00","Y",24,"2026-04-21","Janine Olding","j.olding@lse.ac.uk"]
["International Programmes Board","Academic Board","Education Committee",null,"2026-05-27","10:00:00","12:00:00","Y",10,"2026-05-12","Jack  Wolvey","uolip@lse.ac.uk "]
["Undergraduate Studies Sub Committee","Academic Board","Education Committee",null,"2026-05-27","10:30:00","13:00:00","Y",15,{"$f":"WORKDAY(E179,-I179,'School closure days'!$B$2:$B$17)","v":"2026-05-05"},"KC Ho","k.c.ho@lse.ac.uk"]
["Student Experience Sub-Committee","Academic Board","Education Committee",null,"2026-06-02","13:00:00","16:30:00","Y",10,"2026-05-18","Susan Parsons","S.Parsons@lse.ac.uk"]
["Academic Board","Academic Board",null,4,"2026-06-03","14:00:00","17:00:00","Y",14,"2026-05-13","Lyndsay Galpin","l.galpin@lse.ac.uk"]
["Professional Services Staff Contribution Group","SMC","HR Management Board",null,"2026-06-03","09:30:00","12:30:00","Y",10,"2026-05-19","Raj Lakhani","HR.Reward@lse.ac.uk"]
["Governance Committee","Council","Council",4,"2026-06-08","14:30:00","16:30:00","Y",10,"2026-05-22","Andrew Browning","a.browning@lse.ac.uk"]
["APRC","Academic Board","AB",null,"2026-06-09","14:00:00","16:00:00","Y",10,"2026-05-26","Evert Nivari","e.a.nivari@lse.ac.uk"]
["Finance and Estates Committee","Council","Council",4,"2026-06-09","16:30:00","18:30:00","Y",10,"2026-05-26","Meaghan Saunders","m.k.saunders@lse.ac.uk"]
["Appointments Committee","Academic Board","Academic Board",null,"2026-06-10","14:00:00","16:00:00","Y",10,"2026-05-27","Nikhil Kalghatgi","n.kalghatgi@lse.ac.uk"]
["Audit Committee","Council","Council",4,"2026-06-10","15:30:00","17:30:00","Y",10,"2026-05-27","Katie Crystal","k.n.crystal@lse.ac.uk"]
["Research Ethics Review Board","Academic Board","Research Committee",null,"2026-06-10","14:30:00","16:30:00","Y",10,"2026-05-27","Lyn Grove","l.grove@lse.ac.uk"]
["Joint Negotiating and Consultative Committee","HR",null,null,"2026-06-11","14:30:00","16:00:00","Y",10,"2026-05-28","Beno Azebiah","b.azebiah@lse.ac.uk"]
["Joint Negotiation, Information and Consultation Committee (JNICC)","HR",null,null,"2026-06-11","12:30:00","14:30:00","Y",10,"2026-05-28","Beno Azebiah","b.azebiah@lse.ac.uk"]
["Research Committee","Academic Board","AB",null,"2026-06-11","14:00:00","16:30:00","Y",10,"2026-06-17","Casimira Headley-Walker","c.headley-walker@lse.ac.uk"]
["International Strategy Board",null,null,null,"2026-06-15","11:30:00","13:30:00","Y",null,null,"Stephanie Cloots","s.g.cloots@lse.ac.uk"]
["Remuneration Committee","Council","Council",4,"2026-06-16","15:30:00","17:30:00","Y",10,"2026-06-02","Andrew Browning","a.browning@lse.ac.uk"]
["Academic Staff Reward Committee","SMC","HR Management Board",null,"2026-06-17","09:00:00","18:00:00","Y",10,"2026-06-03","Raj Lakhani","HR.Reward@lse.ac.uk"]
["Departmental Heads Forum","SMC","SMC",null,"2026-06-18","10:00:00","12:00:00","Y",10,"2026-05-27","Chloe Parkin","c.l.parkin@lse.ac.uk"]
["Sustainability Leadership Board","SMC","SMC",null,"2026-06-18","15:30:00","17:00:00","Y",5,"2026-06-11","Sustainability Team","sustainability.team@lse.ac.uk"]
["Council","Council",null,4,"2026-06-23","09:00:00","18:00:00","Y",10,"2026-06-09","Andrew Browning","a.browning@lse.ac.uk"]
["Council dinner","Council",null,4,"2026-06-23","18:00:00","21:00:00","Y",10,"2026-06-09","Andrew Browning","a.browning@lse.ac.uk"]
["External Funding Ethical Review Board","SMC","SMC",null,"2026-06-24","16:00:00","17:30:00","Y",null,"2026-06-24","Lyndsay Galpin","l.galpin@lse.ac.uk"]
["HR Management Board","SMC","SMC",null,"2026-06-25","11:00:00","12:30:00","Y",10,"2026-06-11","Sugirtha Damadram ","s.damadram@lse.ac.uk"]
["Estates Management Board","SMC","SMC",null,"2026-07-01","09:30:00","11:00:00","Y",10,"2026-06-17","Davinder Ratra","d.s.ratra@lse.ac.uk"]
["Information Governance Management Board","SMC","SMC",null,"2026-07-13","13:00:00","15:00:00","Y",10,"2026-06-29","Monica Haile-Selassie","m.haile-selassie@lse.ac.uk"]
["Data and Technology Management Board ","SMC","SMC",null,"2026-07-20","14:00:00","15:45:00","Y",10,"2026-07-06","Louise Hatcher","l.hatcher@lse.ac.uk"]
["Estates Management Board","SMC","SMC",null,"2026-08-05","09:30:00","11:00:00","Y",10,"2026-07-22","Davinder Ratra","d.s.ratra@lse.ac.uk"]
["Bank holiday",null,null,null,"2026-08-24",null,null,"Y"]
["Estates Management Board","SMC","SMC",null,"2026-09-02","09:30:00","11:00:00","Y",10,"2026-08-19","Davinder Ratra","d.s.ratra@lse.ac.uk"]
["External Funding Ethical Review Board","SMC","SMC",null,"2026-10-14","16:00:00","17:30:00","Y",null,"2026-10-14","Lyndsay Galpin","l.galpin@lse.ac.uk"]
["Information Governance Management Board","SMC","SMC",null,"2026-09-14","13:00:00","15:00:00","N",10,"2026-08-31","Monica Haile-Selassie","m.haile-selassie@lse.ac.uk"]
["Audit Committee","Council","Council",5,"2026-09-29","15:30:00","17:30:00","N",10,"2026-09-15","Katie Crystal","k.n.crystal@lse.ac.uk"]
["Estates Management Board","SMC","SMC",null,"2026-09-30","09:30:00","11:00:00","N",10,"2026-09-16","Davinder Ratra","d.s.ratra@lse.ac.uk"]
["Council Awayday","Council",null,5,"2026-10-06","09:00:00","18:00:00","N",10,"2026-09-22","Andrew Browning","a.browning@lse.ac.uk"]
["Honorary Awards Committee","Council","Council",5,"2026-10-13","15:00:00","17:00:00","N",10,"2026-09-29","Lyndsay Galpin","l.galpin@lse.ac.uk"]
["Data and Technology Management Board ","SMC","SMC",null,"2026-10-29","14:00:00","15:45:00","Y",10,"2026-10-15","Louise Hatcher","l.hatcher@lse.ac.uk"]
["Investments Sub-Committee","Council","Council",5,"2026-10-19","14:00:00","17:00:00","N",10,"2026-10-05","Katie Crystal","k.n.crystal@lse.ac.uk"]
["Remuneration Committee","Council","Council",5,"2026-10-27","15:00:00","17:00:00","N",10,"2026-10-13","Andrew Browning","a.browning@lse.ac.uk"]
["School closure",null,null,null,"2026-12-22"]
["Estates Management Board","SMC","SMC",null,"2026-11-04","09:30:00","11:00:00","N",10,"2026-10-21","Davinder Ratra","d.s.ratra@lse.ac.uk"]
["Governance Committee","Council","Council",5,"2026-11-06","15:00:00","17:00:00","N",10,"2026-10-23","Andrew Browning","a.browning@lse.ac.uk"]
["Finance and Estates Committee","Council","Council",5,"2026-11-09","16:30:00","18:30:00","N",10,"2026-10-26","Meaghan Saunders","m.k.saunders@lse.ac.uk"]
["Audit Committee","Council","Council",5,"2026-11-10","15:30:00","17:30:00","N",10,"2026-10-27","Katie Crystal","k.n.crystal@lse.ac.uk"]
["Academic Board","Academic Board",null,5,"2026-11-11","14:00:00","17:00:00","N",15,"2026-10-21","Lyndsay Galpin","l.galpin@lse.ac.uk"]
["Information Governance Management Board","SMC","SMC",null,"2026-11-16","13:00:00","15:00:00","N",10,"2026-11-02","Monica Haile-Selassie","m.haile-selassie@lse.ac.uk"]
["Council","Council",null,5,"2026-11-24","15:00:00","18:00:00","N",10,"2026-11-10","Andrew Browning","a.browning@lse.ac.uk"]
["Estates Management Board","SMC","SMC",null,"2026-12-02","09:30:00","11:00:00","N",10,"2026-11-18","Davinder Ratra","d.s.ratra@lse.ac.uk"]
["School closure",null,null,null,"2026-12-23"]
["Bank holiday",null,null,null,"2026-12-24"]
["Bank holiday",null,null,null,"2026-12-25"]
["School closure",null,null,null,"2026-12-28"]
["School closure",null,null,null,"2026-12-29"]
["School closure",null,null,null,"2026-12-30"]
["External Funding Ethical Review Board","SMC","SMC",null,"2027-01-27","16:00:00","17:30:00","Y",null,"2027-01-27","Lyndsay Galpin","l.galpin@lse.ac.uk"]
["Bank holiday",null,null,null,"2026-12-31",null,null,"N"]
["Estates Management Board","SMC","SMC",null,"2027-01-06","09:30:00","11:00:00","N",10,"2026-12-23","Davinder Ratra","d.s.ratra@lse.ac.uk"]
["Information Governance Management Board","SMC","SMC",null,"2027-01-18","13:00:00","15:00:00","N",10,"2027-01-04","Monica Haile-Selassie","m.haile-selassie@lse.ac.uk"]
["Audit Committee Awayday","Council","Council",6,"2027-01-20","10:00:00","13:00:00","N",10,"2027-01-06","Katie Crystal","k.n.crystal@lse.ac.uk"]
["Finance and Estates Committee","Council","Council",6,"2027-01-26","16:30:00","18:30:00","N",10,"2027-01-12","Meaghan Saunders","m.k.saunders@lse.ac.uk"]
["External Funding Ethical Review Board","SMC","SMC",null,"2027-04-28","16:00:00","17:30:00","Y",null,"2027-04-28","Lyndsay Galpin","l.galpin@lse.ac.uk"]
["Governance Committee","Council","Council",6,"2027-02-01","14:30:00","16:30:00","N",10,"2027-01-18","Andrew Browning","a.browning@lse.ac.uk"]
["Honorary Awards Committee","Council","Council",6,"2027-02-02","15:00:00","17:00:00","N",10,"2027-01-19","Lyndsay Galpin","l.galpin@lse.ac.uk"]
["Estates Management Board","SMC","SMC",null,"2027-02-03","09:30:00","11:00:00","N",10,"2027-01-20","Davinder Ratra","d.s.ratra@lse.ac.uk"]
["Audit Committee","Council","Council",6,"2027-02-09","15:30:00","17:30:00","N",10,"2027-01-26","Katie Crystal","k.n.crystal@lse.ac.uk"]
["Academic Board","Academic Board",null,6,"2027-02-10","14:00:00","17:00:00","N",15,"2027-01-20","Lyndsay Galpin","l.galpin@lse.ac.uk"]
["Council","Council",null,6,"2027-02-23","09:00:00","18:00:00","N",10,"2027-02-09","Andrew Browning","a.browning@lse.ac.uk"]
["Estates Management Board","SMC","SMC",null,"2027-03-03","09:30:00","11:00:00","N",10,"2027-02-17","Davinder Ratra","d.s.ratra@lse.ac.uk"]
["Investments Sub-Committee","Council","Council",7,"2027-03-09","14:00:00","17:00:00","N",10,"2027-02-23","Katie Crystal","k.n.crystal@lse.ac.uk"]
["Information Governance Management Board","SMC","SMC",null,"2027-03-15","13:00:00","15:00:00","N",10,"2027-03-01","Monica Haile-Selassie","m.haile-selassie@lse.ac.uk"]
["Finance and Estates Committee","Council","Council",7,"2027-03-16","16:30:00","18:30:00","N",10,"2027-03-02","Meaghan Saunders","m.k.saunders@lse.ac.uk"]
["Estates Management Board","SMC","SMC",null,"2027-03-31","09:30:00","11:00:00","N",10,"2027-03-17","Davinder Ratra","d.s.ratra@lse.ac.uk"]
["Bank holiday",null,null,null,"2027-04-02",null,null,"N"]
["Bank holiday",null,null,null,"2027-04-05",null,null,"N"]
["Honorary Awards Committee","Council","Council",7,"2027-04-13","15:00:00","17:00:00","N",10,"2027-03-30","Lyndsay Galpin","l.galpin@lse.ac.uk"]
["Remuneration Committee","Council","Council",7,"2027-04-13","12:30:00","14:30:00","N",10,"2027-03-30","Andrew Browning","a.browning@lse.ac.uk"]
["Academic Board","Academic Board",null,7,"2027-04-21","14:00:00","17:00:00","N",15,"2027-03-31","Lyndsay Galpin","l.galpin@lse.ac.uk"]
["External Funding Ethical Review Board","SMC","SMC",null,"2027-06-23","16:00:00","17:30:00","Y",null,"2027-06-23","Lyndsay Galpin","l.galpin@lse.ac.uk"]
["Bank holiday",null,null,null,"2027-05-03",null,null,"N"]
["Council","Council",null,7,"2027-05-04","15:00:00","18:00:00","N",10,"2027-04-20","Andrew Browning","a.browning@lse.ac.uk"]
["Estates Management Board","SMC","SMC",null,"2027-05-05","09:30:00","11:00:00","N",10,"2027-04-21","Davinder Ratra","d.s.ratra@lse.ac.uk"]
["Information Governance Management Board","SMC","SMC",null,"2027-05-17","13:00:00","15:00:00","N",10,"2027-05-03","Monica Haile-Selassie","m.haile-selassie@lse.ac.uk"]
["Bank holiday",null,null,null,"2027-05-24",null,null,"N"]
["Investments Sub-Committee","Council","Council",8,"2027-05-25","14:00:00","17:00:00","N",10,"2027-05-11","Katie Crystal","k.n.crystal@lse.ac.uk"]
["Academic Board","Academic Board",null,8,"2027-06-02","14:00:00","17:00:00","N",15,"2027-05-12","Lyndsay Galpin","l.galpin@lse.ac.uk"]
["Estates Management Board","SMC","SMC",null,"2027-06-02","09:30:00","11:00:00","N",10,"2027-05-19","Davinder Ratra","d.s.ratra@lse.ac.uk"]
["Governance Committee","Council","Council",8,"2027-06-07","14:30:00","16:30:00","N",10,"2027-05-24","Andrew Browning","a.browning@lse.ac.uk"]
["Finance and Estates Committee","Council","Council",8,"2027-06-08","16:30:00","18:30:00","N",10,"2027-05-25","Meaghan Saunders","m.k.saunders@lse.ac.uk"]
["Audit Committee","Council","Council",8,"2027-06-09","15:30:00","17:30:00","N",10,"2027-05-26","Katie Crystal","k.n.crystal@lse.ac.uk"]
["Remuneration Committee","Council","Council",8,"2027-06-15","12:30:00","14:30:00","N",10,"2027-06-01","Andrew Browning","a.browning@lse.ac.uk"]
["Council","Council",null,8,"2027-06-22","09:00:00","18:00:00","N",10,"2027-06-08","Andrew Browning","a.browning@lse.ac.uk"]
["Council dinner","Council",null,8,"2027-06-22","18:00:00","21:00:00","N",null,"2027-06-22","Andrew Browning","a.browning@lse.ac.uk"]
[]
["Estates Management Board","SMC","SMC",null,"2027-06-30","09:30:00","11:00:00","N",10,"2027-06-16","Davinder Ratra","d.s.ratra@lse.ac.uk"]
["Information Governance Management Board","SMC","SMC",null,"2027-07-19","13:00:00","15:00:00","N",10,"2027-07-05","Monica Haile-Selassie","m.haile-selassie@lse.ac.uk"]

{"sheet":"School closure days","index":1,"n_rows":37,"n_cols":3,"rows_kept":37,"cut":false,"hidden":false,"merged":[]}
["Year","Date","Type of holiday"]
["2025/2026","2025-08-25","Bank holiday"]
["2025/2026","2025-12-23","School closure"]
["2025/2026","2025-12-24","School closure"]
["2025/2026","2025-12-25","Bank holiday"]
["2025/2026","2025-12-26","Bank holiday"]
["2025/2026","2025-12-29","School closure"]
["2025/2026","2025-12-30","School closure"]
["2025/2026","2025-12-31","School closure"]
["2025/2026","2026-01-01","Bank holiday"]
["2025/2026","2026-04-02","School closure"]
["2025/2026","2026-04-03","Bank holiday"]
["2025/2026","2026-04-06","Bank holiday"]
["2025/2026","2026-04-07","School closure"]
["2025/2026","2026-04-08","School closure"]
["2025/2026","2026-05-04","Bank holiday"]
["2025/2026","2026-05-25","Bank holiday"]
["2025/2026","2026-08-31","Bank holiday"]
["2025/2026","2026-12-23","School closure"]
["2025/2026","2026-12-24","School closure"]
["2025/2026","2026-12-25","Bank holiday"]
["2025/2026","2026-12-28","Bank holiday"]
["2025/2026","2026-12-29","School closure"]
["2025/2026","2026-12-30","School closure"]
["2025/2026","2026-12-31","School closure"]
["2026/2027","2027-01-01","Bank holiday"]
["2026/2027","2027-03-25","School closure"]
["2026/2027","2027-03-26","Bank holiday"]
["2026/2027","2027-03-29","Bank holiday"]
["2026/2027","2027-03-30","School closure"]
["2026/2027","2027-03-31","School closure"]
["2026/2027","2027-05-03","Bank holiday"]
["2026/2027","2027-05-31","Bank holiday"]
["2026/2027","2027-08-30","Bank holiday"]
["2026/2027"]
["2026/2027"]
["2026/2027"]